BEGIN:VCALENDAR
VERSION:2.0
PRODID:-//Alparon Park - ECPv6.3.2//NONSGML v1.0//EN
CALSCALE:GREGORIAN
METHOD:PUBLISH
X-ORIGINAL-URL:https://alparonpark.com
X-WR-CALDESC:Events for Alparon Park
REFRESH-INTERVAL;VALUE=DURATION:PT1H
X-Robots-Tag:noindex
X-PUBLISHED-TTL:PT1H
BEGIN:VTIMEZONE
TZID:America/New_York
BEGIN:DAYLIGHT
TZOFFSETFROM:-0500
TZOFFSETTO:-0400
TZNAME:EDT
DTSTART:20220313T070000
END:DAYLIGHT
BEGIN:STANDARD
TZOFFSETFROM:-0400
TZOFFSETTO:-0500
TZNAME:EST
DTSTART:20221106T060000
END:STANDARD
END:VTIMEZONE
BEGIN:VEVENT
DTSTART;TZID=America/New_York:20220319T000000
DTEND;TZID=America/New_York:20220319T235900
DTSTAMP:20260424T013151
CREATED:20220117T214355Z
LAST-MODIFIED:20220310T193358Z
UID:2946-1647648000-1647734340@alparonpark.com
SUMMARY:Michelle Putney Tack Sale
DESCRIPTION:
URL:https://alparonpark.com/event/michelle-putney-tack-sale/
LOCATION:Exhibit Hall 2
END:VEVENT
END:VCALENDAR