BEGIN:VCALENDAR
VERSION:2.0
PRODID:-//Alparon Park - ECPv6.3.2//NONSGML v1.0//EN
CALSCALE:GREGORIAN
METHOD:PUBLISH
X-WR-CALNAME:Alparon Park
X-ORIGINAL-URL:https://alparonpark.com
X-WR-CALDESC:Events for Alparon Park
REFRESH-INTERVAL;VALUE=DURATION:PT1H
X-Robots-Tag:noindex
X-PUBLISHED-TTL:PT1H
BEGIN:VTIMEZONE
TZID:America/New_York
BEGIN:DAYLIGHT
TZOFFSETFROM:-0500
TZOFFSETTO:-0400
TZNAME:EDT
DTSTART:20220313T070000
END:DAYLIGHT
BEGIN:STANDARD
TZOFFSETFROM:-0400
TZOFFSETTO:-0500
TZNAME:EST
DTSTART:20221106T060000
END:STANDARD
END:VTIMEZONE
BEGIN:VEVENT
DTSTART;TZID=America/New_York:20220327T090000
DTEND;TZID=America/New_York:20220327T150000
DTSTAMP:20260424T013135
CREATED:20220210T190750Z
LAST-MODIFIED:20220215T210726Z
UID:3029-1648371600-1648393200@alparonpark.com
SUMMARY:Steve Gates Meeting
DESCRIPTION:
URL:https://alparonpark.com/event/steve-gates-meeting/
LOCATION:Exhibit Hall 2
END:VEVENT
END:VCALENDAR