BEGIN:VCALENDAR
VERSION:2.0
PRODID:-//Alparon Park - ECPv6.3.2//NONSGML v1.0//EN
CALSCALE:GREGORIAN
METHOD:PUBLISH
X-ORIGINAL-URL:https://alparonpark.com
X-WR-CALDESC:Events for Alparon Park
REFRESH-INTERVAL;VALUE=DURATION:PT1H
X-Robots-Tag:noindex
X-PUBLISHED-TTL:PT1H
BEGIN:VTIMEZONE
TZID:UTC
BEGIN:STANDARD
TZOFFSETFROM:+0000
TZOFFSETTO:+0000
TZNAME:UTC
DTSTART:20220101T000000
END:STANDARD
END:VTIMEZONE
BEGIN:VEVENT
DTSTART;TZID=UTC:20220925T080000
DTEND;TZID=UTC:20220925T170000
DTSTAMP:20260423T155345
CREATED:20220816T171319Z
LAST-MODIFIED:20220816T171319Z
UID:3201-1664092800-1664125200@alparonpark.com
SUMMARY:Rainbow Riders Game Athon
DESCRIPTION:
URL:https://alparonpark.com/event/rainbow-riders-game-athon/
LOCATION:Horse Arena
END:VEVENT
BEGIN:VEVENT
DTSTART;TZID=UTC:20220925T111500
DTEND;TZID=UTC:20220925T111500
DTSTAMP:20260423T155345
CREATED:20220428T173321Z
LAST-MODIFIED:20220428T173321Z
UID:3157-1664104500-1664104500@alparonpark.com
SUMMARY:Junior Football Game
DESCRIPTION:
URL:https://alparonpark.com/event/junior-football-game-3/
LOCATION:Football Field
END:VEVENT
END:VCALENDAR