BEGIN:VCALENDAR
VERSION:2.0
PRODID:-//Alparon Park - ECPv6.3.2//NONSGML v1.0//EN
CALSCALE:GREGORIAN
METHOD:PUBLISH
X-ORIGINAL-URL:https://alparonpark.com
X-WR-CALDESC:Events for Alparon Park
REFRESH-INTERVAL;VALUE=DURATION:PT1H
X-Robots-Tag:noindex
X-PUBLISHED-TTL:PT1H
BEGIN:VTIMEZONE
TZID:UTC
BEGIN:STANDARD
TZOFFSETFROM:+0000
TZOFFSETTO:+0000
TZNAME:UTC
DTSTART:20220101T000000
END:STANDARD
END:VTIMEZONE
BEGIN:VEVENT
DTSTART;TZID=UTC:20221003T180000
DTEND;TZID=UTC:20221003T180000
DTSTAMP:20260423T145117
CREATED:20220830T204932Z
LAST-MODIFIED:20220830T204932Z
UID:3223-1664820000-1664820000@alparonpark.com
SUMMARY:JV Football Game
DESCRIPTION:
URL:https://alparonpark.com/event/jv-football-game-3/
LOCATION:Football Field
END:VEVENT
END:VCALENDAR