BEGIN:VCALENDAR
VERSION:2.0
PRODID:-//Alparon Park - ECPv6.3.2//NONSGML v1.0//EN
CALSCALE:GREGORIAN
METHOD:PUBLISH
X-WR-CALNAME:Alparon Park
X-ORIGINAL-URL:https://alparonpark.com
X-WR-CALDESC:Events for Alparon Park
REFRESH-INTERVAL;VALUE=DURATION:PT1H
X-Robots-Tag:noindex
X-PUBLISHED-TTL:PT1H
BEGIN:VTIMEZONE
TZID:UTC
BEGIN:STANDARD
TZOFFSETFROM:+0000
TZOFFSETTO:+0000
TZNAME:UTC
DTSTART:20230101T000000
END:STANDARD
END:VTIMEZONE
BEGIN:VEVENT
DTSTART;TZID=UTC:20230122T130000
DTEND;TZID=UTC:20230122T160000
DTSTAMP:20260423T090626
CREATED:20230111T001859Z
LAST-MODIFIED:20230111T001859Z
UID:3370-1674392400-1674403200@alparonpark.com
SUMMARY:Private Party
DESCRIPTION:
URL:https://alparonpark.com/event/private-party-2/
LOCATION:Exhibit Hall 2
END:VEVENT
END:VCALENDAR