BEGIN:VCALENDAR
VERSION:2.0
PRODID:-//Alparon Park - ECPv6.3.2//NONSGML v1.0//EN
CALSCALE:GREGORIAN
METHOD:PUBLISH
X-WR-CALNAME:Alparon Park
X-ORIGINAL-URL:https://alparonpark.com
X-WR-CALDESC:Events for Alparon Park
REFRESH-INTERVAL;VALUE=DURATION:PT1H
X-Robots-Tag:noindex
X-PUBLISHED-TTL:PT1H
BEGIN:VTIMEZONE
TZID:UTC
BEGIN:STANDARD
TZOFFSETFROM:+0000
TZOFFSETTO:+0000
TZNAME:UTC
DTSTART:20230101T000000
END:STANDARD
END:VTIMEZONE
BEGIN:VEVENT
DTSTART;TZID=UTC:20230224T080000
DTEND;TZID=UTC:20230224T170000
DTSTAMP:20260423T073337
CREATED:20230103T183723Z
LAST-MODIFIED:20230103T183723Z
UID:3359-1677225600-1677258000@alparonpark.com
SUMMARY:Wedding Set Up
DESCRIPTION:
URL:https://alparonpark.com/event/wedding-set-up-2/
LOCATION:Exhibit Hall 2
END:VEVENT
END:VCALENDAR