BEGIN:VCALENDAR
VERSION:2.0
PRODID:-//Alparon Park - ECPv6.3.2//NONSGML v1.0//EN
CALSCALE:GREGORIAN
METHOD:PUBLISH
X-WR-CALNAME:Alparon Park
X-ORIGINAL-URL:https://alparonpark.com
X-WR-CALDESC:Events for Alparon Park
REFRESH-INTERVAL;VALUE=DURATION:PT1H
X-Robots-Tag:noindex
X-PUBLISHED-TTL:PT1H
BEGIN:VTIMEZONE
TZID:UTC
BEGIN:STANDARD
TZOFFSETFROM:+0000
TZOFFSETTO:+0000
TZNAME:UTC
DTSTART:20230101T000000
END:STANDARD
END:VTIMEZONE
BEGIN:VEVENT
DTSTART;TZID=UTC:20230225T080000
DTEND;TZID=UTC:20230225T220000
DTSTAMP:20260423T073336
CREATED:20230103T183808Z
LAST-MODIFIED:20230103T183808Z
UID:3361-1677312000-1677362400@alparonpark.com
SUMMARY:Private Wedding
DESCRIPTION:
URL:https://alparonpark.com/event/private-wedding/
LOCATION:Exhibit Hall 2
END:VEVENT
END:VCALENDAR