BEGIN:VCALENDAR
VERSION:2.0
PRODID:-//Alparon Park - ECPv6.3.2//NONSGML v1.0//EN
CALSCALE:GREGORIAN
METHOD:PUBLISH
X-WR-CALNAME:Alparon Park
X-ORIGINAL-URL:https://alparonpark.com
X-WR-CALDESC:Events for Alparon Park
REFRESH-INTERVAL;VALUE=DURATION:PT1H
X-Robots-Tag:noindex
X-PUBLISHED-TTL:PT1H
BEGIN:VTIMEZONE
TZID:UTC
BEGIN:STANDARD
TZOFFSETFROM:+0000
TZOFFSETTO:+0000
TZNAME:UTC
DTSTART:20230101T000000
END:STANDARD
END:VTIMEZONE
BEGIN:VEVENT
DTSTART;VALUE=DATE:20230401
DTEND;VALUE=DATE:20230402
DTSTAMP:20260423T041625
CREATED:20230117T183119Z
LAST-MODIFIED:20230117T183119Z
UID:3377-1680307200-1680393599@alparonpark.com
SUMMARY:Easter Picture Community Service Event
DESCRIPTION:
URL:https://alparonpark.com/event/easter-picture-community-service-event/
LOCATION:4-H Bldg
END:VEVENT
BEGIN:VEVENT
DTSTART;TZID=UTC:20230401T090000
DTEND;TZID=UTC:20230401T140000
DTSTAMP:20260423T041625
CREATED:20230117T184606Z
LAST-MODIFIED:20230117T184606Z
UID:3383-1680339600-1680357600@alparonpark.com
SUMMARY:Junior Shooters
DESCRIPTION:
URL:https://alparonpark.com/event/junior-shooters/
LOCATION:Gun Range
END:VEVENT
END:VCALENDAR