BEGIN:VCALENDAR
VERSION:2.0
PRODID:-//Alparon Park - ECPv6.3.2//NONSGML v1.0//EN
CALSCALE:GREGORIAN
METHOD:PUBLISH
X-ORIGINAL-URL:https://alparonpark.com
X-WR-CALDESC:Events for Alparon Park
REFRESH-INTERVAL;VALUE=DURATION:PT1H
X-Robots-Tag:noindex
X-PUBLISHED-TTL:PT1H
BEGIN:VTIMEZONE
TZID:UTC
BEGIN:STANDARD
TZOFFSETFROM:+0000
TZOFFSETTO:+0000
TZNAME:UTC
DTSTART:20230101T000000
END:STANDARD
END:VTIMEZONE
BEGIN:VEVENT
DTSTART;TZID=UTC:20230423T080000
DTEND;TZID=UTC:20230423T170000
DTSTAMP:20260423T042639
CREATED:20230330T160855Z
LAST-MODIFIED:20230330T160855Z
UID:3470-1682236800-1682269200@alparonpark.com
SUMMARY:Northeast Travel Baseball
DESCRIPTION:
URL:https://alparonpark.com/event/northeast-travel-baseball-4/
LOCATION:Boys Major Field
END:VEVENT
END:VCALENDAR