BEGIN:VCALENDAR
VERSION:2.0
PRODID:-//Alparon Park - ECPv6.3.2//NONSGML v1.0//EN
CALSCALE:GREGORIAN
METHOD:PUBLISH
X-ORIGINAL-URL:https://alparonpark.com
X-WR-CALDESC:Events for Alparon Park
REFRESH-INTERVAL;VALUE=DURATION:PT1H
X-Robots-Tag:noindex
X-PUBLISHED-TTL:PT1H
BEGIN:VTIMEZONE
TZID:UTC
BEGIN:STANDARD
TZOFFSETFROM:+0000
TZOFFSETTO:+0000
TZNAME:UTC
DTSTART:20230101T000000
END:STANDARD
END:VTIMEZONE
BEGIN:VEVENT
DTSTART;TZID=UTC:20230514T080000
DTEND;TZID=UTC:20230514T140000
DTSTAMP:20260423T023141
CREATED:20230314T171648Z
LAST-MODIFIED:20230314T171648Z
UID:3438-1684051200-1684072800@alparonpark.com
SUMMARY:Northern Tier Trap League
DESCRIPTION:
URL:https://alparonpark.com/event/northern-tier-trap-league/
LOCATION:Gun Range
END:VEVENT
BEGIN:VEVENT
DTSTART;TZID=UTC:20230514T080000
DTEND;TZID=UTC:20230514T170000
DTSTAMP:20260423T023141
CREATED:20230214T204636Z
LAST-MODIFIED:20230214T204636Z
UID:3416-1684051200-1684083600@alparonpark.com
SUMMARY:Museum Set Up for Farm Days
DESCRIPTION:
URL:https://alparonpark.com/event/museum-set-up-for-farm-days/
LOCATION:Alparon Park
END:VEVENT
BEGIN:VEVENT
DTSTART;TZID=UTC:20230514T080000
DTEND;TZID=UTC:20230514T170000
DTSTAMP:20260423T023141
CREATED:20230330T161006Z
LAST-MODIFIED:20230330T161006Z
UID:3474-1684051200-1684083600@alparonpark.com
SUMMARY:Northeast Travel Baseball
DESCRIPTION:
URL:https://alparonpark.com/event/northeast-travel-baseball-6/
LOCATION:Boys Major Field
END:VEVENT
END:VCALENDAR