BEGIN:VCALENDAR
VERSION:2.0
PRODID:-//Alparon Park - ECPv6.3.2//NONSGML v1.0//EN
CALSCALE:GREGORIAN
METHOD:PUBLISH
X-ORIGINAL-URL:https://alparonpark.com
X-WR-CALDESC:Events for Alparon Park
REFRESH-INTERVAL;VALUE=DURATION:PT1H
X-Robots-Tag:noindex
X-PUBLISHED-TTL:PT1H
BEGIN:VTIMEZONE
TZID:UTC
BEGIN:STANDARD
TZOFFSETFROM:+0000
TZOFFSETTO:+0000
TZNAME:UTC
DTSTART:20230101T000000
END:STANDARD
END:VTIMEZONE
BEGIN:VEVENT
DTSTART;TZID=UTC:20230621T160000
DTEND;TZID=UTC:20230621T160000
DTSTAMP:20260423T005143
CREATED:20230615T195323Z
LAST-MODIFIED:20230615T195549Z
UID:3558-1687363200-1687363200@alparonpark.com
SUMMARY:Boy's All Stars Game
DESCRIPTION:
URL:https://alparonpark.com/event/boys-all-stars-game/
LOCATION:Boys Major Field
END:VEVENT
BEGIN:VEVENT
DTSTART;TZID=UTC:20230621T160000
DTEND;TZID=UTC:20230621T160000
DTSTAMP:20260423T005143
CREATED:20230615T195746Z
LAST-MODIFIED:20230615T195746Z
UID:3565-1687363200-1687363200@alparonpark.com
SUMMARY:Girl's All Stars Game
DESCRIPTION:
URL:https://alparonpark.com/event/girls-all-stars-game-2/
LOCATION:Softball Field
END:VEVENT
END:VCALENDAR