BEGIN:VCALENDAR
VERSION:2.0
PRODID:-//Alparon Park - ECPv6.3.2//NONSGML v1.0//EN
CALSCALE:GREGORIAN
METHOD:PUBLISH
X-ORIGINAL-URL:https://alparonpark.com
X-WR-CALDESC:Events for Alparon Park
REFRESH-INTERVAL;VALUE=DURATION:PT1H
X-Robots-Tag:noindex
X-PUBLISHED-TTL:PT1H
BEGIN:VTIMEZONE
TZID:UTC
BEGIN:STANDARD
TZOFFSETFROM:+0000
TZOFFSETTO:+0000
TZNAME:UTC
DTSTART:20230101T000000
END:STANDARD
END:VTIMEZONE
BEGIN:VEVENT
DTSTART;TZID=UTC:20230625T150000
DTEND;TZID=UTC:20230625T150000
DTSTAMP:20260423T005039
CREATED:20230613T154632Z
LAST-MODIFIED:20230613T154632Z
UID:3555-1687705200-1687705200@alparonpark.com
SUMMARY:4-H Shoot
DESCRIPTION:
URL:https://alparonpark.com/event/4-h-shoot-3/
LOCATION:Gun Range
END:VEVENT
END:VCALENDAR