BEGIN:VCALENDAR
VERSION:2.0
PRODID:-//Alparon Park - ECPv6.3.2//NONSGML v1.0//EN
CALSCALE:GREGORIAN
METHOD:PUBLISH
X-ORIGINAL-URL:https://alparonpark.com
X-WR-CALDESC:Events for Alparon Park
REFRESH-INTERVAL;VALUE=DURATION:PT1H
X-Robots-Tag:noindex
X-PUBLISHED-TTL:PT1H
BEGIN:VTIMEZONE
TZID:UTC
BEGIN:STANDARD
TZOFFSETFROM:+0000
TZOFFSETTO:+0000
TZNAME:UTC
DTSTART:20230101T000000
END:STANDARD
END:VTIMEZONE
BEGIN:VEVENT
DTSTART;TZID=UTC:20230725T080000
DTEND;TZID=UTC:20230730T230000
DTSTAMP:20260422T230041
CREATED:20221020T165819Z
LAST-MODIFIED:20221020T165819Z
UID:3337-1690272000-1690758000@alparonpark.com
SUMMARY:147th Troy Fair
DESCRIPTION:Largest event in Bradford County! \nRides\, Games\, Food\, Entertainment\, Rosaire’s Pig Races\, TJ Hill Magician\, Musical Entertainment\, Dennis Beach Wood Carver\, Sportsman’s Show\, Large Antique Tractor Display\, Agricultural displays and shows\,  Grandstand shows- Truck pulls\, Tractor Pulls\, National Known Act in Concert (TBA)\, Bullride Mania\, and Demo Derbies\, plus so much more! \nFollow and like us on Troy Fair Facebook and Instagram
URL:https://alparonpark.com/event/147th-troy-fair/
LOCATION:Alparon Park
END:VEVENT
END:VCALENDAR