BEGIN:VCALENDAR
VERSION:2.0
PRODID:-//Alparon Park - ECPv6.3.2//NONSGML v1.0//EN
CALSCALE:GREGORIAN
METHOD:PUBLISH
X-ORIGINAL-URL:https://alparonpark.com
X-WR-CALDESC:Events for Alparon Park
REFRESH-INTERVAL;VALUE=DURATION:PT1H
X-Robots-Tag:noindex
X-PUBLISHED-TTL:PT1H
BEGIN:VTIMEZONE
TZID:UTC
BEGIN:STANDARD
TZOFFSETFROM:+0000
TZOFFSETTO:+0000
TZNAME:UTC
DTSTART:20230101T000000
END:STANDARD
END:VTIMEZONE
BEGIN:VEVENT
DTSTART;TZID=UTC:20231017T080000
DTEND;TZID=UTC:20231017T170000
DTSTAMP:20260422T173807
CREATED:20230822T151935Z
LAST-MODIFIED:20230822T151935Z
UID:3582-1697529600-1697562000@alparonpark.com
SUMMARY:Repsol Meeting
DESCRIPTION:
URL:https://alparonpark.com/event/repsol-meeting-3/
LOCATION:Exh Halls & Pavilion
END:VEVENT
END:VCALENDAR