BEGIN:VCALENDAR
VERSION:2.0
PRODID:-//Alparon Park - ECPv6.3.2//NONSGML v1.0//EN
CALSCALE:GREGORIAN
METHOD:PUBLISH
X-ORIGINAL-URL:https://alparonpark.com
X-WR-CALDESC:Events for Alparon Park
REFRESH-INTERVAL;VALUE=DURATION:PT1H
X-Robots-Tag:noindex
X-PUBLISHED-TTL:PT1H
BEGIN:VTIMEZONE
TZID:UTC
BEGIN:STANDARD
TZOFFSETFROM:+0000
TZOFFSETTO:+0000
TZNAME:UTC
DTSTART:20230101T000000
END:STANDARD
END:VTIMEZONE
BEGIN:VEVENT
DTSTART;TZID=UTC:20231029T080000
DTEND;TZID=UTC:20231029T140000
DTSTAMP:20260422T173832
CREATED:20230117T185019Z
LAST-MODIFIED:20230117T185019Z
UID:3393-1698566400-1698588000@alparonpark.com
SUMMARY:Junior Shooters
DESCRIPTION:
URL:https://alparonpark.com/event/junior-shooters-6/
LOCATION:Gun Range
END:VEVENT
BEGIN:VEVENT
DTSTART;TZID=UTC:20231029T080000
DTEND;TZID=UTC:20231029T170000
DTSTAMP:20260422T173832
CREATED:20230117T192706Z
LAST-MODIFIED:20230117T192954Z
UID:3402-1698566400-1698598800@alparonpark.com
SUMMARY:Wedding Clean Up
DESCRIPTION:
URL:https://alparonpark.com/event/wedding-clean-up-3/
LOCATION:Exhibit Hall 2
END:VEVENT
END:VCALENDAR