BEGIN:VCALENDAR
VERSION:2.0
PRODID:-//Alparon Park - ECPv6.3.2//NONSGML v1.0//EN
CALSCALE:GREGORIAN
METHOD:PUBLISH
X-WR-CALNAME:Alparon Park
X-ORIGINAL-URL:https://alparonpark.com
X-WR-CALDESC:Events for Alparon Park
REFRESH-INTERVAL;VALUE=DURATION:PT1H
X-Robots-Tag:noindex
X-PUBLISHED-TTL:PT1H
BEGIN:VTIMEZONE
TZID:UTC
BEGIN:STANDARD
TZOFFSETFROM:+0000
TZOFFSETTO:+0000
TZNAME:UTC
DTSTART:20250101T000000
END:STANDARD
END:VTIMEZONE
BEGIN:VEVENT
DTSTART;TZID=UTC:20251104T100000
DTEND;TZID=UTC:20251104T150000
DTSTAMP:20260421T061659
CREATED:20250915T202914Z
LAST-MODIFIED:20250915T203252Z
UID:4305-1762250400-1762268400@alparonpark.com
SUMMARY:DFA Meeting
DESCRIPTION:
URL:https://alparonpark.com/event/dfa-meeting-3/
LOCATION:Exhibit Hall 2
END:VEVENT
BEGIN:VEVENT
DTSTART;VALUE=DATE:20251102
DTEND;VALUE=DATE:20251103
DTSTAMP:20260421T061659
CREATED:20250818T182152Z
LAST-MODIFIED:20250818T182152Z
UID:4245-1762041600-1762127999@alparonpark.com
SUMMARY:Sportsman Bingo
DESCRIPTION:
URL:https://alparonpark.com/event/sportsman-bingo/
LOCATION:Exhibit Hall 2
END:VEVENT
BEGIN:VEVENT
DTSTART;VALUE=DATE:20251101
DTEND;VALUE=DATE:20251102
DTSTAMP:20260421T061659
CREATED:20250818T182052Z
LAST-MODIFIED:20250818T182052Z
UID:4242-1761955200-1762041599@alparonpark.com
SUMMARY:Fall Yard Sale
DESCRIPTION:
URL:https://alparonpark.com/event/fall-yard-sale/
LOCATION:Exhibit Halls 1&2
END:VEVENT
BEGIN:VEVENT
DTSTART;VALUE=DATE:20251026
DTEND;VALUE=DATE:20251027
DTSTAMP:20260421T061659
CREATED:20250915T203658Z
LAST-MODIFIED:20250915T203658Z
UID:4317-1761436800-1761523199@alparonpark.com
SUMMARY:Jr. Football
DESCRIPTION:
URL:https://alparonpark.com/event/jr-football-10/
END:VEVENT
BEGIN:VEVENT
DTSTART;VALUE=DATE:20251025
DTEND;VALUE=DATE:20251026
DTSTAMP:20260421T061659
CREATED:20250818T181019Z
LAST-MODIFIED:20250818T181019Z
UID:4236-1761350400-1761436799@alparonpark.com
SUMMARY:Jr. Football
DESCRIPTION:
URL:https://alparonpark.com/event/jr-football-4/
END:VEVENT
BEGIN:VEVENT
DTSTART;TZID=UTC:20251022T090000
DTEND;TZID=UTC:20251022T130000
DTSTAMP:20260421T061659
CREATED:20250818T180812Z
LAST-MODIFIED:20250818T180812Z
UID:4229-1761123600-1761138000@alparonpark.com
SUMMARY:Rural Health Day
DESCRIPTION:
URL:https://alparonpark.com/event/rural-health-day/
LOCATION:Exhibit Halls 1&2
END:VEVENT
BEGIN:VEVENT
DTSTART;TZID=UTC:20251020T193000
DTEND;TZID=UTC:20251020T193000
DTSTAMP:20260421T061659
CREATED:20250818T185610Z
LAST-MODIFIED:20250818T190952Z
UID:4264-1760988600-1760988600@alparonpark.com
SUMMARY:High School JV Football Vs. Jersey Shore
DESCRIPTION:
URL:https://alparonpark.com/event/high-school-jv-football-vs-jersey-shore/
END:VEVENT
BEGIN:VEVENT
DTSTART;TZID=UTC:20251020T180000
DTEND;TZID=UTC:20251020T180000
DTSTAMP:20260421T061659
CREATED:20250818T184434Z
LAST-MODIFIED:20250818T184926Z
UID:4255-1760983200-1760983200@alparonpark.com
SUMMARY:Middle School Football Vs. Jersey Shore
DESCRIPTION:
URL:https://alparonpark.com/event/middle-school-vs-jersey-shore/
END:VEVENT
BEGIN:VEVENT
DTSTART;VALUE=DATE:20251019
DTEND;VALUE=DATE:20251020
DTSTAMP:20260421T061659
CREATED:20250915T202828Z
LAST-MODIFIED:20250915T202828Z
UID:4303-1760832000-1760918399@alparonpark.com
SUMMARY:Private Event
DESCRIPTION:
URL:https://alparonpark.com/event/private-event-8/
LOCATION:Exhibit Hall 2
END:VEVENT
BEGIN:VEVENT
DTSTART;VALUE=DATE:20251019
DTEND;VALUE=DATE:20251020
DTSTAMP:20260421T061659
CREATED:20250818T180958Z
LAST-MODIFIED:20250818T180958Z
UID:4234-1760832000-1760918399@alparonpark.com
SUMMARY:Jr. Football
DESCRIPTION:
URL:https://alparonpark.com/event/jr-football-3/
END:VEVENT
BEGIN:VEVENT
DTSTART;TZID=UTC:20251017T190000
DTEND;TZID=UTC:20251017T190000
DTSTAMP:20260421T061659
CREATED:20250818T191336Z
LAST-MODIFIED:20250818T191336Z
UID:4272-1760727600-1760727600@alparonpark.com
SUMMARY:Varsity Football Vs. Central Mountain
DESCRIPTION:
URL:https://alparonpark.com/event/varsity-football-vs-central-mountain/
END:VEVENT
BEGIN:VEVENT
DTSTART;TZID=UTC:20251015T180000
DTEND;TZID=UTC:20251015T180000
DTSTAMP:20260421T061659
CREATED:20250818T184333Z
LAST-MODIFIED:20250818T185150Z
UID:4253-1760551200-1760551200@alparonpark.com
SUMMARY:Middle School Football Vs. Canton
DESCRIPTION:
URL:https://alparonpark.com/event/middle-school-football-vs-canton/
END:VEVENT
BEGIN:VEVENT
DTSTART;TZID=UTC:20251010T190000
DTEND;TZID=UTC:20251010T190000
DTSTAMP:20260421T061659
CREATED:20250818T191233Z
LAST-MODIFIED:20250818T191233Z
UID:4270-1760122800-1760122800@alparonpark.com
SUMMARY:Varsity Football vs. North Penn-Mansfield
DESCRIPTION:
URL:https://alparonpark.com/event/varsity-football-vs-north-penn-mansfield/
END:VEVENT
BEGIN:VEVENT
DTSTART;VALUE=DATE:20251005
DTEND;VALUE=DATE:20251006
DTSTAMP:20260421T061659
CREATED:20250818T180916Z
LAST-MODIFIED:20250818T180916Z
UID:4232-1759622400-1759708799@alparonpark.com
SUMMARY:Jr. Football
DESCRIPTION:
URL:https://alparonpark.com/event/jr-football-2/
END:VEVENT
BEGIN:VEVENT
DTSTART;TZID=UTC:20251004T100000
DTEND;TZID=UTC:20251004T150000
DTSTAMP:20260421T061659
CREATED:20250818T180612Z
LAST-MODIFIED:20250818T180612Z
UID:4226-1759572000-1759590000@alparonpark.com
SUMMARY:Community Vendors of local Products
DESCRIPTION:
URL:https://alparonpark.com/event/community-vendors-of-local-products/
LOCATION:Exhibit Hall 2
END:VEVENT
BEGIN:VEVENT
DTSTART;TZID=UTC:20251004T080000
DTEND;TZID=UTC:20251004T120000
DTSTAMP:20260421T061659
CREATED:20250915T202727Z
LAST-MODIFIED:20250915T202727Z
UID:4300-1759564800-1759579200@alparonpark.com
SUMMARY:Walk for A Purpose Walk
DESCRIPTION:Fundraiser for Breast Cancer Research and Troy Guthrie Hospital Equipment Upgrade
URL:https://alparonpark.com/event/walk-for-a-purpose-walk/
LOCATION:Track
END:VEVENT
BEGIN:VEVENT
DTSTART;TZID=UTC:20251003T190000
DTEND;TZID=UTC:20251003T190000
DTSTAMP:20260421T061659
CREATED:20250818T191147Z
LAST-MODIFIED:20250818T191147Z
UID:4268-1759518000-1759518000@alparonpark.com
SUMMARY:Varsity Football Vs. Wellsboro
DESCRIPTION:
URL:https://alparonpark.com/event/varsity-football-vs-wellsboro/
END:VEVENT
BEGIN:VEVENT
DTSTART;TZID=UTC:20251001T180000
DTEND;TZID=UTC:20251001T180000
DTSTAMP:20260421T061659
CREATED:20250818T184206Z
LAST-MODIFIED:20250818T184206Z
UID:4251-1759341600-1759341600@alparonpark.com
SUMMARY:Middle School Football Vs. Wellsboro
DESCRIPTION:
URL:https://alparonpark.com/event/middle-school-football-vs-wellsboro/
END:VEVENT
BEGIN:VEVENT
DTSTART;VALUE=DATE:20250928
DTEND;VALUE=DATE:20250929
DTSTAMP:20260421T061659
CREATED:20250818T173007Z
LAST-MODIFIED:20250818T173007Z
UID:4219-1759017600-1759103999@alparonpark.com
SUMMARY:Rainbow Riders Gameathon
DESCRIPTION:
URL:https://alparonpark.com/event/rainbow-riders-gameathon/
LOCATION:Horse Arena
END:VEVENT
BEGIN:VEVENT
DTSTART;VALUE=DATE:20250927
DTEND;VALUE=DATE:20250928
DTSTAMP:20260421T061659
CREATED:20250915T202446Z
LAST-MODIFIED:20250915T202455Z
UID:4298-1758931200-1759017599@alparonpark.com
SUMMARY:Jr. Football
DESCRIPTION:
URL:https://alparonpark.com/event/jr-football-6/
END:VEVENT
BEGIN:VEVENT
DTSTART;VALUE=DATE:20250927
DTEND;VALUE=DATE:20250928
DTSTAMP:20260421T061659
CREATED:20250915T202416Z
LAST-MODIFIED:20250915T202416Z
UID:4296-1758931200-1759017599@alparonpark.com
SUMMARY:Deer & Bear Club
DESCRIPTION:
URL:https://alparonpark.com/event/deer-bear-club/
LOCATION:Exhibit Halls 1&2
END:VEVENT
BEGIN:VEVENT
DTSTART;TZID=UTC:20250926T190000
DTEND;TZID=UTC:20250926T190000
DTSTAMP:20260421T061659
CREATED:20250818T191107Z
LAST-MODIFIED:20250818T191107Z
UID:4266-1758913200-1758913200@alparonpark.com
SUMMARY:Varsity Football vs. Wyalusing
DESCRIPTION:
URL:https://alparonpark.com/event/varsity-football-vs-wyalusing/
END:VEVENT
BEGIN:VEVENT
DTSTART;TZID=UTC:20250922T180000
DTEND;TZID=UTC:20250922T180000
DTSTAMP:20260421T061659
CREATED:20250818T185509Z
LAST-MODIFIED:20250818T185509Z
UID:4262-1758564000-1758564000@alparonpark.com
SUMMARY:High School JV Vs. Towanda
DESCRIPTION:
URL:https://alparonpark.com/event/high-school-jv-vs-towanda/
END:VEVENT
BEGIN:VEVENT
DTSTART;VALUE=DATE:20250920
DTEND;VALUE=DATE:20250922
DTSTAMP:20260421T061659
CREATED:20250818T172928Z
LAST-MODIFIED:20250818T172928Z
UID:4217-1758326400-1758499199@alparonpark.com
SUMMARY:Heritage Museum Event
DESCRIPTION:
URL:https://alparonpark.com/event/heritage-museum-event/
END:VEVENT
BEGIN:VEVENT
DTSTART;TZID=UTC:20250917T180000
DTEND;TZID=UTC:20250917T180000
DTSTAMP:20260421T061659
CREATED:20250818T183242Z
LAST-MODIFIED:20250818T183242Z
UID:4249-1758132000-1758132000@alparonpark.com
SUMMARY:Middle School Football Vs. North Penn-Mansfield
DESCRIPTION:
URL:https://alparonpark.com/event/middle-school-football-vs-north-penn-mansfield/
END:VEVENT
BEGIN:VEVENT
DTSTART;TZID=UTC:20250915T180000
DTEND;TZID=UTC:20250915T180000
DTSTAMP:20260421T061659
CREATED:20250818T185414Z
LAST-MODIFIED:20250818T185414Z
UID:4260-1757959200-1757959200@alparonpark.com
SUMMARY:High School JV Football Vs. Athens
DESCRIPTION:
URL:https://alparonpark.com/event/high-school-jv-football-vs-athens/
END:VEVENT
BEGIN:VEVENT
DTSTART;TZID=UTC:20250913T180000
DTEND;TZID=UTC:20250913T193000
DTSTAMP:20260421T061659
CREATED:20250818T173240Z
LAST-MODIFIED:20250818T173240Z
UID:4223-1757786400-1757791800@alparonpark.com
SUMMARY:Strawberry Shortcake Event
DESCRIPTION:
URL:https://alparonpark.com/event/strawberry-shortcake-event/
LOCATION:Pavillion
END:VEVENT
BEGIN:VEVENT
DTSTART;TZID=UTC:20250908T180000
DTEND;TZID=UTC:20250908T180000
DTSTAMP:20260421T061659
CREATED:20250818T185314Z
LAST-MODIFIED:20250818T185314Z
UID:4258-1757354400-1757354400@alparonpark.com
SUMMARY:High School JV Football Vs. S. Williamsport
DESCRIPTION:
URL:https://alparonpark.com/event/high-school-jv-football-vs-s-williamsport/
END:VEVENT
BEGIN:VEVENT
DTSTART;VALUE=DATE:20250906
DTEND;VALUE=DATE:20250908
DTSTAMP:20260421T061659
CREATED:20250818T173045Z
LAST-MODIFIED:20250818T173045Z
UID:4221-1757116800-1757289599@alparonpark.com
SUMMARY:TAHA
DESCRIPTION:
URL:https://alparonpark.com/event/taha-5/
LOCATION:Horse Arena
END:VEVENT
BEGIN:VEVENT
DTSTART;VALUE=DATE:20250905
DTEND;VALUE=DATE:20250906
DTSTAMP:20260421T061659
CREATED:20250915T203551Z
LAST-MODIFIED:20250915T203551Z
UID:4311-1757030400-1757116799@alparonpark.com
SUMMARY:Jr. Football
DESCRIPTION:
URL:https://alparonpark.com/event/jr-football-7/
END:VEVENT
END:VCALENDAR