BEGIN:VCALENDAR
VERSION:2.0
PRODID:-//Alparon Park - ECPv6.3.2//NONSGML v1.0//EN
CALSCALE:GREGORIAN
METHOD:PUBLISH
X-WR-CALNAME:Alparon Park
X-ORIGINAL-URL:https://alparonpark.com
X-WR-CALDESC:Events for Alparon Park
REFRESH-INTERVAL;VALUE=DURATION:PT1H
X-Robots-Tag:noindex
X-PUBLISHED-TTL:PT1H
BEGIN:VTIMEZONE
TZID:UTC
BEGIN:STANDARD
TZOFFSETFROM:+0000
TZOFFSETTO:+0000
TZNAME:UTC
DTSTART:20230101T000000
END:STANDARD
END:VTIMEZONE
BEGIN:VEVENT
DTSTART;TZID=UTC:20231209T163000
DTEND;TZID=UTC:20231209T180000
DTSTAMP:20260422T230443
CREATED:20231209T205403Z
LAST-MODIFIED:20231209T205812Z
UID:3779-1702139400-1702144800@alparonpark.com
SUMMARY:Christmas Tree Lighting - Free Community Event!
DESCRIPTION:
URL:https://alparonpark.com/event/christmas-tree-lighting-free-community-event/
LOCATION:Alparon Park
END:VEVENT
BEGIN:VEVENT
DTSTART;TZID=UTC:20231209T180000
DTEND;TZID=UTC:20231209T230000
DTSTAMP:20260422T230443
CREATED:20230713T145829Z
LAST-MODIFIED:20231128T194925Z
UID:3574-1702144800-1702162800@alparonpark.com
SUMMARY:TimMcGraw/FaithHill Tribute Band
DESCRIPTION:
URL:https://alparonpark.com/event/will-petta-concert/
LOCATION:Exhibit Hall 2
END:VEVENT
BEGIN:VEVENT
DTSTART;TZID=UTC:20231212T080000
DTEND;TZID=UTC:20231212T140000
DTSTAMP:20260422T230443
CREATED:20231128T213230Z
LAST-MODIFIED:20231128T213230Z
UID:3754-1702368000-1702389600@alparonpark.com
SUMMARY:Repsol Meeting
DESCRIPTION:
URL:https://alparonpark.com/event/repsol-meeting-4/
LOCATION:Exhibit Hall 2
END:VEVENT
BEGIN:VEVENT
DTSTART;TZID=UTC:20240107T000000
DTEND;TZID=UTC:20240107T000000
DTSTAMP:20260422T230443
CREATED:20231121T175622Z
LAST-MODIFIED:20231121T175622Z
UID:3636-1704585600-1704585600@alparonpark.com
SUMMARY:Jr. Shooter Practice
DESCRIPTION:
URL:https://alparonpark.com/event/jr-shooter-practice/
LOCATION:Gun Range
END:VEVENT
BEGIN:VEVENT
DTSTART;TZID=UTC:20240121T000000
DTEND;TZID=UTC:20240121T000000
DTSTAMP:20260422T230443
CREATED:20231121T175659Z
LAST-MODIFIED:20231121T175659Z
UID:3638-1705795200-1705795200@alparonpark.com
SUMMARY:Jr. Shooter Practice
DESCRIPTION:
URL:https://alparonpark.com/event/jr-shooter-practice-2/
LOCATION:Gun Range
END:VEVENT
BEGIN:VEVENT
DTSTART;TZID=UTC:20240204T000000
DTEND;TZID=UTC:20240204T000000
DTSTAMP:20260422T230443
CREATED:20231121T175937Z
LAST-MODIFIED:20231121T175937Z
UID:3640-1707004800-1707004800@alparonpark.com
SUMMARY:Jr. Shooters Practice
DESCRIPTION:
URL:https://alparonpark.com/event/jr-shooters-practice/
LOCATION:Gun Range
END:VEVENT
BEGIN:VEVENT
DTSTART;TZID=UTC:20240218T000000
DTEND;TZID=UTC:20240218T000000
DTSTAMP:20260422T230443
CREATED:20231121T180030Z
LAST-MODIFIED:20231121T180030Z
UID:3642-1708214400-1708214400@alparonpark.com
SUMMARY:Jr. Shooters Practice
DESCRIPTION:
URL:https://alparonpark.com/event/jr-shooters-practice-2/
LOCATION:Gun Range
END:VEVENT
BEGIN:VEVENT
DTSTART;TZID=UTC:20240224T080000
DTEND;TZID=UTC:20240224T170000
DTSTAMP:20260422T230443
CREATED:20240206T212144Z
LAST-MODIFIED:20240206T212144Z
UID:3841-1708761600-1708794000@alparonpark.com
SUMMARY:Jurassic Wonder
DESCRIPTION:
URL:https://alparonpark.com/event/jurassic-wonder/
LOCATION:Alparon Park
END:VEVENT
BEGIN:VEVENT
DTSTART;TZID=UTC:20240225T080000
DTEND;TZID=UTC:20240225T170000
DTSTAMP:20260422T230443
CREATED:20240206T212209Z
LAST-MODIFIED:20240206T212209Z
UID:3843-1708848000-1708880400@alparonpark.com
SUMMARY:Jurassic Wonder
DESCRIPTION:
URL:https://alparonpark.com/event/jurassic-wonder-2/
LOCATION:Alparon Park
END:VEVENT
BEGIN:VEVENT
DTSTART;TZID=UTC:20240302T080000
DTEND;TZID=UTC:20240302T140000
DTSTAMP:20260422T230443
CREATED:20231121T182039Z
LAST-MODIFIED:20231121T182039Z
UID:3644-1709366400-1709388000@alparonpark.com
SUMMARY:YHEC Shoot
DESCRIPTION:
URL:https://alparonpark.com/event/yhec-shoot/
LOCATION:Gun Range
END:VEVENT
BEGIN:VEVENT
DTSTART;TZID=UTC:20240303T000000
DTEND;TZID=UTC:20240303T000000
DTSTAMP:20260422T230443
CREATED:20231121T183635Z
LAST-MODIFIED:20231121T183635Z
UID:3646-1709424000-1709424000@alparonpark.com
SUMMARY:YHEC Practice
DESCRIPTION:
URL:https://alparonpark.com/event/yhec-practice/
LOCATION:Gun Range
END:VEVENT
BEGIN:VEVENT
DTSTART;TZID=UTC:20240312T100000
DTEND;TZID=UTC:20240312T140000
DTSTAMP:20260422T230443
CREATED:20231205T185026Z
LAST-MODIFIED:20231205T185026Z
UID:3769-1710237600-1710252000@alparonpark.com
SUMMARY:Dairy Producer's Meeting
DESCRIPTION:
URL:https://alparonpark.com/event/dairy-producers-meeting-2/
LOCATION:Exhibit Hall 2
END:VEVENT
BEGIN:VEVENT
DTSTART;TZID=UTC:20240316T000000
DTEND;TZID=UTC:20240316T000000
DTSTAMP:20260422T230443
CREATED:20231121T183815Z
LAST-MODIFIED:20231121T183815Z
UID:3648-1710547200-1710547200@alparonpark.com
SUMMARY:YHEC Registration and Sight-ins for returning members
DESCRIPTION:
URL:https://alparonpark.com/event/yhec-registration-and-sight-ins-for-returning-members/
LOCATION:Gun Range
END:VEVENT
BEGIN:VEVENT
DTSTART;TZID=UTC:20240317T000000
DTEND;TZID=UTC:20240317T000000
DTSTAMP:20260422T230443
CREATED:20231121T183906Z
LAST-MODIFIED:20231121T183906Z
UID:3650-1710633600-1710633600@alparonpark.com
SUMMARY:YHEC Practice
DESCRIPTION:
URL:https://alparonpark.com/event/yhec-practice-2/
LOCATION:Gun Range
END:VEVENT
BEGIN:VEVENT
DTSTART;TZID=UTC:20240318T000000
DTEND;TZID=UTC:20240318T000000
DTSTAMP:20260422T230443
CREATED:20240312T153826Z
LAST-MODIFIED:20240312T153826Z
UID:3860-1710720000-1710720000@alparonpark.com
SUMMARY:Cheerleading Banquet
DESCRIPTION:
URL:https://alparonpark.com/event/cheerleading-banquet/
LOCATION:Exhibit Hall 2
END:VEVENT
BEGIN:VEVENT
DTSTART;TZID=UTC:20240323T000000
DTEND;TZID=UTC:20240323T000000
DTSTAMP:20260422T230443
CREATED:20231121T184102Z
LAST-MODIFIED:20231121T184102Z
UID:3652-1711152000-1711152000@alparonpark.com
SUMMARY:YHEC Registration and sight-ins for returning members
DESCRIPTION:
URL:https://alparonpark.com/event/yhec-registration-and-sight-ins-for-returning-members-2/
LOCATION:Gun Range
END:VEVENT
BEGIN:VEVENT
DTSTART;TZID=UTC:20240323T110000
DTEND;TZID=UTC:20240323T110000
DTSTAMP:20260422T230443
CREATED:20240312T150851Z
LAST-MODIFIED:20240312T150851Z
UID:3854-1711191600-1711191600@alparonpark.com
SUMMARY:Easter Egg Hunt
DESCRIPTION:
URL:https://alparonpark.com/event/easter-egg-hunt-2/
LOCATION:Alparon Park
END:VEVENT
BEGIN:VEVENT
DTSTART;TZID=UTC:20240324T080000
DTEND;TZID=UTC:20240324T140000
DTSTAMP:20260422T230443
CREATED:20231121T184204Z
LAST-MODIFIED:20231121T184204Z
UID:3654-1711267200-1711288800@alparonpark.com
SUMMARY:Black Powder Shoot
DESCRIPTION:
URL:https://alparonpark.com/event/black-powder-shoot/
LOCATION:Gun Range
END:VEVENT
BEGIN:VEVENT
DTSTART;TZID=UTC:20240325T180000
DTEND;TZID=UTC:20240325T200000
DTSTAMP:20260422T230443
CREATED:20231128T195114Z
LAST-MODIFIED:20231128T195114Z
UID:3658-1711389600-1711396800@alparonpark.com
SUMMARY:YHEC practice
DESCRIPTION:
URL:https://alparonpark.com/event/yhec-practice-3/
LOCATION:Gun Range
END:VEVENT
BEGIN:VEVENT
DTSTART;TZID=UTC:20240326T180000
DTEND;TZID=UTC:20240326T200000
DTSTAMP:20260422T230443
CREATED:20231128T195228Z
LAST-MODIFIED:20231128T195228Z
UID:3662-1711476000-1711483200@alparonpark.com
SUMMARY:YHEC practice
DESCRIPTION:
URL:https://alparonpark.com/event/yhec-practice-4/
LOCATION:Gun Range
END:VEVENT
BEGIN:VEVENT
DTSTART;TZID=UTC:20240328T180000
DTEND;TZID=UTC:20240328T200000
DTSTAMP:20260422T230443
CREATED:20231128T195303Z
LAST-MODIFIED:20231128T195303Z
UID:3664-1711648800-1711656000@alparonpark.com
SUMMARY:YHEC practice
DESCRIPTION:
URL:https://alparonpark.com/event/yhec-practice-5/
LOCATION:Gun Range
END:VEVENT
BEGIN:VEVENT
DTSTART;TZID=UTC:20240331T090000
DTEND;TZID=UTC:20240331T150000
DTSTAMP:20260422T230443
CREATED:20231121T162107Z
LAST-MODIFIED:20231121T162107Z
UID:3632-1711875600-1711897200@alparonpark.com
SUMMARY:Stephen Gates Meeting
DESCRIPTION:
URL:https://alparonpark.com/event/stephen-gates-meeting-2/
LOCATION:Exhibit Hall 2
END:VEVENT
BEGIN:VEVENT
DTSTART;TZID=UTC:20240401T180000
DTEND;TZID=UTC:20240401T200000
DTSTAMP:20260422T230443
CREATED:20231128T195401Z
LAST-MODIFIED:20231128T195401Z
UID:3666-1711994400-1712001600@alparonpark.com
SUMMARY:YHEC practice
DESCRIPTION:
URL:https://alparonpark.com/event/yhec-practice-6/
LOCATION:Gun Range
END:VEVENT
BEGIN:VEVENT
DTSTART;TZID=UTC:20240402T180000
DTEND;TZID=UTC:20240402T200000
DTSTAMP:20260422T230443
CREATED:20231128T195439Z
LAST-MODIFIED:20231128T195439Z
UID:3668-1712080800-1712088000@alparonpark.com
SUMMARY:YHEC practice
DESCRIPTION:
URL:https://alparonpark.com/event/yhec-practice-7/
LOCATION:Gun Range
END:VEVENT
BEGIN:VEVENT
DTSTART;TZID=UTC:20240404T080000
DTEND;TZID=UTC:20240404T150000
DTSTAMP:20260422T230443
CREATED:20240109T213618Z
LAST-MODIFIED:20240109T213618Z
UID:3790-1712217600-1712242800@alparonpark.com
SUMMARY:BCCD Meeting
DESCRIPTION:
URL:https://alparonpark.com/event/bccd-meeting/
LOCATION:Exhibit Hall 2
END:VEVENT
BEGIN:VEVENT
DTSTART;TZID=UTC:20240404T180000
DTEND;TZID=UTC:20240404T200000
DTSTAMP:20260422T230443
CREATED:20231128T195528Z
LAST-MODIFIED:20231128T195528Z
UID:3670-1712253600-1712260800@alparonpark.com
SUMMARY:YHEC practice
DESCRIPTION:
URL:https://alparonpark.com/event/yhec-practice-8/
LOCATION:Gun Range
END:VEVENT
BEGIN:VEVENT
DTSTART;TZID=UTC:20240406T080000
DTEND;TZID=UTC:20240406T140000
DTSTAMP:20260422T230443
CREATED:20231128T212443Z
LAST-MODIFIED:20231128T212443Z
UID:3738-1712390400-1712412000@alparonpark.com
SUMMARY:YHEC Shoot
DESCRIPTION:
URL:https://alparonpark.com/event/yhec-shoot-2/
LOCATION:Gun Range
END:VEVENT
BEGIN:VEVENT
DTSTART;TZID=UTC:20240408T180000
DTEND;TZID=UTC:20240408T200000
DTSTAMP:20260422T230443
CREATED:20231128T195611Z
LAST-MODIFIED:20231128T195611Z
UID:3672-1712599200-1712606400@alparonpark.com
SUMMARY:YHEC practice
DESCRIPTION:
URL:https://alparonpark.com/event/yhec-practice-9/
LOCATION:Gun Range
END:VEVENT
BEGIN:VEVENT
DTSTART;TZID=UTC:20240409T180000
DTEND;TZID=UTC:20240409T200000
DTSTAMP:20260422T230443
CREATED:20231128T195643Z
LAST-MODIFIED:20231128T195643Z
UID:3674-1712685600-1712692800@alparonpark.com
SUMMARY:YHEC practice
DESCRIPTION:
URL:https://alparonpark.com/event/yhec-practice-10/
LOCATION:Gun Range
END:VEVENT
BEGIN:VEVENT
DTSTART;TZID=UTC:20240411T180000
DTEND;TZID=UTC:20240411T200000
DTSTAMP:20260422T230443
CREATED:20231128T195710Z
LAST-MODIFIED:20231128T195710Z
UID:3676-1712858400-1712865600@alparonpark.com
SUMMARY:YHEC practice
DESCRIPTION:
URL:https://alparonpark.com/event/yhec-practice-11/
LOCATION:Gun Range
END:VEVENT
END:VCALENDAR