BEGIN:VCALENDAR
VERSION:2.0
PRODID:-//Alparon Park - ECPv6.3.2//NONSGML v1.0//EN
CALSCALE:GREGORIAN
METHOD:PUBLISH
X-WR-CALNAME:Alparon Park
X-ORIGINAL-URL:https://alparonpark.com
X-WR-CALDESC:Events for Alparon Park
REFRESH-INTERVAL;VALUE=DURATION:PT1H
X-Robots-Tag:noindex
X-PUBLISHED-TTL:PT1H
BEGIN:VTIMEZONE
TZID:UTC
BEGIN:STANDARD
TZOFFSETFROM:+0000
TZOFFSETTO:+0000
TZNAME:UTC
DTSTART:20250101T000000
END:STANDARD
END:VTIMEZONE
BEGIN:VEVENT
DTSTART;TZID=UTC:20250302T160000
DTEND;TZID=UTC:20250302T180000
DTSTAMP:20260421T173117
CREATED:20250224T162318Z
LAST-MODIFIED:20250224T162318Z
UID:4120-1740931200-1740938400@alparonpark.com
SUMMARY:YHEC Program
DESCRIPTION:
URL:https://alparonpark.com/event/yhec-program/
LOCATION:Gun Range
END:VEVENT
BEGIN:VEVENT
DTSTART;VALUE=DATE:20250310
DTEND;VALUE=DATE:20250311
DTSTAMP:20260421T173117
CREATED:20250224T162205Z
LAST-MODIFIED:20250224T162205Z
UID:4118-1741564800-1741651199@alparonpark.com
SUMMARY:Private Event
DESCRIPTION:
URL:https://alparonpark.com/event/private-event-3/
LOCATION:Exhibit Hall 2
END:VEVENT
BEGIN:VEVENT
DTSTART;TZID=UTC:20250315T160000
DTEND;TZID=UTC:20250315T180000
DTSTAMP:20260421T173117
CREATED:20250224T162442Z
LAST-MODIFIED:20250224T162442Z
UID:4122-1742054400-1742061600@alparonpark.com
SUMMARY:YHEC Program
DESCRIPTION:
URL:https://alparonpark.com/event/yhec-program-2/
LOCATION:Gun Range
END:VEVENT
BEGIN:VEVENT
DTSTART;TZID=UTC:20250322T160000
DTEND;TZID=UTC:20250322T180000
DTSTAMP:20260421T173117
CREATED:20250224T162513Z
LAST-MODIFIED:20250224T162513Z
UID:4124-1742659200-1742666400@alparonpark.com
SUMMARY:YHEC Program
DESCRIPTION:
URL:https://alparonpark.com/event/yhec-program-3/
LOCATION:Gun Range
END:VEVENT
BEGIN:VEVENT
DTSTART;TZID=UTC:20250323T090000
DTEND;TZID=UTC:20250323T140000
DTSTAMP:20260421T173117
CREATED:20250224T162554Z
LAST-MODIFIED:20250224T162554Z
UID:4126-1742720400-1742738400@alparonpark.com
SUMMARY:YHEC Black Powder Shoot
DESCRIPTION:
URL:https://alparonpark.com/event/yhec-black-powder-shoot/
LOCATION:Gun Range
END:VEVENT
BEGIN:VEVENT
DTSTART;TZID=UTC:20250329T080000
DTEND;TZID=UTC:20250329T210000
DTSTAMP:20260421T173117
CREATED:20240528T155822Z
LAST-MODIFIED:20240528T155822Z
UID:3888-1743235200-1743282000@alparonpark.com
SUMMARY:Doug McClinko Dinner
DESCRIPTION:
URL:https://alparonpark.com/event/doug-mcclinko-dinner/
LOCATION:Exhibit Hall 2
END:VEVENT
BEGIN:VEVENT
DTSTART;VALUE=DATE:20250330
DTEND;VALUE=DATE:20250331
DTSTAMP:20260421T173117
CREATED:20250224T162019Z
LAST-MODIFIED:20250224T162019Z
UID:4116-1743292800-1743379199@alparonpark.com
SUMMARY:Private Event
DESCRIPTION:
URL:https://alparonpark.com/event/private-event-2/
LOCATION:Exhibit Hall 2
END:VEVENT
BEGIN:VEVENT
DTSTART;TZID=UTC:20250405T080000
DTEND;TZID=UTC:20250405T140000
DTSTAMP:20260421T173117
CREATED:20250224T162633Z
LAST-MODIFIED:20250224T162633Z
UID:4128-1743840000-1743861600@alparonpark.com
SUMMARY:YHEC Program
DESCRIPTION:
URL:https://alparonpark.com/event/yhec-program-4/
LOCATION:Gun Range
END:VEVENT
BEGIN:VEVENT
DTSTART;TZID=UTC:20250419T080000
DTEND;TZID=UTC:20250419T140000
DTSTAMP:20260421T173117
CREATED:20250224T162714Z
LAST-MODIFIED:20250224T162714Z
UID:4130-1745049600-1745071200@alparonpark.com
SUMMARY:YHEC Program
DESCRIPTION:
URL:https://alparonpark.com/event/yhec-program-5/
LOCATION:Gun Range
END:VEVENT
BEGIN:VEVENT
DTSTART;TZID=UTC:20250421T170000
DTEND;TZID=UTC:20250421T190000
DTSTAMP:20260421T173117
CREATED:20250407T162658Z
LAST-MODIFIED:20250407T162658Z
UID:4162-1745254800-1745262000@alparonpark.com
SUMMARY:JR Football Registration
DESCRIPTION:
URL:https://alparonpark.com/event/jr-football-registration/
LOCATION:Exhibit Hall 2
END:VEVENT
BEGIN:VEVENT
DTSTART;VALUE=DATE:20250426
DTEND;VALUE=DATE:20250428
DTSTAMP:20260421T173117
CREATED:20240826T163255Z
LAST-MODIFIED:20240826T163255Z
UID:3980-1745625600-1745798399@alparonpark.com
SUMMARY:Maple Festival
DESCRIPTION:
URL:https://alparonpark.com/event/maple-festival/
END:VEVENT
BEGIN:VEVENT
DTSTART;VALUE=DATE:20250430
DTEND;VALUE=DATE:20250504
DTSTAMP:20260421T173117
CREATED:20250224T163540Z
LAST-MODIFIED:20250224T163540Z
UID:4134-1745971200-1746316799@alparonpark.com
SUMMARY:Bradford County Holstein Sale
DESCRIPTION:
URL:https://alparonpark.com/event/bradford-county-holstein-sale/
LOCATION:Cattle Barn
END:VEVENT
BEGIN:VEVENT
DTSTART;VALUE=DATE:20250503
DTEND;VALUE=DATE:20250504
DTSTAMP:20260421T173117
CREATED:20250224T163436Z
LAST-MODIFIED:20250224T163436Z
UID:4132-1746230400-1746316799@alparonpark.com
SUMMARY:Bradford County Area friends of the NRA
DESCRIPTION:
URL:https://alparonpark.com/event/bradford-county-area-friends-of-the-nra/
LOCATION:Exhibit Halls 1&2
END:VEVENT
BEGIN:VEVENT
DTSTART;TZID=UTC:20250505T170000
DTEND;TZID=UTC:20250505T190000
DTSTAMP:20260421T173117
CREATED:20250407T162744Z
LAST-MODIFIED:20250407T162744Z
UID:4164-1746464400-1746471600@alparonpark.com
SUMMARY:JR Football Registration
DESCRIPTION:
URL:https://alparonpark.com/event/jr-football-registration-2/
LOCATION:Exhibit Hall 2
END:VEVENT
BEGIN:VEVENT
DTSTART;TZID=UTC:20250531T080000
DTEND;TZID=UTC:20250531T140000
DTSTAMP:20260421T173117
CREATED:20250224T163727Z
LAST-MODIFIED:20250224T163727Z
UID:4138-1748678400-1748700000@alparonpark.com
SUMMARY:YHEC Program
DESCRIPTION:
URL:https://alparonpark.com/event/yhec-program-6/
LOCATION:Gun Range
END:VEVENT
BEGIN:VEVENT
DTSTART;TZID=UTC:20250531T120000
DTEND;TZID=UTC:20250531T160000
DTSTAMP:20260421T173117
CREATED:20250224T163649Z
LAST-MODIFIED:20250224T163649Z
UID:4136-1748692800-1748707200@alparonpark.com
SUMMARY:Private Event
DESCRIPTION:
URL:https://alparonpark.com/event/private-event-4/
LOCATION:Exhibit Hall 2
END:VEVENT
BEGIN:VEVENT
DTSTART;VALUE=DATE:20250621
DTEND;VALUE=DATE:20250622
DTSTAMP:20260421T173117
CREATED:20250224T163802Z
LAST-MODIFIED:20250224T163802Z
UID:4140-1750464000-1750550399@alparonpark.com
SUMMARY:Private Event
DESCRIPTION:
URL:https://alparonpark.com/event/private-event-5/
LOCATION:Exhibit Hall 2
END:VEVENT
BEGIN:VEVENT
DTSTART;TZID=UTC:20250628T080000
DTEND;TZID=UTC:20250628T140000
DTSTAMP:20260421T173117
CREATED:20250224T163833Z
LAST-MODIFIED:20250224T163833Z
UID:4142-1751097600-1751119200@alparonpark.com
SUMMARY:YHEC Program
DESCRIPTION:
URL:https://alparonpark.com/event/yhec-program-7/
LOCATION:Gun Range
END:VEVENT
BEGIN:VEVENT
DTSTART;VALUE=DATE:20250720
DTEND;VALUE=DATE:20250727
DTSTAMP:20260421T173117
CREATED:20240826T163413Z
LAST-MODIFIED:20240826T163413Z
UID:3982-1752969600-1753574399@alparonpark.com
SUMMARY:Troy Fair
DESCRIPTION:
URL:https://alparonpark.com/event/troy-fair-8/
END:VEVENT
BEGIN:VEVENT
DTSTART;VALUE=DATE:20250820
DTEND;VALUE=DATE:20250822
DTSTAMP:20260421T173117
CREATED:20250224T163949Z
LAST-MODIFIED:20250224T163949Z
UID:4144-1755648000-1755820799@alparonpark.com
SUMMARY:Tioga/Bradford County Equipment Show
DESCRIPTION:
URL:https://alparonpark.com/event/tioga-bradford-county-equipment-show/
LOCATION:Exh Halls & Pavilion
END:VEVENT
BEGIN:VEVENT
DTSTART;VALUE=DATE:20250824
DTEND;VALUE=DATE:20250825
DTSTAMP:20260421T173117
CREATED:20250818T172550Z
LAST-MODIFIED:20250818T172550Z
UID:4213-1755993600-1756079999@alparonpark.com
SUMMARY:Troy Rod and Gun Club
DESCRIPTION:
URL:https://alparonpark.com/event/troy-rod-and-gun-club/
LOCATION:Gun Range
END:VEVENT
BEGIN:VEVENT
DTSTART;VALUE=DATE:20250830
DTEND;VALUE=DATE:20250831
DTSTAMP:20260421T173117
CREATED:20250818T172636Z
LAST-MODIFIED:20250818T172636Z
UID:4215-1756512000-1756598399@alparonpark.com
SUMMARY:Jr. Football
DESCRIPTION:
URL:https://alparonpark.com/event/jr-football/
END:VEVENT
BEGIN:VEVENT
DTSTART;TZID=UTC:20250903T180000
DTEND;TZID=UTC:20250903T180000
DTSTAMP:20260421T173117
CREATED:20250818T183205Z
LAST-MODIFIED:20250818T183205Z
UID:4247-1756922400-1756922400@alparonpark.com
SUMMARY:Middle School Football vs. S. Williamsport
DESCRIPTION:
URL:https://alparonpark.com/event/middle-school-football-vs-s-williamsport/
END:VEVENT
BEGIN:VEVENT
DTSTART;VALUE=DATE:20250905
DTEND;VALUE=DATE:20250906
DTSTAMP:20260421T173117
CREATED:20250915T203551Z
LAST-MODIFIED:20250915T203551Z
UID:4311-1757030400-1757116799@alparonpark.com
SUMMARY:Jr. Football
DESCRIPTION:
URL:https://alparonpark.com/event/jr-football-7/
END:VEVENT
BEGIN:VEVENT
DTSTART;VALUE=DATE:20250906
DTEND;VALUE=DATE:20250908
DTSTAMP:20260421T173117
CREATED:20250818T173045Z
LAST-MODIFIED:20250818T173045Z
UID:4221-1757116800-1757289599@alparonpark.com
SUMMARY:TAHA
DESCRIPTION:
URL:https://alparonpark.com/event/taha-5/
LOCATION:Horse Arena
END:VEVENT
BEGIN:VEVENT
DTSTART;TZID=UTC:20250908T180000
DTEND;TZID=UTC:20250908T180000
DTSTAMP:20260421T173117
CREATED:20250818T185314Z
LAST-MODIFIED:20250818T185314Z
UID:4258-1757354400-1757354400@alparonpark.com
SUMMARY:High School JV Football Vs. S. Williamsport
DESCRIPTION:
URL:https://alparonpark.com/event/high-school-jv-football-vs-s-williamsport/
END:VEVENT
BEGIN:VEVENT
DTSTART;TZID=UTC:20250913T180000
DTEND;TZID=UTC:20250913T193000
DTSTAMP:20260421T173117
CREATED:20250818T173240Z
LAST-MODIFIED:20250818T173240Z
UID:4223-1757786400-1757791800@alparonpark.com
SUMMARY:Strawberry Shortcake Event
DESCRIPTION:
URL:https://alparonpark.com/event/strawberry-shortcake-event/
LOCATION:Pavillion
END:VEVENT
BEGIN:VEVENT
DTSTART;TZID=UTC:20250915T180000
DTEND;TZID=UTC:20250915T180000
DTSTAMP:20260421T173117
CREATED:20250818T185414Z
LAST-MODIFIED:20250818T185414Z
UID:4260-1757959200-1757959200@alparonpark.com
SUMMARY:High School JV Football Vs. Athens
DESCRIPTION:
URL:https://alparonpark.com/event/high-school-jv-football-vs-athens/
END:VEVENT
BEGIN:VEVENT
DTSTART;TZID=UTC:20250917T180000
DTEND;TZID=UTC:20250917T180000
DTSTAMP:20260421T173117
CREATED:20250818T183242Z
LAST-MODIFIED:20250818T183242Z
UID:4249-1758132000-1758132000@alparonpark.com
SUMMARY:Middle School Football Vs. North Penn-Mansfield
DESCRIPTION:
URL:https://alparonpark.com/event/middle-school-football-vs-north-penn-mansfield/
END:VEVENT
BEGIN:VEVENT
DTSTART;VALUE=DATE:20250920
DTEND;VALUE=DATE:20250922
DTSTAMP:20260421T173117
CREATED:20250818T172928Z
LAST-MODIFIED:20250818T172928Z
UID:4217-1758326400-1758499199@alparonpark.com
SUMMARY:Heritage Museum Event
DESCRIPTION:
URL:https://alparonpark.com/event/heritage-museum-event/
END:VEVENT
END:VCALENDAR