BEGIN:VCALENDAR
VERSION:2.0
PRODID:-//Alparon Park - ECPv6.3.2//NONSGML v1.0//EN
CALSCALE:GREGORIAN
METHOD:PUBLISH
X-ORIGINAL-URL:https://alparonpark.com
X-WR-CALDESC:Events for Alparon Park
REFRESH-INTERVAL;VALUE=DURATION:PT1H
X-Robots-Tag:noindex
X-PUBLISHED-TTL:PT1H
BEGIN:VTIMEZONE
TZID:UTC
BEGIN:STANDARD
TZOFFSETFROM:+0000
TZOFFSETTO:+0000
TZNAME:UTC
DTSTART:20250101T000000
END:STANDARD
END:VTIMEZONE
BEGIN:VEVENT
DTSTART;VALUE=DATE:20251122
DTEND;VALUE=DATE:20251123
DTSTAMP:20260421T060249
CREATED:20250915T202949Z
LAST-MODIFIED:20250915T202949Z
UID:4307-1763769600-1763855999@alparonpark.com
SUMMARY:Bradford County Holstein Meeting
DESCRIPTION:
URL:https://alparonpark.com/event/bradford-county-holstein-meeting/
LOCATION:Exhibit Hall 2
END:VEVENT
BEGIN:VEVENT
DTSTART;VALUE=DATE:20251129
DTEND;VALUE=DATE:20251130
DTSTAMP:20260421T060249
CREATED:20250224T164051Z
LAST-MODIFIED:20250224T164051Z
UID:4146-1764374400-1764460799@alparonpark.com
SUMMARY:Private Event
DESCRIPTION:
URL:https://alparonpark.com/event/private-event-6/
LOCATION:Exhibit Hall 2
END:VEVENT
END:VCALENDAR