BEGIN:VCALENDAR
VERSION:2.0
PRODID:-//Alparon Park - ECPv6.3.2//NONSGML v1.0//EN
CALSCALE:GREGORIAN
METHOD:PUBLISH
X-WR-CALNAME:Alparon Park
X-ORIGINAL-URL:https://alparonpark.com
X-WR-CALDESC:Events for Alparon Park
REFRESH-INTERVAL;VALUE=DURATION:PT1H
X-Robots-Tag:noindex
X-PUBLISHED-TTL:PT1H
BEGIN:VTIMEZONE
TZID:UTC
BEGIN:STANDARD
TZOFFSETFROM:+0000
TZOFFSETTO:+0000
TZNAME:UTC
DTSTART:20220101T000000
END:STANDARD
TZID:America/New_York
BEGIN:DAYLIGHT
TZOFFSETFROM:-0500
TZOFFSETTO:-0400
TZNAME:EDT
DTSTART:20220313T070000
END:DAYLIGHT
BEGIN:STANDARD
TZOFFSETFROM:-0400
TZOFFSETTO:-0500
TZNAME:EST
DTSTART:20221106T060000
END:STANDARD
END:VTIMEZONE
BEGIN:VEVENT
DTSTART;TZID=UTC:20221109T100000
DTEND;TZID=UTC:20221109T160000
DTSTAMP:20260423T113441
CREATED:20220901T150435Z
LAST-MODIFIED:20220901T150435Z
UID:3239-1667988000-1668009600@alparonpark.com
SUMMARY:DFA Meeting
DESCRIPTION:
URL:https://alparonpark.com/event/dfa-meeting/
END:VEVENT
BEGIN:VEVENT
DTSTART;TZID=UTC:20221105T080000
DTEND;TZID=UTC:20221105T170000
DTSTAMP:20260423T113441
CREATED:20220707T134623Z
LAST-MODIFIED:20220707T134623Z
UID:3191-1667635200-1667667600@alparonpark.com
SUMMARY:Annual Garage Sale
DESCRIPTION:
URL:https://alparonpark.com/event/annual-garage-sale/
LOCATION:Exhibit Hall 2
END:VEVENT
BEGIN:VEVENT
DTSTART;TZID=UTC:20221028T190000
DTEND;TZID=UTC:20221028T190000
DTSTAMP:20260423T113441
CREATED:20220830T203926Z
LAST-MODIFIED:20220830T203926Z
UID:3217-1666983600-1666983600@alparonpark.com
SUMMARY:High School Football Game
DESCRIPTION:
URL:https://alparonpark.com/event/high-school-football-game-5/
LOCATION:Football Field
END:VEVENT
BEGIN:VEVENT
DTSTART;TZID=America/New_York:20221026T170000
DTEND;TZID=America/New_York:20221026T210000
DTSTAMP:20260423T113441
CREATED:20220215T190559Z
LAST-MODIFIED:20220215T210128Z
UID:3112-1666803600-1666818000@alparonpark.com
SUMMARY:Rod and Gun Open Shoot
DESCRIPTION:
URL:https://alparonpark.com/event/rod-and-gun-open-shoot-32/
END:VEVENT
BEGIN:VEVENT
DTSTART;TZID=UTC:20221026T080000
DTEND;TZID=UTC:20221026T170000
DTSTAMP:20260423T113441
CREATED:20220927T152519Z
LAST-MODIFIED:20220927T152519Z
UID:3322-1666771200-1666803600@alparonpark.com
SUMMARY:Bradford County Rural Health & Safety Day
DESCRIPTION:
URL:https://alparonpark.com/event/bradford-county-rural-health-safety-day/
LOCATION:Exhibit Halls 1&2
END:VEVENT
BEGIN:VEVENT
DTSTART;TZID=UTC:20221021T190000
DTEND;TZID=UTC:20221021T190000
DTSTAMP:20260423T113441
CREATED:20220830T203850Z
LAST-MODIFIED:20220830T203850Z
UID:3215-1666378800-1666378800@alparonpark.com
SUMMARY:High School Football Game
DESCRIPTION:
URL:https://alparonpark.com/event/high-school-football-game-4/
LOCATION:Football Field
END:VEVENT
BEGIN:VEVENT
DTSTART;TZID=UTC:20221019T170000
DTEND;TZID=UTC:20221019T210000
DTSTAMP:20260423T113441
CREATED:20220215T190542Z
LAST-MODIFIED:20220215T190542Z
UID:3110-1666198800-1666213200@alparonpark.com
SUMMARY:Rod and Gun Open Shoot
DESCRIPTION:
URL:https://alparonpark.com/event/rod-and-gun-open-shoot-31/
END:VEVENT
BEGIN:VEVENT
DTSTART;TZID=UTC:20221015T170000
DTEND;TZID=UTC:20221015T210000
DTSTAMP:20260423T113441
CREATED:20220707T161048Z
LAST-MODIFIED:20220707T161048Z
UID:3193-1665853200-1665867600@alparonpark.com
SUMMARY:Troy Lions Club Meeting
DESCRIPTION:
URL:https://alparonpark.com/event/troy-lions-club-meeting/
LOCATION:Exhibit Hall 2
END:VEVENT
BEGIN:VEVENT
DTSTART;TZID=UTC:20221015T111500
DTEND;TZID=UTC:20221015T111500
DTSTAMP:20260423T113441
CREATED:20220428T173537Z
LAST-MODIFIED:20220428T173537Z
UID:3159-1665832500-1665832500@alparonpark.com
SUMMARY:Junior Football Game
DESCRIPTION:
URL:https://alparonpark.com/event/junior-football-game-4/
LOCATION:Football Field
END:VEVENT
BEGIN:VEVENT
DTSTART;TZID=UTC:20221012T170000
DTEND;TZID=UTC:20221012T210000
DTSTAMP:20260423T113441
CREATED:20220215T190523Z
LAST-MODIFIED:20220215T190523Z
UID:3108-1665594000-1665608400@alparonpark.com
SUMMARY:Rod and Gun Open Shoot
DESCRIPTION:
URL:https://alparonpark.com/event/rod-and-gun-open-shoot-30/
END:VEVENT
BEGIN:VEVENT
DTSTART;TZID=UTC:20221009T140000
DTEND;TZID=UTC:20221009T170000
DTSTAMP:20260423T113441
CREATED:20220830T210038Z
LAST-MODIFIED:20220830T210038Z
UID:3234-1665324000-1665334800@alparonpark.com
SUMMARY:Private Party
DESCRIPTION:
URL:https://alparonpark.com/event/private-party/
LOCATION:Exhibit Hall 2
END:VEVENT
BEGIN:VEVENT
DTSTART;TZID=UTC:20221007T190000
DTEND;TZID=UTC:20221007T190000
DTSTAMP:20260423T113441
CREATED:20220830T203802Z
LAST-MODIFIED:20220830T203802Z
UID:3213-1665169200-1665169200@alparonpark.com
SUMMARY:High School Football Game
DESCRIPTION:
URL:https://alparonpark.com/event/high-school-football-game-3/
LOCATION:Football Field
END:VEVENT
BEGIN:VEVENT
DTSTART;TZID=UTC:20221006T170000
DTEND;TZID=UTC:20221006T170000
DTSTAMP:20260423T113441
CREATED:20220830T205742Z
LAST-MODIFIED:20220830T205930Z
UID:3232-1665075600-1665075600@alparonpark.com
SUMMARY:Middle School Football Game
DESCRIPTION:
URL:https://alparonpark.com/event/middle-school-football-game-4/
LOCATION:Football Field
END:VEVENT
BEGIN:VEVENT
DTSTART;TZID=UTC:20221006T080000
DTEND;TZID=UTC:20221006T140000
DTSTAMP:20260423T113441
CREATED:20220505T181317Z
LAST-MODIFIED:20220509T150404Z
UID:3161-1665043200-1665064800@alparonpark.com
SUMMARY:Bradford Co. Township Assn. Meeting
DESCRIPTION:
URL:https://alparonpark.com/event/bradford-co-township-assn-meeting/
LOCATION:Exhibit Halls 1&2
END:VEVENT
BEGIN:VEVENT
DTSTART;TZID=UTC:20221005T170000
DTEND;TZID=UTC:20221005T210000
DTSTAMP:20260423T113441
CREATED:20220215T190459Z
LAST-MODIFIED:20220215T190459Z
UID:3106-1664989200-1665003600@alparonpark.com
SUMMARY:Rod and Gun Open Shoot
DESCRIPTION:
URL:https://alparonpark.com/event/rod-and-gun-open-shoot-29/
END:VEVENT
BEGIN:VEVENT
DTSTART;TZID=UTC:20221003T180000
DTEND;TZID=UTC:20221003T180000
DTSTAMP:20260423T113441
CREATED:20220830T204932Z
LAST-MODIFIED:20220830T204932Z
UID:3223-1664820000-1664820000@alparonpark.com
SUMMARY:JV Football Game
DESCRIPTION:
URL:https://alparonpark.com/event/jv-football-game-3/
LOCATION:Football Field
END:VEVENT
BEGIN:VEVENT
DTSTART;TZID=UTC:20220928T170000
DTEND;TZID=UTC:20220928T210000
DTSTAMP:20260423T113441
CREATED:20220215T190435Z
LAST-MODIFIED:20220215T190435Z
UID:3104-1664384400-1664398800@alparonpark.com
SUMMARY:Rod and Gun Open Shoot
DESCRIPTION:
URL:https://alparonpark.com/event/rod-and-gun-open-shoot-28/
END:VEVENT
BEGIN:VEVENT
DTSTART;TZID=UTC:20220925T111500
DTEND;TZID=UTC:20220925T111500
DTSTAMP:20260423T113441
CREATED:20220428T173321Z
LAST-MODIFIED:20220428T173321Z
UID:3157-1664104500-1664104500@alparonpark.com
SUMMARY:Junior Football Game
DESCRIPTION:
URL:https://alparonpark.com/event/junior-football-game-3/
LOCATION:Football Field
END:VEVENT
BEGIN:VEVENT
DTSTART;TZID=UTC:20220925T080000
DTEND;TZID=UTC:20220925T170000
DTSTAMP:20260423T113441
CREATED:20220816T171319Z
LAST-MODIFIED:20220816T171319Z
UID:3201-1664092800-1664125200@alparonpark.com
SUMMARY:Rainbow Riders Game Athon
DESCRIPTION:
URL:https://alparonpark.com/event/rainbow-riders-game-athon/
LOCATION:Horse Arena
END:VEVENT
BEGIN:VEVENT
DTSTART;TZID=UTC:20220923T190000
DTEND;TZID=UTC:20220923T190000
DTSTAMP:20260423T113441
CREATED:20220830T203716Z
LAST-MODIFIED:20220830T203716Z
UID:3211-1663959600-1663959600@alparonpark.com
SUMMARY:High School Football Game
DESCRIPTION:
URL:https://alparonpark.com/event/high-school-football-game-2/
LOCATION:Football Field
END:VEVENT
BEGIN:VEVENT
DTSTART;TZID=UTC:20220922T180000
DTEND;TZID=UTC:20220922T180000
DTSTAMP:20260423T113441
CREATED:20220830T205650Z
LAST-MODIFIED:20220830T205650Z
UID:3230-1663869600-1663869600@alparonpark.com
SUMMARY:Middle School Football Game
DESCRIPTION:
URL:https://alparonpark.com/event/middle-school-football-game-3/
LOCATION:Football Field
END:VEVENT
BEGIN:VEVENT
DTSTART;TZID=UTC:20220922T080000
DTEND;TZID=UTC:20220922T160000
DTSTAMP:20260423T113441
CREATED:20220908T151648Z
LAST-MODIFIED:20220908T151720Z
UID:3258-1663833600-1663862400@alparonpark.com
SUMMARY:United Way Fund Raiser Thursday Sept 22 @ Pavilion
DESCRIPTION:
URL:https://alparonpark.com/event/united-way-fund-raiser-thursday-sept-22/
END:VEVENT
BEGIN:VEVENT
DTSTART;TZID=UTC:20220921T170000
DTEND;TZID=UTC:20220921T210000
DTSTAMP:20260423T113441
CREATED:20220215T190418Z
LAST-MODIFIED:20220215T190418Z
UID:3102-1663779600-1663794000@alparonpark.com
SUMMARY:Rod and Gun Open Shoot
DESCRIPTION:
URL:https://alparonpark.com/event/rod-and-gun-open-shoot-27/
END:VEVENT
BEGIN:VEVENT
DTSTART;TZID=UTC:20220919T180000
DTEND;TZID=UTC:20220919T180000
DTSTAMP:20260423T113441
CREATED:20220830T204752Z
LAST-MODIFIED:20220830T204752Z
UID:3221-1663610400-1663610400@alparonpark.com
SUMMARY:JV Football Game
DESCRIPTION:
URL:https://alparonpark.com/event/jv-football-game-2/
LOCATION:Football Field
END:VEVENT
BEGIN:VEVENT
DTSTART;VALUE=DATE:20220917
DTEND;VALUE=DATE:20220919
DTSTAMP:20260423T113441
CREATED:20220118T161327Z
LAST-MODIFIED:20220118T161327Z
UID:2995-1663372800-1663545599@alparonpark.com
SUMMARY:PA Heritage Event
DESCRIPTION:
URL:https://alparonpark.com/event/pa-heritage-event/
END:VEVENT
BEGIN:VEVENT
DTSTART;TZID=UTC:20220914T170000
DTEND;TZID=UTC:20220914T210000
DTSTAMP:20260423T113441
CREATED:20220215T190356Z
LAST-MODIFIED:20220215T190356Z
UID:3100-1663174800-1663189200@alparonpark.com
SUMMARY:Rod and Gun Open Shoot
DESCRIPTION:
URL:https://alparonpark.com/event/rod-and-gun-open-shoot-26/
END:VEVENT
BEGIN:VEVENT
DTSTART;TZID=UTC:20220911T111500
DTEND;TZID=UTC:20220911T111500
DTSTAMP:20260423T113441
CREATED:20220428T173118Z
LAST-MODIFIED:20220428T173118Z
UID:3155-1662894900-1662894900@alparonpark.com
SUMMARY:Junior Football Game
DESCRIPTION:
URL:https://alparonpark.com/event/junior-football-game-2/
LOCATION:Football Field
END:VEVENT
BEGIN:VEVENT
DTSTART;TZID=UTC:20220910T000000
DTEND;TZID=UTC:20220910T000000
DTSTAMP:20260423T113441
CREATED:20220908T151312Z
LAST-MODIFIED:20220908T151454Z
UID:3255-1662768000-1662768000@alparonpark.com
SUMMARY:Vic Chapman Memorial Sat Sept 10 at 12:00 Pavilion
DESCRIPTION:
URL:https://alparonpark.com/event/vic-chapman-memorial-1200-pavilion/
END:VEVENT
BEGIN:VEVENT
DTSTART;TZID=UTC:20220908T170000
DTEND;TZID=UTC:20220908T170000
DTSTAMP:20260423T113441
CREATED:20220830T205518Z
LAST-MODIFIED:20220830T205518Z
UID:3228-1662656400-1662656400@alparonpark.com
SUMMARY:Middle School Football Game
DESCRIPTION:
URL:https://alparonpark.com/event/middle-school-football-game-2/
LOCATION:Football Field
END:VEVENT
BEGIN:VEVENT
DTSTART;TZID=UTC:20220907T170000
DTEND;TZID=UTC:20220907T210000
DTSTAMP:20260423T113441
CREATED:20220215T190336Z
LAST-MODIFIED:20220215T190336Z
UID:3098-1662570000-1662584400@alparonpark.com
SUMMARY:Rod and Gun Open Shoot
DESCRIPTION:
URL:https://alparonpark.com/event/rod-and-gun-open-shoot-25/
END:VEVENT
END:VCALENDAR