BEGIN:VCALENDAR
VERSION:2.0
PRODID:-//Alparon Park - ECPv6.3.2//NONSGML v1.0//EN
CALSCALE:GREGORIAN
METHOD:PUBLISH
X-WR-CALNAME:Alparon Park
X-ORIGINAL-URL:https://alparonpark.com
X-WR-CALDESC:Events for Alparon Park
REFRESH-INTERVAL;VALUE=DURATION:PT1H
X-Robots-Tag:noindex
X-PUBLISHED-TTL:PT1H
BEGIN:VTIMEZONE
TZID:UTC
BEGIN:STANDARD
TZOFFSETFROM:+0000
TZOFFSETTO:+0000
TZNAME:UTC
DTSTART:20240101T000000
END:STANDARD
END:VTIMEZONE
BEGIN:VEVENT
DTSTART;TZID=UTC:20240722T080000
DTEND;TZID=UTC:20240722T230000
DTSTAMP:20260421T230946
CREATED:20240528T163000Z
LAST-MODIFIED:20240528T163000Z
UID:3906-1721635200-1721689200@alparonpark.com
SUMMARY:TROY FAIR
DESCRIPTION:
URL:https://alparonpark.com/event/troy-fair-2/
LOCATION:Alparon Park
END:VEVENT
BEGIN:VEVENT
DTSTART;TZID=UTC:20240716T080000
DTEND;TZID=UTC:20240716T170000
DTSTAMP:20260421T230946
CREATED:20240125T231203Z
LAST-MODIFIED:20240125T231203Z
UID:3814-1721116800-1721149200@alparonpark.com
SUMMARY:Repsol Safety Meeting
DESCRIPTION:
URL:https://alparonpark.com/event/repsol-safety-meeting/
LOCATION:Exhibit Hall 2
END:VEVENT
BEGIN:VEVENT
DTSTART;TZID=UTC:20240710T080000
DTEND;TZID=UTC:20240710T170000
DTSTAMP:20260421T230946
CREATED:20240206T155752Z
LAST-MODIFIED:20240206T155752Z
UID:3829-1720598400-1720630800@alparonpark.com
SUMMARY:Chamber of Commerce
DESCRIPTION:
URL:https://alparonpark.com/event/chamber-of-commerce/
LOCATION:Pavillion
END:VEVENT
BEGIN:VEVENT
DTSTART;TZID=UTC:20240707T080000
DTEND;TZID=UTC:20240707T170000
DTSTAMP:20260421T230946
CREATED:20240528T162527Z
LAST-MODIFIED:20240528T162527Z
UID:3904-1720339200-1720371600@alparonpark.com
SUMMARY:TAHA
DESCRIPTION:
URL:https://alparonpark.com/event/taha-4/
LOCATION:Horse Arena
END:VEVENT
BEGIN:VEVENT
DTSTART;TZID=UTC:20240706T080000
DTEND;TZID=UTC:20240706T170000
DTSTAMP:20260421T230946
CREATED:20240528T162438Z
LAST-MODIFIED:20240528T162438Z
UID:3902-1720252800-1720285200@alparonpark.com
SUMMARY:TAHA
DESCRIPTION:
URL:https://alparonpark.com/event/taha-3/
LOCATION:Horse Arena
END:VEVENT
BEGIN:VEVENT
DTSTART;TZID=UTC:20240623T080000
DTEND;TZID=UTC:20240623T170000
DTSTAMP:20260421T230946
CREATED:20240528T162348Z
LAST-MODIFIED:20240528T162348Z
UID:3900-1719129600-1719162000@alparonpark.com
SUMMARY:TAHA
DESCRIPTION:
URL:https://alparonpark.com/event/taha-2/
LOCATION:Horse Arena
END:VEVENT
BEGIN:VEVENT
DTSTART;TZID=UTC:20240623T080000
DTEND;TZID=UTC:20240623T170000
DTSTAMP:20260421T230946
CREATED:20240206T153632Z
LAST-MODIFIED:20240206T153632Z
UID:3823-1719129600-1719162000@alparonpark.com
SUMMARY:Wedding Clean up
DESCRIPTION:
URL:https://alparonpark.com/event/wedding-clean-up-6/
LOCATION:Exhibit Hall 2
END:VEVENT
BEGIN:VEVENT
DTSTART;TZID=UTC:20240622T080000
DTEND;TZID=UTC:20240622T170000
DTSTAMP:20260421T230946
CREATED:20240528T162319Z
LAST-MODIFIED:20240528T162319Z
UID:3898-1719043200-1719075600@alparonpark.com
SUMMARY:TAHA
DESCRIPTION:
URL:https://alparonpark.com/event/taha/
LOCATION:Horse Arena
END:VEVENT
BEGIN:VEVENT
DTSTART;TZID=UTC:20240622T080000
DTEND;TZID=UTC:20240622T170000
DTSTAMP:20260421T230946
CREATED:20240206T153602Z
LAST-MODIFIED:20240206T153602Z
UID:3821-1719043200-1719075600@alparonpark.com
SUMMARY:Wedding
DESCRIPTION:
URL:https://alparonpark.com/event/wedding-6/
LOCATION:Exhibit Hall 2
END:VEVENT
BEGIN:VEVENT
DTSTART;TZID=UTC:20240621T080000
DTEND;TZID=UTC:20240621T170000
DTSTAMP:20260421T230946
CREATED:20240206T153528Z
LAST-MODIFIED:20240206T153528Z
UID:3819-1718956800-1718989200@alparonpark.com
SUMMARY:Wedding Set Up
DESCRIPTION:
URL:https://alparonpark.com/event/wedding-set-up-5/
LOCATION:Exhibit Hall 2
END:VEVENT
BEGIN:VEVENT
DTSTART;TZID=UTC:20240620T180000
DTEND;TZID=UTC:20240620T200000
DTSTAMP:20260421T230946
CREATED:20231128T212352Z
LAST-MODIFIED:20231128T212352Z
UID:3736-1718906400-1718913600@alparonpark.com
SUMMARY:YHEC practice
DESCRIPTION:
URL:https://alparonpark.com/event/yhec-practice-41/
LOCATION:Gun Range
END:VEVENT
BEGIN:VEVENT
DTSTART;TZID=UTC:20240618T180000
DTEND;TZID=UTC:20240618T200000
DTSTAMP:20260421T230946
CREATED:20231128T212319Z
LAST-MODIFIED:20231128T212319Z
UID:3734-1718733600-1718740800@alparonpark.com
SUMMARY:YHEC practice
DESCRIPTION:
URL:https://alparonpark.com/event/yhec-practice-40/
LOCATION:Gun Range
END:VEVENT
BEGIN:VEVENT
DTSTART;TZID=UTC:20240617T180000
DTEND;TZID=UTC:20240617T200000
DTSTAMP:20260421T230946
CREATED:20231128T212248Z
LAST-MODIFIED:20231128T212248Z
UID:3732-1718647200-1718654400@alparonpark.com
SUMMARY:YHEC practice
DESCRIPTION:
URL:https://alparonpark.com/event/yhec-practice-39/
LOCATION:Gun Range
END:VEVENT
BEGIN:VEVENT
DTSTART;TZID=UTC:20240613T180000
DTEND;TZID=UTC:20240613T200000
DTSTAMP:20260421T230946
CREATED:20231128T212216Z
LAST-MODIFIED:20231128T212216Z
UID:3730-1718301600-1718308800@alparonpark.com
SUMMARY:YHEC practice
DESCRIPTION:
URL:https://alparonpark.com/event/yhec-practice-38/
LOCATION:Gun Range
END:VEVENT
BEGIN:VEVENT
DTSTART;TZID=UTC:20240611T180000
DTEND;TZID=UTC:20240611T200000
DTSTAMP:20260421T230946
CREATED:20231128T212134Z
LAST-MODIFIED:20231128T212134Z
UID:3728-1718128800-1718136000@alparonpark.com
SUMMARY:YHEC practice
DESCRIPTION:
URL:https://alparonpark.com/event/yhec-practice-37/
LOCATION:Gun Range
END:VEVENT
BEGIN:VEVENT
DTSTART;TZID=UTC:20240610T180000
DTEND;TZID=UTC:20240610T200000
DTSTAMP:20260421T230946
CREATED:20231128T212054Z
LAST-MODIFIED:20231128T212054Z
UID:3726-1718042400-1718049600@alparonpark.com
SUMMARY:YHEC practice
DESCRIPTION:
URL:https://alparonpark.com/event/yhec-practice-36/
LOCATION:Gun Range
END:VEVENT
BEGIN:VEVENT
DTSTART;TZID=UTC:20240608T080000
DTEND;TZID=UTC:20240608T140000
DTSTAMP:20260421T230946
CREATED:20231128T212912Z
LAST-MODIFIED:20231128T212912Z
UID:3746-1717833600-1717855200@alparonpark.com
SUMMARY:YHEC Shoot
DESCRIPTION:
URL:https://alparonpark.com/event/yhec-shoot-6/
LOCATION:Gun Range
END:VEVENT
BEGIN:VEVENT
DTSTART;TZID=UTC:20240606T180000
DTEND;TZID=UTC:20240606T200000
DTSTAMP:20260421T230946
CREATED:20231128T211641Z
LAST-MODIFIED:20231128T211707Z
UID:3722-1717696800-1717704000@alparonpark.com
SUMMARY:YHEC practice
DESCRIPTION:
URL:https://alparonpark.com/event/yhec-practice-34/
LOCATION:Gun Range
END:VEVENT
BEGIN:VEVENT
DTSTART;TZID=UTC:20240605T080000
DTEND;TZID=UTC:20240605T120000
DTSTAMP:20260421T230946
CREATED:20240528T160744Z
LAST-MODIFIED:20240528T160744Z
UID:3894-1717574400-1717588800@alparonpark.com
SUMMARY:CHOP drive-thru
DESCRIPTION:
URL:https://alparonpark.com/event/chop-drive-thru/
LOCATION:Pavillion
END:VEVENT
BEGIN:VEVENT
DTSTART;TZID=UTC:20240604T180000
DTEND;TZID=UTC:20240604T200000
DTSTAMP:20260421T230946
CREATED:20231128T211735Z
LAST-MODIFIED:20231128T211735Z
UID:3724-1717524000-1717531200@alparonpark.com
SUMMARY:YHEC practice
DESCRIPTION:
URL:https://alparonpark.com/event/yhec-practice-35/
LOCATION:Gun Range
END:VEVENT
BEGIN:VEVENT
DTSTART;TZID=UTC:20240604T180000
DTEND;TZID=UTC:20240604T180000
DTSTAMP:20260421T230946
CREATED:20240528T155956Z
LAST-MODIFIED:20240528T155956Z
UID:3890-1717524000-1717524000@alparonpark.com
SUMMARY:Scouting of America/Boy Scouts
DESCRIPTION:
URL:https://alparonpark.com/event/scouting-of-america-boy-scouts/
LOCATION:Pavillion
END:VEVENT
BEGIN:VEVENT
DTSTART;TZID=UTC:20240603T190000
DTEND;TZID=UTC:20240603T200000
DTSTAMP:20260421T230946
CREATED:20240312T150259Z
LAST-MODIFIED:20240312T150259Z
UID:3849-1717441200-1717444800@alparonpark.com
SUMMARY:Boy Scouts Meeting
DESCRIPTION:
URL:https://alparonpark.com/event/boy-scouts-meeting/
LOCATION:Pavillion
END:VEVENT
BEGIN:VEVENT
DTSTART;TZID=UTC:20240603T180000
DTEND;TZID=UTC:20240603T200000
DTSTAMP:20260421T230946
CREATED:20231128T211542Z
LAST-MODIFIED:20231128T211542Z
UID:3720-1717437600-1717444800@alparonpark.com
SUMMARY:YHEC practice
DESCRIPTION:
URL:https://alparonpark.com/event/yhec-practice-33/
LOCATION:Gun Range
END:VEVENT
BEGIN:VEVENT
DTSTART;TZID=UTC:20240603T080000
DTEND;TZID=UTC:20240603T170000
DTSTAMP:20260421T230946
CREATED:20240528T162044Z
LAST-MODIFIED:20240528T162044Z
UID:3896-1717401600-1717434000@alparonpark.com
SUMMARY:CPR Class
DESCRIPTION:
URL:https://alparonpark.com/event/cpr-class/
LOCATION:Exhibit Hall 2
END:VEVENT
BEGIN:VEVENT
DTSTART;TZID=UTC:20240602T080000
DTEND;TZID=UTC:20240602T140000
DTSTAMP:20260421T230946
CREATED:20240402T155630Z
LAST-MODIFIED:20240402T155630Z
UID:3869-1717315200-1717336800@alparonpark.com
SUMMARY:NT Trap League Shoot
DESCRIPTION:
URL:https://alparonpark.com/event/nt-trap-league-shoot/
LOCATION:Gun Range
END:VEVENT
BEGIN:VEVENT
DTSTART;TZID=UTC:20240601T080000
DTEND;TZID=UTC:20240601T140000
DTSTAMP:20260421T230946
CREATED:20231128T212842Z
LAST-MODIFIED:20231128T212842Z
UID:3744-1717228800-1717250400@alparonpark.com
SUMMARY:YHEC Shoot
DESCRIPTION:
URL:https://alparonpark.com/event/yhec-shoot-5/
LOCATION:Gun Range
END:VEVENT
BEGIN:VEVENT
DTSTART;TZID=UTC:20240530T180000
DTEND;TZID=UTC:20240530T200000
DTSTAMP:20260421T230946
CREATED:20231128T211511Z
LAST-MODIFIED:20231128T211511Z
UID:3718-1717092000-1717099200@alparonpark.com
SUMMARY:YHEC practice
DESCRIPTION:
URL:https://alparonpark.com/event/yhec-practice-32/
LOCATION:Gun Range
END:VEVENT
BEGIN:VEVENT
DTSTART;TZID=UTC:20240529T090000
DTEND;TZID=UTC:20240529T120000
DTSTAMP:20260421T230946
CREATED:20240405T135545Z
LAST-MODIFIED:20240405T135545Z
UID:3873-1716973200-1716984000@alparonpark.com
SUMMARY:Emergency Management Drill
DESCRIPTION:
URL:https://alparonpark.com/event/emergency-management-drill/
LOCATION:Alparon Park
END:VEVENT
BEGIN:VEVENT
DTSTART;TZID=UTC:20240528T180000
DTEND;TZID=UTC:20240528T200000
DTSTAMP:20260421T230946
CREATED:20231128T211421Z
LAST-MODIFIED:20231128T211421Z
UID:3716-1716919200-1716926400@alparonpark.com
SUMMARY:YHEC practice
DESCRIPTION:
URL:https://alparonpark.com/event/yhec-practice-31/
LOCATION:Gun Range
END:VEVENT
BEGIN:VEVENT
DTSTART;TZID=UTC:20240527T180000
DTEND;TZID=UTC:20240527T200000
DTSTAMP:20260421T230946
CREATED:20231128T200919Z
LAST-MODIFIED:20231128T200919Z
UID:3714-1716832800-1716840000@alparonpark.com
SUMMARY:YHEC practice
DESCRIPTION:
URL:https://alparonpark.com/event/yhec-practice-30/
LOCATION:Gun Range
END:VEVENT
END:VCALENDAR