BEGIN:VCALENDAR
VERSION:2.0
PRODID:-//Alparon Park - ECPv6.3.2//NONSGML v1.0//EN
CALSCALE:GREGORIAN
METHOD:PUBLISH
X-WR-CALNAME:Alparon Park
X-ORIGINAL-URL:https://alparonpark.com
X-WR-CALDESC:Events for Alparon Park
REFRESH-INTERVAL;VALUE=DURATION:PT1H
X-Robots-Tag:noindex
X-PUBLISHED-TTL:PT1H
BEGIN:VTIMEZONE
TZID:UTC
BEGIN:STANDARD
TZOFFSETFROM:+0000
TZOFFSETTO:+0000
TZNAME:UTC
DTSTART:20230101T000000
END:STANDARD
END:VTIMEZONE
BEGIN:VEVENT
DTSTART;TZID=UTC:20231013T080000
DTEND;TZID=UTC:20231013T170000
DTSTAMP:20260422T214757
CREATED:20230606T150110Z
LAST-MODIFIED:20230606T150110Z
UID:3539-1697184000-1697216400@alparonpark.com
SUMMARY:Varsity Football
DESCRIPTION:
URL:https://alparonpark.com/event/varsity-football-5/
LOCATION:Football Field
END:VEVENT
BEGIN:VEVENT
DTSTART;TZID=UTC:20231009T180000
DTEND;TZID=UTC:20231009T180000
DTSTAMP:20260422T214757
CREATED:20230606T144404Z
LAST-MODIFIED:20230606T144404Z
UID:3525-1696874400-1696874400@alparonpark.com
SUMMARY:JV Football
DESCRIPTION:
URL:https://alparonpark.com/event/jv-football-3/
LOCATION:Football Field
END:VEVENT
BEGIN:VEVENT
DTSTART;TZID=UTC:20231005T080000
DTEND;TZID=UTC:20231005T170000
DTSTAMP:20260422T214757
CREATED:20230822T155956Z
LAST-MODIFIED:20230822T155956Z
UID:3589-1696492800-1696525200@alparonpark.com
SUMMARY:Township Officers Meeting
DESCRIPTION:
URL:https://alparonpark.com/event/township-officers-meeting/
LOCATION:Exhibit Halls 1&2
END:VEVENT
BEGIN:VEVENT
DTSTART;TZID=UTC:20230930T093000
DTEND;TZID=UTC:20230930T093000
DTSTAMP:20260422T214757
CREATED:20230606T143524Z
LAST-MODIFIED:20230606T143524Z
UID:3517-1696066200-1696066200@alparonpark.com
SUMMARY:Youth Football
DESCRIPTION:
URL:https://alparonpark.com/event/youth-football-3/
LOCATION:Football Field
END:VEVENT
BEGIN:VEVENT
DTSTART;TZID=UTC:20230929T193000
DTEND;TZID=UTC:20230929T193000
DTSTAMP:20260422T214757
CREATED:20230606T150028Z
LAST-MODIFIED:20230606T150028Z
UID:3537-1696015800-1696015800@alparonpark.com
SUMMARY:Varsity Football
DESCRIPTION:
URL:https://alparonpark.com/event/varsity-football-4/
LOCATION:Football Field
END:VEVENT
BEGIN:VEVENT
DTSTART;TZID=UTC:20230925T180000
DTEND;TZID=UTC:20230925T180000
DTSTAMP:20260422T214757
CREATED:20230606T144304Z
LAST-MODIFIED:20230606T144304Z
UID:3523-1695664800-1695664800@alparonpark.com
SUMMARY:JV Football
DESCRIPTION:
URL:https://alparonpark.com/event/jv-football-2/
LOCATION:Football Field
END:VEVENT
BEGIN:VEVENT
DTSTART;TZID=UTC:20230924T060000
DTEND;TZID=UTC:20230924T170000
DTSTAMP:20260422T214757
CREATED:20230314T182503Z
LAST-MODIFIED:20230314T182503Z
UID:3442-1695535200-1695574800@alparonpark.com
SUMMARY:Rainbow Riders Game A Thon
DESCRIPTION:
URL:https://alparonpark.com/event/rainbow-riders-game-a-thon/
LOCATION:Horse Arena
END:VEVENT
BEGIN:VEVENT
DTSTART;TZID=UTC:20230916T170000
DTEND;TZID=UTC:20230916T220000
DTSTAMP:20260422T214757
CREATED:20221020T171203Z
LAST-MODIFIED:20221020T171256Z
UID:3342-1694883600-1694901600@alparonpark.com
SUMMARY:Bradford County Deer & Bear Banquet
DESCRIPTION:
URL:https://alparonpark.com/event/bradford-county-deer-bear-banquet-2/
LOCATION:Exhibit Halls 1&2
END:VEVENT
BEGIN:VEVENT
DTSTART;VALUE=DATE:20230916
DTEND;VALUE=DATE:20230918
DTSTAMP:20260422T214757
CREATED:20221020T170859Z
LAST-MODIFIED:20221020T170859Z
UID:3339-1694822400-1694995199@alparonpark.com
SUMMARY:PA Heritage Event
DESCRIPTION:
URL:https://alparonpark.com/event/pa-heritage-event-2/
LOCATION:Alparon Park
END:VEVENT
BEGIN:VEVENT
DTSTART;TZID=UTC:20230915T190000
DTEND;TZID=UTC:20230915T190000
DTSTAMP:20260422T214757
CREATED:20230606T145801Z
LAST-MODIFIED:20230606T145801Z
UID:3535-1694804400-1694804400@alparonpark.com
SUMMARY:Varsity Football
DESCRIPTION:
URL:https://alparonpark.com/event/varsity-football-3/
LOCATION:Football Field
END:VEVENT
BEGIN:VEVENT
DTSTART;TZID=UTC:20230910T080000
DTEND;TZID=UTC:20230910T170000
DTSTAMP:20260422T214757
CREATED:20230406T152636Z
LAST-MODIFIED:20230406T152636Z
UID:3499-1694332800-1694365200@alparonpark.com
SUMMARY:TAHA Horse Show
DESCRIPTION:
URL:https://alparonpark.com/event/taha-horse-show-8/
LOCATION:Horse Arena
END:VEVENT
BEGIN:VEVENT
DTSTART;TZID=UTC:20230909T093000
DTEND;TZID=UTC:20230909T093000
DTSTAMP:20260422T214757
CREATED:20230606T143317Z
LAST-MODIFIED:20230606T143317Z
UID:3515-1694251800-1694251800@alparonpark.com
SUMMARY:Youth Football
DESCRIPTION:
URL:https://alparonpark.com/event/youth-football-2/
LOCATION:Football Field
END:VEVENT
BEGIN:VEVENT
DTSTART;TZID=UTC:20230909T090000
DTEND;TZID=UTC:20230909T140000
DTSTAMP:20260422T214757
CREATED:20230117T184914Z
LAST-MODIFIED:20230117T184914Z
UID:3391-1694250000-1694268000@alparonpark.com
SUMMARY:Junior Shooters
DESCRIPTION:
URL:https://alparonpark.com/event/junior-shooters-5/
LOCATION:Gun Range
END:VEVENT
BEGIN:VEVENT
DTSTART;TZID=UTC:20230909T080000
DTEND;TZID=UTC:20230909T170000
DTSTAMP:20260422T214757
CREATED:20230406T152603Z
LAST-MODIFIED:20230406T152603Z
UID:3497-1694246400-1694278800@alparonpark.com
SUMMARY:TAHA Horse Show
DESCRIPTION:
URL:https://alparonpark.com/event/taha-horse-show-7/
LOCATION:Horse Arena
END:VEVENT
BEGIN:VEVENT
DTSTART;TZID=UTC:20230908T190000
DTEND;TZID=UTC:20230908T190000
DTSTAMP:20260422T214757
CREATED:20230606T145543Z
LAST-MODIFIED:20230606T145543Z
UID:3533-1694199600-1694199600@alparonpark.com
SUMMARY:Varsity Football
DESCRIPTION:
URL:https://alparonpark.com/event/varsity-football-2/
LOCATION:Football Field
END:VEVENT
BEGIN:VEVENT
DTSTART;TZID=UTC:20230904T180000
DTEND;TZID=UTC:20230904T180000
DTSTAMP:20260422T214757
CREATED:20230606T144148Z
LAST-MODIFIED:20230606T144148Z
UID:3521-1693850400-1693850400@alparonpark.com
SUMMARY:JV Football
DESCRIPTION:
URL:https://alparonpark.com/event/jv-football/
LOCATION:Football Field
END:VEVENT
BEGIN:VEVENT
DTSTART;TZID=UTC:20230828T180000
DTEND;TZID=UTC:20230828T180000
DTSTAMP:20260422T214757
CREATED:20230606T144058Z
LAST-MODIFIED:20230606T144058Z
UID:3519-1693245600-1693245600@alparonpark.com
SUMMARY:JV Football Game
DESCRIPTION:
URL:https://alparonpark.com/event/jv-football-game-4/
LOCATION:Football Field
END:VEVENT
BEGIN:VEVENT
DTSTART;TZID=UTC:20230826T190000
DTEND;TZID=UTC:20230826T190000
DTSTAMP:20260422T214757
CREATED:20230606T145229Z
LAST-MODIFIED:20230606T145229Z
UID:3531-1693076400-1693076400@alparonpark.com
SUMMARY:Varsity Football
DESCRIPTION:
URL:https://alparonpark.com/event/varsity-football/
LOCATION:Football Field
END:VEVENT
BEGIN:VEVENT
DTSTART;TZID=UTC:20230826T093000
DTEND;TZID=UTC:20230826T093000
DTSTAMP:20260422T214757
CREATED:20230606T143209Z
LAST-MODIFIED:20230606T143209Z
UID:3513-1693042200-1693042200@alparonpark.com
SUMMARY:Youth Football
DESCRIPTION:
URL:https://alparonpark.com/event/youth-football/
LOCATION:Football Field
END:VEVENT
BEGIN:VEVENT
DTSTART;TZID=UTC:20230824T090000
DTEND;TZID=UTC:20230824T130000
DTSTAMP:20260422T214757
CREATED:20230303T164531Z
LAST-MODIFIED:20230303T164531Z
UID:3433-1692867600-1692882000@alparonpark.com
SUMMARY:Bradford Tioga Equipment Show
DESCRIPTION:Exhibit Halls 1 and 2\, Lower Meadow\, Pavilion
URL:https://alparonpark.com/event/bradford-tioga-equipment-show/
END:VEVENT
BEGIN:VEVENT
DTSTART;TZID=UTC:20230823T080000
DTEND;TZID=UTC:20230823T170000
DTSTAMP:20260422T214757
CREATED:20230303T164424Z
LAST-MODIFIED:20230303T164424Z
UID:3431-1692777600-1692810000@alparonpark.com
SUMMARY:Set up for Equipment Show
DESCRIPTION:Exhibit Halls 1 and 2\, Lower Meadow\, Pavilion
URL:https://alparonpark.com/event/set-up-for-equipment-show/
LOCATION:Exhibit Halls 1&2
END:VEVENT
BEGIN:VEVENT
DTSTART;TZID=UTC:20230812T130000
DTEND;TZID=UTC:20230812T130000
DTSTAMP:20260422T214757
CREATED:20230706T133657Z
LAST-MODIFIED:20230706T133657Z
UID:3568-1691845200-1691845200@alparonpark.com
SUMMARY:Crossfit Ravine - Beer Mile
DESCRIPTION:
URL:https://alparonpark.com/event/crossfit-ravine-beer-mile/
LOCATION:Sheep Barn and Track
END:VEVENT
BEGIN:VEVENT
DTSTART;TZID=UTC:20230811T080000
DTEND;TZID=UTC:20230811T170000
DTSTAMP:20260422T214757
CREATED:20230218T004434Z
LAST-MODIFIED:20230218T004434Z
UID:3424-1691740800-1691773200@alparonpark.com
SUMMARY:United Way Fundraiser
DESCRIPTION:
URL:https://alparonpark.com/event/united-way-fundraiser/
LOCATION:Pavillion
END:VEVENT
BEGIN:VEVENT
DTSTART;TZID=UTC:20230725T080000
DTEND;TZID=UTC:20230730T230000
DTSTAMP:20260422T214757
CREATED:20221020T165819Z
LAST-MODIFIED:20221020T165819Z
UID:3337-1690272000-1690758000@alparonpark.com
SUMMARY:147th Troy Fair
DESCRIPTION:Largest event in Bradford County! \nRides\, Games\, Food\, Entertainment\, Rosaire’s Pig Races\, TJ Hill Magician\, Musical Entertainment\, Dennis Beach Wood Carver\, Sportsman’s Show\, Large Antique Tractor Display\, Agricultural displays and shows\,  Grandstand shows- Truck pulls\, Tractor Pulls\, National Known Act in Concert (TBA)\, Bullride Mania\, and Demo Derbies\, plus so much more! \nFollow and like us on Troy Fair Facebook and Instagram
URL:https://alparonpark.com/event/147th-troy-fair/
LOCATION:Alparon Park
END:VEVENT
BEGIN:VEVENT
DTSTART;TZID=UTC:20230716T080000
DTEND;TZID=UTC:20230716T170000
DTSTAMP:20260422T214757
CREATED:20230406T152515Z
LAST-MODIFIED:20230406T152515Z
UID:3495-1689494400-1689526800@alparonpark.com
SUMMARY:TAHA Horse Show
DESCRIPTION:
URL:https://alparonpark.com/event/taha-horse-show-6/
LOCATION:Horse Arena
END:VEVENT
BEGIN:VEVENT
DTSTART;TZID=UTC:20230716T080000
DTEND;TZID=UTC:20230716T130000
DTSTAMP:20260422T214757
CREATED:20230314T171731Z
LAST-MODIFIED:20230314T171731Z
UID:3440-1689494400-1689512400@alparonpark.com
SUMMARY:Northern Tier Trap League
DESCRIPTION:
URL:https://alparonpark.com/event/northern-tier-trap-league-2/
LOCATION:Gun Range
END:VEVENT
BEGIN:VEVENT
DTSTART;TZID=UTC:20230715T080000
DTEND;TZID=UTC:20230715T170000
DTSTAMP:20260422T214757
CREATED:20230406T152424Z
LAST-MODIFIED:20230406T152424Z
UID:3493-1689408000-1689440400@alparonpark.com
SUMMARY:TAHA Horse Show
DESCRIPTION:
URL:https://alparonpark.com/event/taha-horse-show-5/
LOCATION:Horse Arena
END:VEVENT
BEGIN:VEVENT
DTSTART;VALUE=DATE:20230715
DTEND;VALUE=DATE:20230716
DTSTAMP:20260422T214757
CREATED:20230117T183228Z
LAST-MODIFIED:20230117T183228Z
UID:3381-1689379200-1689465599@alparonpark.com
SUMMARY:Roundup Event
DESCRIPTION:
URL:https://alparonpark.com/event/roundup-event/
LOCATION:4-H Bldg
END:VEVENT
BEGIN:VEVENT
DTSTART;TZID=UTC:20230712T170000
DTEND;TZID=UTC:20230712T170000
DTSTAMP:20260422T214757
CREATED:20230124T181447Z
LAST-MODIFIED:20230217T220239Z
UID:3409-1689181200-1689181200@alparonpark.com
SUMMARY:Troy Chamber of Commerce Mixer
DESCRIPTION:
URL:https://alparonpark.com/event/troy-chamber-of-commerce-mixer/
LOCATION:Exhibit Hall 2
END:VEVENT
BEGIN:VEVENT
DTSTART;TZID=UTC:20230708T080000
DTEND;TZID=UTC:20230708T170000
DTSTAMP:20260422T214757
CREATED:20230406T151744Z
LAST-MODIFIED:20230406T151744Z
UID:3481-1688803200-1688835600@alparonpark.com
SUMMARY:Wiggle Give Away
DESCRIPTION:
URL:https://alparonpark.com/event/wiggle-give-away/
LOCATION:Pavillion
END:VEVENT
END:VCALENDAR