BEGIN:VCALENDAR
VERSION:2.0
PRODID:-//Alparon Park - ECPv6.3.2//NONSGML v1.0//EN
CALSCALE:GREGORIAN
METHOD:PUBLISH
X-WR-CALNAME:Alparon Park
X-ORIGINAL-URL:https://alparonpark.com
X-WR-CALDESC:Events for Alparon Park
REFRESH-INTERVAL;VALUE=DURATION:PT1H
X-Robots-Tag:noindex
X-PUBLISHED-TTL:PT1H
BEGIN:VTIMEZONE
TZID:UTC
BEGIN:STANDARD
TZOFFSETFROM:+0000
TZOFFSETTO:+0000
TZNAME:UTC
DTSTART:20220101T000000
END:STANDARD
END:VTIMEZONE
BEGIN:VEVENT
DTSTART;TZID=UTC:20220910T000000
DTEND;TZID=UTC:20220910T000000
DTSTAMP:20260423T114340
CREATED:20220908T151312Z
LAST-MODIFIED:20220908T151454Z
UID:3255-1662768000-1662768000@alparonpark.com
SUMMARY:Vic Chapman Memorial Sat Sept 10 at 12:00 Pavilion
DESCRIPTION:
URL:https://alparonpark.com/event/vic-chapman-memorial-1200-pavilion/
END:VEVENT
BEGIN:VEVENT
DTSTART;TZID=UTC:20220908T170000
DTEND;TZID=UTC:20220908T170000
DTSTAMP:20260423T114340
CREATED:20220830T205518Z
LAST-MODIFIED:20220830T205518Z
UID:3228-1662656400-1662656400@alparonpark.com
SUMMARY:Middle School Football Game
DESCRIPTION:
URL:https://alparonpark.com/event/middle-school-football-game-2/
LOCATION:Football Field
END:VEVENT
BEGIN:VEVENT
DTSTART;TZID=UTC:20220907T170000
DTEND;TZID=UTC:20220907T210000
DTSTAMP:20260423T114340
CREATED:20220215T190336Z
LAST-MODIFIED:20220215T190336Z
UID:3098-1662570000-1662584400@alparonpark.com
SUMMARY:Rod and Gun Open Shoot
DESCRIPTION:
URL:https://alparonpark.com/event/rod-and-gun-open-shoot-25/
END:VEVENT
BEGIN:VEVENT
DTSTART;TZID=UTC:20220903T100000
DTEND;TZID=UTC:20220903T180000
DTSTAMP:20260423T114340
CREATED:20220830T204703Z
LAST-MODIFIED:20220830T205845Z
UID:3219-1662199200-1662228000@alparonpark.com
SUMMARY:JV Football Game
DESCRIPTION:
URL:https://alparonpark.com/event/jv-football-game/
END:VEVENT
BEGIN:VEVENT
DTSTART;TZID=UTC:20220902T190000
DTEND;TZID=UTC:20220902T190000
DTSTAMP:20260423T114340
CREATED:20220830T203626Z
LAST-MODIFIED:20220830T203626Z
UID:3209-1662145200-1662145200@alparonpark.com
SUMMARY:High School Football Game
DESCRIPTION:
URL:https://alparonpark.com/event/high-school-football-game/
LOCATION:Football Field
END:VEVENT
BEGIN:VEVENT
DTSTART;TZID=UTC:20220901T170000
DTEND;TZID=UTC:20220901T170000
DTSTAMP:20260423T114340
CREATED:20220830T205424Z
LAST-MODIFIED:20220830T205424Z
UID:3226-1662051600-1662051600@alparonpark.com
SUMMARY:Middle School Football Game
DESCRIPTION:
URL:https://alparonpark.com/event/middle-school-football-game/
LOCATION:Football Field
END:VEVENT
BEGIN:VEVENT
DTSTART;TZID=UTC:20220831T170000
DTEND;TZID=UTC:20220831T210000
DTSTAMP:20260423T114340
CREATED:20220215T190307Z
LAST-MODIFIED:20220215T190307Z
UID:3096-1661965200-1661979600@alparonpark.com
SUMMARY:Rod and Gun Open Shoot
DESCRIPTION:
URL:https://alparonpark.com/event/rod-and-gun-open-shoot-24/
END:VEVENT
BEGIN:VEVENT
DTSTART;TZID=UTC:20220828T111500
DTEND;TZID=UTC:20220828T111500
DTSTAMP:20260423T114340
CREATED:20220428T172909Z
LAST-MODIFIED:20220428T172909Z
UID:3152-1661685300-1661685300@alparonpark.com
SUMMARY:Junior Football Game
DESCRIPTION:
URL:https://alparonpark.com/event/junior-football-game/
LOCATION:Football Field
END:VEVENT
BEGIN:VEVENT
DTSTART;TZID=UTC:20220827T080000
DTEND;TZID=UTC:20220827T170000
DTSTAMP:20260423T114340
CREATED:20220207T204051Z
LAST-MODIFIED:20220207T204051Z
UID:3025-1661587200-1661619600@alparonpark.com
SUMMARY:TAHA Gaming Show
DESCRIPTION:
URL:https://alparonpark.com/event/taha-gaming-show-4/
LOCATION:Horse Arena
END:VEVENT
BEGIN:VEVENT
DTSTART;TZID=UTC:20220824T170000
DTEND;TZID=UTC:20220824T210000
DTSTAMP:20260423T114340
CREATED:20220215T190250Z
LAST-MODIFIED:20220215T190250Z
UID:3094-1661360400-1661374800@alparonpark.com
SUMMARY:Rod and Gun Open Shoot
DESCRIPTION:
URL:https://alparonpark.com/event/rod-and-gun-open-shoot-23/
END:VEVENT
BEGIN:VEVENT
DTSTART;TZID=UTC:20220820T090000
DTEND;TZID=UTC:20220820T170000
DTSTAMP:20260423T114340
CREATED:20220816T144232Z
LAST-MODIFIED:20220816T144232Z
UID:3199-1660986000-1661014800@alparonpark.com
SUMMARY:Troy Youth Football
DESCRIPTION:
URL:https://alparonpark.com/event/troy-youth-football/
LOCATION:Alparon Park
END:VEVENT
BEGIN:VEVENT
DTSTART;TZID=UTC:20220817T170000
DTEND;TZID=UTC:20220817T210000
DTSTAMP:20260423T114340
CREATED:20220215T190228Z
LAST-MODIFIED:20220215T190228Z
UID:3092-1660755600-1660770000@alparonpark.com
SUMMARY:Rod and Gun Open Shoot
DESCRIPTION:
URL:https://alparonpark.com/event/rod-and-gun-open-shoot-22/
END:VEVENT
BEGIN:VEVENT
DTSTART;TZID=UTC:20220816T090000
DTEND;TZID=UTC:20220816T170000
DTSTAMP:20260423T114340
CREATED:20220627T184439Z
LAST-MODIFIED:20220627T184439Z
UID:3188-1660640400-1660669200@alparonpark.com
SUMMARY:Repsol Meeting
DESCRIPTION:
URL:https://alparonpark.com/event/repsol-meeting/
LOCATION:Exhibit Hall 2
END:VEVENT
BEGIN:VEVENT
DTSTART;TZID=UTC:20220814T080000
DTEND;TZID=UTC:20220814T170000
DTSTAMP:20260423T114340
CREATED:20220207T204023Z
LAST-MODIFIED:20220207T204023Z
UID:3023-1660464000-1660496400@alparonpark.com
SUMMARY:TAHA Trail Challenge
DESCRIPTION:
URL:https://alparonpark.com/event/taha-trail-challenge/
LOCATION:Horse Arena
END:VEVENT
BEGIN:VEVENT
DTSTART;TZID=UTC:20220813T080000
DTEND;TZID=UTC:20220813T170000
DTSTAMP:20260423T114340
CREATED:20220207T203842Z
LAST-MODIFIED:20220207T203842Z
UID:3021-1660377600-1660410000@alparonpark.com
SUMMARY:TAHA Performance Show
DESCRIPTION:
URL:https://alparonpark.com/event/taha-performance-show-3/
LOCATION:Horse Arena
END:VEVENT
BEGIN:VEVENT
DTSTART;TZID=UTC:20220810T170000
DTEND;TZID=UTC:20220810T210000
DTSTAMP:20260423T114340
CREATED:20220215T190210Z
LAST-MODIFIED:20220215T190210Z
UID:3090-1660150800-1660165200@alparonpark.com
SUMMARY:Rod and Gun Open Shoot
DESCRIPTION:
URL:https://alparonpark.com/event/rod-and-gun-open-shoot-21/
END:VEVENT
BEGIN:VEVENT
DTSTART;VALUE=DATE:20220806
DTEND;VALUE=DATE:20220807
DTSTAMP:20260423T114340
CREATED:20220118T161158Z
LAST-MODIFIED:20220118T161158Z
UID:2993-1659744000-1659830399@alparonpark.com
SUMMARY:County Horse Show
DESCRIPTION:
URL:https://alparonpark.com/event/county-horse-show/
LOCATION:Horse Arena
END:VEVENT
BEGIN:VEVENT
DTSTART;TZID=UTC:20220803T170000
DTEND;TZID=UTC:20220803T210000
DTSTAMP:20260423T114340
CREATED:20220215T190149Z
LAST-MODIFIED:20220215T190149Z
UID:3088-1659546000-1659560400@alparonpark.com
SUMMARY:Rod and Gun Open Shoot
DESCRIPTION:
URL:https://alparonpark.com/event/rod-and-gun-open-shoot-20/
END:VEVENT
BEGIN:VEVENT
DTSTART;TZID=UTC:20220727T170000
DTEND;TZID=UTC:20220727T210000
DTSTAMP:20260423T114340
CREATED:20220215T190053Z
LAST-MODIFIED:20220215T190119Z
UID:3086-1658941200-1658955600@alparonpark.com
SUMMARY:Rod and Gun Open Shoot
DESCRIPTION:
URL:https://alparonpark.com/event/rod-and-gun-open-shoot-19/
END:VEVENT
BEGIN:VEVENT
DTSTART;TZID=UTC:20220725T080000
DTEND;TZID=UTC:20220731T230000
DTSTAMP:20260423T114340
CREATED:20220118T161058Z
LAST-MODIFIED:20220428T174211Z
UID:2991-1658736000-1659308400@alparonpark.com
SUMMARY:Troy Fair
DESCRIPTION:
URL:https://alparonpark.com/event/troy-fair/
END:VEVENT
BEGIN:VEVENT
DTSTART;TZID=UTC:20220724T190000
DTEND;TZID=UTC:20220724T190000
DTSTAMP:20260423T114340
CREATED:20220118T160808Z
LAST-MODIFIED:20220428T174144Z
UID:2989-1658689200-1658689200@alparonpark.com
SUMMARY:Troy Fair Queen Coronation
DESCRIPTION:
URL:https://alparonpark.com/event/troy-fair-queen-coronation/
LOCATION:Pavillion
END:VEVENT
BEGIN:VEVENT
DTSTART;TZID=UTC:20220724T100000
DTEND;TZID=UTC:20220724T100000
DTSTAMP:20260423T114340
CREATED:20220118T160630Z
LAST-MODIFIED:20220428T174016Z
UID:2986-1658656800-1658656800@alparonpark.com
SUMMARY:Troy Fair Draft Horse Show
DESCRIPTION:
URL:https://alparonpark.com/event/troy-fair-draft-horse-show/
LOCATION:Horse Arena
END:VEVENT
BEGIN:VEVENT
DTSTART;TZID=UTC:20220717T140000
DTEND;TZID=UTC:20220717T170000
DTSTAMP:20260423T114340
CREATED:20220620T184456Z
LAST-MODIFIED:20220620T184456Z
UID:3180-1658066400-1658077200@alparonpark.com
SUMMARY:Bridal Shower - private event
DESCRIPTION:
URL:https://alparonpark.com/event/bridal-shower-private-event/
LOCATION:Pavillion
END:VEVENT
BEGIN:VEVENT
DTSTART;TZID=UTC:20220716T090000
DTEND;TZID=UTC:20220716T120000
DTSTAMP:20260423T114340
CREATED:20220407T202514Z
LAST-MODIFIED:20220407T202514Z
UID:3146-1657962000-1657972800@alparonpark.com
SUMMARY:Wiggle Give-Away Event
DESCRIPTION:
URL:https://alparonpark.com/event/wiggle-give-away-event/
LOCATION:Pavillion
END:VEVENT
BEGIN:VEVENT
DTSTART;VALUE=DATE:20220716
DTEND;VALUE=DATE:20220717
DTSTAMP:20260423T114340
CREATED:20220118T160435Z
LAST-MODIFIED:20220118T160435Z
UID:2984-1657929600-1658015999@alparonpark.com
SUMMARY:4-H Round Up
DESCRIPTION:
URL:https://alparonpark.com/event/4-h-round-up-2/
LOCATION:4-H Bldg
END:VEVENT
BEGIN:VEVENT
DTSTART;VALUE=DATE:20220715
DTEND;VALUE=DATE:20220716
DTSTAMP:20260423T114340
CREATED:20220118T160359Z
LAST-MODIFIED:20220118T160359Z
UID:2982-1657843200-1657929599@alparonpark.com
SUMMARY:4-H Round Up
DESCRIPTION:
URL:https://alparonpark.com/event/4-h-round-up/
LOCATION:4-H Bldg
END:VEVENT
BEGIN:VEVENT
DTSTART;TZID=UTC:20220713T170000
DTEND;TZID=UTC:20220713T210000
DTSTAMP:20260423T114340
CREATED:20220215T190033Z
LAST-MODIFIED:20220215T190033Z
UID:3084-1657731600-1657746000@alparonpark.com
SUMMARY:Rod and Gun Open Shoot
DESCRIPTION:
URL:https://alparonpark.com/event/rod-and-gun-open-shoot-18/
END:VEVENT
BEGIN:VEVENT
DTSTART;TZID=UTC:20220709T080000
DTEND;TZID=UTC:20220709T170000
DTSTAMP:20260423T114340
CREATED:20220207T203800Z
LAST-MODIFIED:20220207T203800Z
UID:3019-1657353600-1657386000@alparonpark.com
SUMMARY:TAHA Gaming Show
DESCRIPTION:
URL:https://alparonpark.com/event/taha-gaming-show-3/
LOCATION:Pavillion
END:VEVENT
BEGIN:VEVENT
DTSTART;TZID=UTC:20220706T170000
DTEND;TZID=UTC:20220706T210000
DTSTAMP:20260423T114340
CREATED:20220215T190014Z
LAST-MODIFIED:20220215T190014Z
UID:3082-1657126800-1657141200@alparonpark.com
SUMMARY:Rod and Gun Open Shoot
DESCRIPTION:
URL:https://alparonpark.com/event/rod-and-gun-open-shoot-17/
END:VEVENT
BEGIN:VEVENT
DTSTART;TZID=UTC:20220706T080000
DTEND;TZID=UTC:20220706T170000
DTSTAMP:20260423T114340
CREATED:20220620T183055Z
LAST-MODIFIED:20220620T183055Z
UID:3175-1657094400-1657126800@alparonpark.com
SUMMARY:FFA Work bee
DESCRIPTION:
URL:https://alparonpark.com/event/ffa-work-bee/
LOCATION:Alparon Park
END:VEVENT
END:VCALENDAR