BEGIN:VCALENDAR
VERSION:2.0
PRODID:-//Alparon Park - ECPv6.3.2//NONSGML v1.0//EN
CALSCALE:GREGORIAN
METHOD:PUBLISH
X-ORIGINAL-URL:https://alparonpark.com
X-WR-CALDESC:Events for Alparon Park
REFRESH-INTERVAL;VALUE=DURATION:PT1H
X-Robots-Tag:noindex
X-PUBLISHED-TTL:PT1H
BEGIN:VTIMEZONE
TZID:UTC
BEGIN:STANDARD
TZOFFSETFROM:+0000
TZOFFSETTO:+0000
TZNAME:UTC
DTSTART:20240101T000000
END:STANDARD
END:VTIMEZONE
BEGIN:VEVENT
DTSTART;TZID=UTC:20240427T080000
DTEND;TZID=UTC:20240428T170000
DTSTAMP:20260422T225656
CREATED:20231114T193312Z
LAST-MODIFIED:20231114T193312Z
UID:3627-1714204800-1714323600@alparonpark.com
SUMMARY:Endless Mountains Maple Festival
DESCRIPTION:
URL:https://alparonpark.com/event/endless-mountains-maple-festival-2/
LOCATION:Alparon Park
END:VEVENT
BEGIN:VEVENT
DTSTART;TZID=UTC:20240429T180000
DTEND;TZID=UTC:20240429T200000
DTSTAMP:20260422T225656
CREATED:20231128T200102Z
LAST-MODIFIED:20231128T200102Z
UID:3690-1714413600-1714420800@alparonpark.com
SUMMARY:YHEC practice
DESCRIPTION:
URL:https://alparonpark.com/event/yhec-practice-18/
LOCATION:Gun Range
END:VEVENT
BEGIN:VEVENT
DTSTART;TZID=UTC:20240430T180000
DTEND;TZID=UTC:20240430T200000
DTSTAMP:20260422T225656
CREATED:20231128T200125Z
LAST-MODIFIED:20231128T200125Z
UID:3692-1714500000-1714507200@alparonpark.com
SUMMARY:YHEC practice
DESCRIPTION:
URL:https://alparonpark.com/event/yhec-practice-19/
LOCATION:Gun Range
END:VEVENT
BEGIN:VEVENT
DTSTART;TZID=UTC:20240502T180000
DTEND;TZID=UTC:20240502T200000
DTSTAMP:20260422T225656
CREATED:20231128T200210Z
LAST-MODIFIED:20231128T200210Z
UID:3694-1714672800-1714680000@alparonpark.com
SUMMARY:YHEC practice
DESCRIPTION:
URL:https://alparonpark.com/event/yhec-practice-20/
LOCATION:Gun Range
END:VEVENT
BEGIN:VEVENT
DTSTART;TZID=UTC:20240504T080000
DTEND;TZID=UTC:20240504T120000
DTSTAMP:20260422T225656
CREATED:20240206T154954Z
LAST-MODIFIED:20240206T154954Z
UID:3825-1714809600-1714824000@alparonpark.com
SUMMARY:COG E-Recycling
DESCRIPTION:
URL:https://alparonpark.com/event/cog-e-recycling/
LOCATION:Pavillion
END:VEVENT
BEGIN:VEVENT
DTSTART;TZID=UTC:20240504T080000
DTEND;TZID=UTC:20240504T140000
DTSTAMP:20260422T225656
CREATED:20231128T212722Z
LAST-MODIFIED:20231128T212722Z
UID:3742-1714809600-1714831200@alparonpark.com
SUMMARY:YHEC Shoot
DESCRIPTION:
URL:https://alparonpark.com/event/yhec-shoot-4/
LOCATION:Gun Range
END:VEVENT
BEGIN:VEVENT
DTSTART;TZID=UTC:20240504T080000
DTEND;TZID=UTC:20240504T170000
DTSTAMP:20260422T225656
CREATED:20230720T183414Z
LAST-MODIFIED:20230720T183414Z
UID:3579-1714809600-1714842000@alparonpark.com
SUMMARY:NRA Banquet
DESCRIPTION:
URL:https://alparonpark.com/event/nra-banquet/
LOCATION:Exhibit Halls 1&2
END:VEVENT
BEGIN:VEVENT
DTSTART;TZID=UTC:20240506T180000
DTEND;TZID=UTC:20240506T200000
DTSTAMP:20260422T225656
CREATED:20231128T200233Z
LAST-MODIFIED:20231128T200233Z
UID:3696-1715018400-1715025600@alparonpark.com
SUMMARY:YHEC practice
DESCRIPTION:
URL:https://alparonpark.com/event/yhec-practice-21/
LOCATION:Gun Range
END:VEVENT
BEGIN:VEVENT
DTSTART;TZID=UTC:20240507T180000
DTEND;TZID=UTC:20240507T200000
DTSTAMP:20260422T225656
CREATED:20231128T200257Z
LAST-MODIFIED:20231128T200257Z
UID:3698-1715104800-1715112000@alparonpark.com
SUMMARY:YHEC practice
DESCRIPTION:
URL:https://alparonpark.com/event/yhec-practice-22/
LOCATION:Gun Range
END:VEVENT
BEGIN:VEVENT
DTSTART;TZID=UTC:20240509T180000
DTEND;TZID=UTC:20240509T200000
DTSTAMP:20260422T225656
CREATED:20231128T200328Z
LAST-MODIFIED:20231128T200328Z
UID:3700-1715277600-1715284800@alparonpark.com
SUMMARY:YHEC practice
DESCRIPTION:
URL:https://alparonpark.com/event/yhec-practice-23/
LOCATION:Gun Range
END:VEVENT
BEGIN:VEVENT
DTSTART;TZID=UTC:20240511T110000
DTEND;TZID=UTC:20240511T110000
DTSTAMP:20260422T225656
CREATED:20240507T204002Z
LAST-MODIFIED:20240507T204002Z
UID:3879-1715425200-1715425200@alparonpark.com
SUMMARY:Dairy Show Meeting
DESCRIPTION:
URL:https://alparonpark.com/event/dairy-show-meeting/
LOCATION:Exhibit Hall 2
END:VEVENT
BEGIN:VEVENT
DTSTART;TZID=UTC:20240512T080000
DTEND;TZID=UTC:20240512T170000
DTSTAMP:20260422T225656
CREATED:20240109T214042Z
LAST-MODIFIED:20240109T214042Z
UID:3792-1715500800-1715533200@alparonpark.com
SUMMARY:Farm Days - Set up
DESCRIPTION:
URL:https://alparonpark.com/event/farm-days-set-up/
LOCATION:Exh Halls & Pavilion
END:VEVENT
BEGIN:VEVENT
DTSTART;TZID=UTC:20240512T080000
DTEND;TZID=UTC:20240512T170000
DTSTAMP:20260422T225656
CREATED:20240206T202038Z
LAST-MODIFIED:20240206T202038Z
UID:3837-1715500800-1715533200@alparonpark.com
SUMMARY:Lewis and Clark Circus
DESCRIPTION:
URL:https://alparonpark.com/event/lewis-and-clark-circus/
LOCATION:Parking Lot 1B
END:VEVENT
BEGIN:VEVENT
DTSTART;TZID=UTC:20240513T080000
DTEND;TZID=UTC:20240513T170000
DTSTAMP:20260422T225656
CREATED:20240109T214114Z
LAST-MODIFIED:20240109T214114Z
UID:3794-1715587200-1715619600@alparonpark.com
SUMMARY:Farm Days
DESCRIPTION:
URL:https://alparonpark.com/event/farm-days-3/
LOCATION:Exh Halls & Pavilion
END:VEVENT
BEGIN:VEVENT
DTSTART;TZID=UTC:20240513T080000
DTEND;TZID=UTC:20240513T170000
DTSTAMP:20260422T225656
CREATED:20240206T202114Z
LAST-MODIFIED:20240206T202114Z
UID:3839-1715587200-1715619600@alparonpark.com
SUMMARY:Lewis and Clark Circus
DESCRIPTION:
URL:https://alparonpark.com/event/lewis-and-clark-circus-2/
LOCATION:Parking Lot 1B
END:VEVENT
BEGIN:VEVENT
DTSTART;TZID=UTC:20240513T180000
DTEND;TZID=UTC:20240513T200000
DTSTAMP:20260422T225656
CREATED:20231128T200402Z
LAST-MODIFIED:20231128T200402Z
UID:3702-1715623200-1715630400@alparonpark.com
SUMMARY:YHEC practice
DESCRIPTION:
URL:https://alparonpark.com/event/yhec-practice-24/
LOCATION:Gun Range
END:VEVENT
BEGIN:VEVENT
DTSTART;TZID=UTC:20240514T080000
DTEND;TZID=UTC:20240514T170000
DTSTAMP:20260422T225656
CREATED:20240109T214141Z
LAST-MODIFIED:20240109T214141Z
UID:3796-1715673600-1715706000@alparonpark.com
SUMMARY:Farm Days
DESCRIPTION:
URL:https://alparonpark.com/event/farm-days-4/
LOCATION:Exh Halls & Pavilion
END:VEVENT
BEGIN:VEVENT
DTSTART;TZID=UTC:20240514T180000
DTEND;TZID=UTC:20240514T200000
DTSTAMP:20260422T225656
CREATED:20231128T200435Z
LAST-MODIFIED:20231128T200435Z
UID:3704-1715709600-1715716800@alparonpark.com
SUMMARY:YHEC practice
DESCRIPTION:
URL:https://alparonpark.com/event/yhec-practice-25/
LOCATION:Gun Range
END:VEVENT
BEGIN:VEVENT
DTSTART;TZID=UTC:20240515T080000
DTEND;TZID=UTC:20240515T170000
DTSTAMP:20260422T225656
CREATED:20240206T155300Z
LAST-MODIFIED:20240206T155300Z
UID:3827-1715760000-1715792400@alparonpark.com
SUMMARY:Farm Days
DESCRIPTION:
URL:https://alparonpark.com/event/farm-days-5/
LOCATION:Exh Halls & Pavilion
END:VEVENT
BEGIN:VEVENT
DTSTART;TZID=UTC:20240516T180000
DTEND;TZID=UTC:20240516T200000
DTSTAMP:20260422T225656
CREATED:20231128T200636Z
LAST-MODIFIED:20231128T200636Z
UID:3706-1715882400-1715889600@alparonpark.com
SUMMARY:YHEC practice
DESCRIPTION:
URL:https://alparonpark.com/event/yhec-practice-26/
LOCATION:Gun Range
END:VEVENT
BEGIN:VEVENT
DTSTART;TZID=UTC:20240520T180000
DTEND;TZID=UTC:20240520T200000
DTSTAMP:20260422T225656
CREATED:20231128T200718Z
LAST-MODIFIED:20231128T200718Z
UID:3708-1716228000-1716235200@alparonpark.com
SUMMARY:YHEC practice
DESCRIPTION:
URL:https://alparonpark.com/event/yhec-practice-27/
LOCATION:Gun Range
END:VEVENT
BEGIN:VEVENT
DTSTART;TZID=UTC:20240521T090000
DTEND;TZID=UTC:20240521T120000
DTSTAMP:20260422T225656
CREATED:20240507T204102Z
LAST-MODIFIED:20240507T204102Z
UID:3881-1716282000-1716292800@alparonpark.com
SUMMARY:Repsol Meeting
DESCRIPTION:
URL:https://alparonpark.com/event/repsol-meeting-5/
LOCATION:Exhibit Hall 2
END:VEVENT
BEGIN:VEVENT
DTSTART;TZID=UTC:20240521T180000
DTEND;TZID=UTC:20240521T200000
DTSTAMP:20260422T225656
CREATED:20231128T200747Z
LAST-MODIFIED:20231128T200747Z
UID:3710-1716314400-1716321600@alparonpark.com
SUMMARY:YHEC practice
DESCRIPTION:
URL:https://alparonpark.com/event/yhec-practice-28/
LOCATION:Gun Range
END:VEVENT
BEGIN:VEVENT
DTSTART;TZID=UTC:20240522T090000
DTEND;TZID=UTC:20240522T120000
DTSTAMP:20260422T225656
CREATED:20240507T204140Z
LAST-MODIFIED:20240507T204140Z
UID:3883-1716368400-1716379200@alparonpark.com
SUMMARY:Repsol Meeting
DESCRIPTION:
URL:https://alparonpark.com/event/repsol-meeting-6/
LOCATION:Exhibit Hall 2
END:VEVENT
BEGIN:VEVENT
DTSTART;TZID=UTC:20240523T180000
DTEND;TZID=UTC:20240523T200000
DTSTAMP:20260422T225656
CREATED:20231128T200825Z
LAST-MODIFIED:20231128T200825Z
UID:3712-1716487200-1716494400@alparonpark.com
SUMMARY:YHEC practice
DESCRIPTION:
URL:https://alparonpark.com/event/yhec-practice-29/
LOCATION:Gun Range
END:VEVENT
BEGIN:VEVENT
DTSTART;TZID=UTC:20240527T180000
DTEND;TZID=UTC:20240527T200000
DTSTAMP:20260422T225656
CREATED:20231128T200919Z
LAST-MODIFIED:20231128T200919Z
UID:3714-1716832800-1716840000@alparonpark.com
SUMMARY:YHEC practice
DESCRIPTION:
URL:https://alparonpark.com/event/yhec-practice-30/
LOCATION:Gun Range
END:VEVENT
BEGIN:VEVENT
DTSTART;TZID=UTC:20240528T180000
DTEND;TZID=UTC:20240528T200000
DTSTAMP:20260422T225656
CREATED:20231128T211421Z
LAST-MODIFIED:20231128T211421Z
UID:3716-1716919200-1716926400@alparonpark.com
SUMMARY:YHEC practice
DESCRIPTION:
URL:https://alparonpark.com/event/yhec-practice-31/
LOCATION:Gun Range
END:VEVENT
BEGIN:VEVENT
DTSTART;TZID=UTC:20240529T090000
DTEND;TZID=UTC:20240529T120000
DTSTAMP:20260422T225656
CREATED:20240405T135545Z
LAST-MODIFIED:20240405T135545Z
UID:3873-1716973200-1716984000@alparonpark.com
SUMMARY:Emergency Management Drill
DESCRIPTION:
URL:https://alparonpark.com/event/emergency-management-drill/
LOCATION:Alparon Park
END:VEVENT
BEGIN:VEVENT
DTSTART;TZID=UTC:20240530T180000
DTEND;TZID=UTC:20240530T200000
DTSTAMP:20260422T225656
CREATED:20231128T211511Z
LAST-MODIFIED:20231128T211511Z
UID:3718-1717092000-1717099200@alparonpark.com
SUMMARY:YHEC practice
DESCRIPTION:
URL:https://alparonpark.com/event/yhec-practice-32/
LOCATION:Gun Range
END:VEVENT
BEGIN:VEVENT
DTSTART;TZID=UTC:20240601T080000
DTEND;TZID=UTC:20240601T140000
DTSTAMP:20260422T225656
CREATED:20231128T212842Z
LAST-MODIFIED:20231128T212842Z
UID:3744-1717228800-1717250400@alparonpark.com
SUMMARY:YHEC Shoot
DESCRIPTION:
URL:https://alparonpark.com/event/yhec-shoot-5/
LOCATION:Gun Range
END:VEVENT
END:VCALENDAR