BEGIN:VCALENDAR
VERSION:2.0
PRODID:-//Alparon Park - ECPv6.3.2//NONSGML v1.0//EN
CALSCALE:GREGORIAN
METHOD:PUBLISH
X-WR-CALNAME:Alparon Park
X-ORIGINAL-URL:https://alparonpark.com
X-WR-CALDESC:Events for Alparon Park
REFRESH-INTERVAL;VALUE=DURATION:PT1H
X-Robots-Tag:noindex
X-PUBLISHED-TTL:PT1H
BEGIN:VTIMEZONE
TZID:UTC
BEGIN:STANDARD
TZOFFSETFROM:+0000
TZOFFSETTO:+0000
TZNAME:UTC
DTSTART:20240101T000000
END:STANDARD
END:VTIMEZONE
BEGIN:VEVENT
DTSTART;TZID=UTC:20241014T180000
DTEND;TZID=UTC:20241014T200000
DTSTAMP:20260421T230118
CREATED:20240808T185443Z
LAST-MODIFIED:20240808T185443Z
UID:3956-1728928800-1728936000@alparonpark.com
SUMMARY:High School JV Football Game
DESCRIPTION:
URL:https://alparonpark.com/event/high-school-jv-football-game-4/
LOCATION:Football Field
END:VEVENT
BEGIN:VEVENT
DTSTART;TZID=UTC:20241013T080000
DTEND;TZID=UTC:20241013T170000
DTSTAMP:20260421T230118
CREATED:20230217T215622Z
LAST-MODIFIED:20230217T215622Z
UID:3422-1728806400-1728838800@alparonpark.com
SUMMARY:Wedding Clean Up
DESCRIPTION:
URL:https://alparonpark.com/event/wedding-clean-up-4/
LOCATION:Exhibit Hall 2
END:VEVENT
BEGIN:VEVENT
DTSTART;TZID=UTC:20241012T080000
DTEND;TZID=UTC:20241012T210000
DTSTAMP:20260421T230118
CREATED:20230217T215531Z
LAST-MODIFIED:20230217T215531Z
UID:3420-1728720000-1728766800@alparonpark.com
SUMMARY:Wedding
DESCRIPTION:
URL:https://alparonpark.com/event/wedding-4/
LOCATION:Exhibit Hall 2
END:VEVENT
BEGIN:VEVENT
DTSTART;TZID=UTC:20241011T080000
DTEND;TZID=UTC:20241011T170000
DTSTAMP:20260421T230118
CREATED:20230217T215421Z
LAST-MODIFIED:20230217T215421Z
UID:3418-1728633600-1728666000@alparonpark.com
SUMMARY:Wedding Set Up
DESCRIPTION:
URL:https://alparonpark.com/event/wedding-set-up-4/
LOCATION:Exhibit Hall 2
END:VEVENT
BEGIN:VEVENT
DTSTART;TZID=UTC:20241010T080000
DTEND;TZID=UTC:20241010T170000
DTSTAMP:20260421T230118
CREATED:20240808T184529Z
LAST-MODIFIED:20240808T184529Z
UID:3945-1728547200-1728579600@alparonpark.com
SUMMARY:Middle School Football Game
DESCRIPTION:
URL:https://alparonpark.com/event/middle-school-football-game-8/
LOCATION:Football Field
END:VEVENT
BEGIN:VEVENT
DTSTART;TZID=UTC:20241007T180000
DTEND;TZID=UTC:20241007T200000
DTSTAMP:20260421T230118
CREATED:20240808T185329Z
LAST-MODIFIED:20240808T185329Z
UID:3954-1728324000-1728331200@alparonpark.com
SUMMARY:High School JV Football Game
DESCRIPTION:
URL:https://alparonpark.com/event/high-school-jv-football-game-3/
LOCATION:Football Field
END:VEVENT
BEGIN:VEVENT
DTSTART;TZID=UTC:20241005T080000
DTEND;TZID=UTC:20241005T170000
DTSTAMP:20260421T230118
CREATED:20240808T183844Z
LAST-MODIFIED:20240924T143547Z
UID:3935-1728115200-1728147600@alparonpark.com
SUMMARY:Jr. Football Game
DESCRIPTION:
URL:https://alparonpark.com/event/jr-football-game-2/
LOCATION:Football Field
END:VEVENT
BEGIN:VEVENT
DTSTART;TZID=UTC:20241003T080000
DTEND;TZID=UTC:20241003T170000
DTSTAMP:20260421T230118
CREATED:20240412T164133Z
LAST-MODIFIED:20240412T164133Z
UID:3876-1727942400-1727974800@alparonpark.com
SUMMARY:BC Township Officers Assn.
DESCRIPTION:
URL:https://alparonpark.com/event/bc-township-officers-assn/
LOCATION:Exhibit Halls 1&2
END:VEVENT
BEGIN:VEVENT
DTSTART;TZID=UTC:20240930T180000
DTEND;TZID=UTC:20240930T200000
DTSTAMP:20260421T230118
CREATED:20240808T184838Z
LAST-MODIFIED:20240808T184838Z
UID:3951-1727719200-1727726400@alparonpark.com
SUMMARY:High School JV Football Game
DESCRIPTION:
URL:https://alparonpark.com/event/high-school-jv-football-game-2/
LOCATION:Football Field
END:VEVENT
BEGIN:VEVENT
DTSTART;TZID=UTC:20240929T080000
DTEND;TZID=UTC:20240929T170000
DTSTAMP:20260421T230118
CREATED:20240312T153720Z
LAST-MODIFIED:20240312T153720Z
UID:3858-1727596800-1727629200@alparonpark.com
SUMMARY:Rainbow Riders
DESCRIPTION:
URL:https://alparonpark.com/event/rainbow-riders/
LOCATION:Horse Arena
END:VEVENT
BEGIN:VEVENT
DTSTART;TZID=UTC:20240926T180000
DTEND;TZID=UTC:20240926T200000
DTSTAMP:20260421T230118
CREATED:20240808T184452Z
LAST-MODIFIED:20240808T184452Z
UID:3943-1727373600-1727380800@alparonpark.com
SUMMARY:Middle School Football Game
DESCRIPTION:
URL:https://alparonpark.com/event/middle-school-football-game-7/
LOCATION:Football Field
END:VEVENT
BEGIN:VEVENT
DTSTART;TZID=UTC:20240920T190000
DTEND;TZID=UTC:20240920T210000
DTSTAMP:20260421T230118
CREATED:20240808T185921Z
LAST-MODIFIED:20240808T185921Z
UID:3966-1726858800-1726866000@alparonpark.com
SUMMARY:High School Varsity Football Game
DESCRIPTION:
URL:https://alparonpark.com/event/high-school-varsity-football-game-4/
LOCATION:Football Field
END:VEVENT
BEGIN:VEVENT
DTSTART;TZID=UTC:20240914T190000
DTEND;TZID=UTC:20240914T210000
DTSTAMP:20260421T230118
CREATED:20240808T185828Z
LAST-MODIFIED:20240808T185828Z
UID:3964-1726340400-1726347600@alparonpark.com
SUMMARY:High School Varsity Football Game
DESCRIPTION:
URL:https://alparonpark.com/event/high-school-varsity-football-game-3/
LOCATION:Football Field
END:VEVENT
BEGIN:VEVENT
DTSTART;TZID=UTC:20240912T180000
DTEND;TZID=UTC:20240912T200000
DTSTAMP:20260421T230118
CREATED:20240808T184352Z
LAST-MODIFIED:20240808T184352Z
UID:3941-1726164000-1726171200@alparonpark.com
SUMMARY:Middle School Football Game
DESCRIPTION:
URL:https://alparonpark.com/event/middle-school-football-game-6/
LOCATION:Football Field
END:VEVENT
BEGIN:VEVENT
DTSTART;TZID=UTC:20240907T080000
DTEND;TZID=UTC:20240907T140000
DTSTAMP:20260421T230118
CREATED:20231128T213026Z
LAST-MODIFIED:20231128T213026Z
UID:3750-1725696000-1725717600@alparonpark.com
SUMMARY:YHEC Shoot
DESCRIPTION:
URL:https://alparonpark.com/event/yhec-shoot-8/
LOCATION:Gun Range
END:VEVENT
BEGIN:VEVENT
DTSTART;TZID=UTC:20240906T190000
DTEND;TZID=UTC:20240906T210000
DTSTAMP:20260421T230118
CREATED:20240808T185745Z
LAST-MODIFIED:20240808T185745Z
UID:3962-1725649200-1725656400@alparonpark.com
SUMMARY:High School Varsity Football Game
DESCRIPTION:
URL:https://alparonpark.com/event/high-school-varsity-football-game-2/
LOCATION:Football Field
END:VEVENT
BEGIN:VEVENT
DTSTART;TZID=UTC:20240902T180000
DTEND;TZID=UTC:20240902T200000
DTSTAMP:20260421T230118
CREATED:20240808T184755Z
LAST-MODIFIED:20240808T184755Z
UID:3949-1725300000-1725307200@alparonpark.com
SUMMARY:High School JV Football Game
DESCRIPTION:
URL:https://alparonpark.com/event/high-school-jv-football-game/
LOCATION:Football Field
END:VEVENT
BEGIN:VEVENT
DTSTART;TZID=UTC:20240829T180000
DTEND;TZID=UTC:20240829T200000
DTSTAMP:20260421T230118
CREATED:20240808T184302Z
LAST-MODIFIED:20240808T184302Z
UID:3939-1724954400-1724961600@alparonpark.com
SUMMARY:Middle School Football Game
DESCRIPTION:
URL:https://alparonpark.com/event/middle-school-football-game-5/
LOCATION:Football Field
END:VEVENT
BEGIN:VEVENT
DTSTART;TZID=UTC:20240825T080000
DTEND;TZID=UTC:20240825T170000
DTSTAMP:20260421T230118
CREATED:20240206T160124Z
LAST-MODIFIED:20240206T160124Z
UID:3835-1724572800-1724605200@alparonpark.com
SUMMARY:Wedding Clean Up
DESCRIPTION:
URL:https://alparonpark.com/event/wedding-clean-up-7/
LOCATION:Exhibit Hall 2
END:VEVENT
BEGIN:VEVENT
DTSTART;TZID=UTC:20240824T080000
DTEND;TZID=UTC:20240824T170000
DTSTAMP:20260421T230118
CREATED:20240808T183346Z
LAST-MODIFIED:20240808T183346Z
UID:3933-1724486400-1724518800@alparonpark.com
SUMMARY:Jr. Football Game
DESCRIPTION:
URL:https://alparonpark.com/event/jr-football-game/
LOCATION:Football Field
END:VEVENT
BEGIN:VEVENT
DTSTART;TZID=UTC:20240824T080000
DTEND;TZID=UTC:20240824T170000
DTSTAMP:20260421T230118
CREATED:20240206T160038Z
LAST-MODIFIED:20240206T160038Z
UID:3833-1724486400-1724518800@alparonpark.com
SUMMARY:Wedding
DESCRIPTION:
URL:https://alparonpark.com/event/wedding-7/
LOCATION:Exhibit Hall 2
END:VEVENT
BEGIN:VEVENT
DTSTART;TZID=UTC:20240823T190000
DTEND;TZID=UTC:20240823T210000
DTSTAMP:20260421T230118
CREATED:20240808T185642Z
LAST-MODIFIED:20240808T185642Z
UID:3960-1724439600-1724446800@alparonpark.com
SUMMARY:High School Varsity Football Game
DESCRIPTION:
URL:https://alparonpark.com/event/high-school-varsity-football-game/
LOCATION:Football Field
END:VEVENT
BEGIN:VEVENT
DTSTART;TZID=UTC:20240823T080000
DTEND;TZID=UTC:20240823T170000
DTSTAMP:20260421T230118
CREATED:20240206T160000Z
LAST-MODIFIED:20240206T160000Z
UID:3831-1724400000-1724432400@alparonpark.com
SUMMARY:Wedding Set Up
DESCRIPTION:
URL:https://alparonpark.com/event/wedding-set-up-6/
LOCATION:PA
END:VEVENT
BEGIN:VEVENT
DTSTART;TZID=UTC:20240818T150000
DTEND;TZID=UTC:20240818T180000
DTSTAMP:20260421T230118
CREATED:20240725T151851Z
LAST-MODIFIED:20240725T151851Z
UID:3923-1723993200-1724004000@alparonpark.com
SUMMARY:Picnic - Private Event
DESCRIPTION:
URL:https://alparonpark.com/event/picnic-private-event/
LOCATION:Pavillion
END:VEVENT
BEGIN:VEVENT
DTSTART;TZID=UTC:20240814T080000
DTEND;TZID=UTC:20240814T170000
DTSTAMP:20260421T230118
CREATED:20240730T182439Z
LAST-MODIFIED:20240730T182439Z
UID:3925-1723622400-1723654800@alparonpark.com
SUMMARY:CHOP Food Give Away
DESCRIPTION:
URL:https://alparonpark.com/event/chop-food-give-away/
LOCATION:Pavillion
END:VEVENT
BEGIN:VEVENT
DTSTART;TZID=UTC:20240810T080000
DTEND;TZID=UTC:20240810T170000
DTSTAMP:20260421T230118
CREATED:20240206T151937Z
LAST-MODIFIED:20240206T151937Z
UID:3817-1723276800-1723309200@alparonpark.com
SUMMARY:Cross Fit Ravine Beer Mile
DESCRIPTION:
URL:https://alparonpark.com/event/cross-fit-ravine-beer-mile/
LOCATION:Sheep Barn and Track
END:VEVENT
BEGIN:VEVENT
DTSTART;TZID=UTC:20240809T080000
DTEND;TZID=UTC:20240809T170000
DTSTAMP:20260421T230118
CREATED:20240805T160658Z
LAST-MODIFIED:20240805T160658Z
UID:3931-1723190400-1723222800@alparonpark.com
SUMMARY:Howard Energy - United Way Fundraiser - Pavilion
DESCRIPTION:
URL:https://alparonpark.com/event/howard-energy-united-way-fundraiser-pavilion/
LOCATION:Pavillion
END:VEVENT
BEGIN:VEVENT
DTSTART;TZID=UTC:20240805T190000
DTEND;TZID=UTC:20240805T200000
DTSTAMP:20260421T230118
CREATED:20240312T150345Z
LAST-MODIFIED:20240312T150345Z
UID:3851-1722884400-1722888000@alparonpark.com
SUMMARY:Boy Scouts Meeting
DESCRIPTION:
URL:https://alparonpark.com/event/boy-scouts-meeting-2/
LOCATION:Pavillion
END:VEVENT
BEGIN:VEVENT
DTSTART;TZID=UTC:20240805T180000
DTEND;TZID=UTC:20240805T180000
DTSTAMP:20260421T230118
CREATED:20240528T160049Z
LAST-MODIFIED:20240528T160049Z
UID:3892-1722880800-1722880800@alparonpark.com
SUMMARY:Scouting of America/Boy Scouts
DESCRIPTION:
URL:https://alparonpark.com/event/scouting-of-america-boy-scouts-2/
LOCATION:Pavillion
END:VEVENT
BEGIN:VEVENT
DTSTART;TZID=UTC:20240804T080000
DTEND;TZID=UTC:20240804T140000
DTSTAMP:20260421T230118
CREATED:20240402T155832Z
LAST-MODIFIED:20240402T155832Z
UID:3871-1722758400-1722780000@alparonpark.com
SUMMARY:NT Trap League Shoot
DESCRIPTION:
URL:https://alparonpark.com/event/nt-trap-league-shoot-2/
LOCATION:Gun Range
END:VEVENT
END:VCALENDAR