BEGIN:VCALENDAR
VERSION:2.0
PRODID:-//Alparon Park - ECPv6.3.2//NONSGML v1.0//EN
CALSCALE:GREGORIAN
METHOD:PUBLISH
X-WR-CALNAME:Alparon Park
X-ORIGINAL-URL:https://alparonpark.com
X-WR-CALDESC:Events for Alparon Park
REFRESH-INTERVAL;VALUE=DURATION:PT1H
X-Robots-Tag:noindex
X-PUBLISHED-TTL:PT1H
BEGIN:VTIMEZONE
TZID:UTC
BEGIN:STANDARD
TZOFFSETFROM:+0000
TZOFFSETTO:+0000
TZNAME:UTC
DTSTART:20220101T000000
END:STANDARD
TZID:Asia/Karachi
BEGIN:STANDARD
TZOFFSETFROM:+0500
TZOFFSETTO:+0500
TZNAME:PKT
DTSTART:20220101T000000
END:STANDARD
TZID:America/New_York
BEGIN:DAYLIGHT
TZOFFSETFROM:-0500
TZOFFSETTO:-0400
TZNAME:EDT
DTSTART:20220313T070000
END:DAYLIGHT
BEGIN:STANDARD
TZOFFSETFROM:-0400
TZOFFSETTO:-0500
TZNAME:EST
DTSTART:20221106T060000
END:STANDARD
END:VTIMEZONE
BEGIN:VEVENT
DTSTART;VALUE=DATE:20220715
DTEND;VALUE=DATE:20220716
DTSTAMP:20260423T182556
CREATED:20220118T160359Z
LAST-MODIFIED:20220118T160359Z
UID:2982-1657843200-1657929599@alparonpark.com
SUMMARY:4-H Round Up
DESCRIPTION:
URL:https://alparonpark.com/event/4-h-round-up/
LOCATION:4-H Bldg
END:VEVENT
BEGIN:VEVENT
DTSTART;TZID=UTC:20220713T170000
DTEND;TZID=UTC:20220713T210000
DTSTAMP:20260423T182556
CREATED:20220215T190033Z
LAST-MODIFIED:20220215T190033Z
UID:3084-1657731600-1657746000@alparonpark.com
SUMMARY:Rod and Gun Open Shoot
DESCRIPTION:
URL:https://alparonpark.com/event/rod-and-gun-open-shoot-18/
END:VEVENT
BEGIN:VEVENT
DTSTART;TZID=UTC:20220709T080000
DTEND;TZID=UTC:20220709T170000
DTSTAMP:20260423T182556
CREATED:20220207T203800Z
LAST-MODIFIED:20220207T203800Z
UID:3019-1657353600-1657386000@alparonpark.com
SUMMARY:TAHA Gaming Show
DESCRIPTION:
URL:https://alparonpark.com/event/taha-gaming-show-3/
LOCATION:Pavillion
END:VEVENT
BEGIN:VEVENT
DTSTART;TZID=UTC:20220706T170000
DTEND;TZID=UTC:20220706T210000
DTSTAMP:20260423T182556
CREATED:20220215T190014Z
LAST-MODIFIED:20220215T190014Z
UID:3082-1657126800-1657141200@alparonpark.com
SUMMARY:Rod and Gun Open Shoot
DESCRIPTION:
URL:https://alparonpark.com/event/rod-and-gun-open-shoot-17/
END:VEVENT
BEGIN:VEVENT
DTSTART;TZID=UTC:20220706T080000
DTEND;TZID=UTC:20220706T170000
DTSTAMP:20260423T182556
CREATED:20220620T183055Z
LAST-MODIFIED:20220620T183055Z
UID:3175-1657094400-1657126800@alparonpark.com
SUMMARY:FFA Work bee
DESCRIPTION:
URL:https://alparonpark.com/event/ffa-work-bee/
LOCATION:Alparon Park
END:VEVENT
BEGIN:VEVENT
DTSTART;VALUE=DATE:20220706
DTEND;VALUE=DATE:20220707
DTSTAMP:20260423T182556
CREATED:20220118T160244Z
LAST-MODIFIED:20220118T160244Z
UID:2980-1657065600-1657151999@alparonpark.com
SUMMARY:Troy Chamber of Commerce Picnic
DESCRIPTION:
URL:https://alparonpark.com/event/troy-chamber-of-commerce-picnic/
LOCATION:Pavillion
END:VEVENT
BEGIN:VEVENT
DTSTART;TZID=UTC:20220629T170000
DTEND;TZID=UTC:20220629T210000
DTSTAMP:20260423T182556
CREATED:20220215T185944Z
LAST-MODIFIED:20220215T185944Z
UID:3080-1656522000-1656536400@alparonpark.com
SUMMARY:Rod and Gun Open Shoot
DESCRIPTION:
URL:https://alparonpark.com/event/rod-and-gun-open-shoot-16/
END:VEVENT
BEGIN:VEVENT
DTSTART;TZID=UTC:20220625T190000
DTEND;TZID=UTC:20220625T190000
DTSTAMP:20260423T182556
CREATED:20220118T155643Z
LAST-MODIFIED:20220620T183651Z
UID:2972-1656183600-1656183600@alparonpark.com
SUMMARY:Troy Community Theatre Play
DESCRIPTION:
URL:https://alparonpark.com/event/troy-community-theatre-play/
END:VEVENT
BEGIN:VEVENT
DTSTART;TZID=UTC:20220625T080000
DTEND;TZID=UTC:20220625T150000
DTSTAMP:20260423T182556
CREATED:20220118T160037Z
LAST-MODIFIED:20220118T160037Z
UID:2978-1656144000-1656169200@alparonpark.com
SUMMARY:Jr Shoot
DESCRIPTION:
URL:https://alparonpark.com/event/jr-shoot/
LOCATION:Gun Range
END:VEVENT
BEGIN:VEVENT
DTSTART;TZID=UTC:20220624T190000
DTEND;TZID=UTC:20220624T190000
DTSTAMP:20260423T182556
CREATED:20220118T155810Z
LAST-MODIFIED:20220620T183614Z
UID:2974-1656097200-1656097200@alparonpark.com
SUMMARY:Troy Community Theatre Play
DESCRIPTION:
URL:https://alparonpark.com/event/troy-community-theatre-play-2/
LOCATION:Pavillion
END:VEVENT
BEGIN:VEVENT
DTSTART;TZID=UTC:20220623T190000
DTEND;TZID=UTC:20220623T190000
DTSTAMP:20260423T182556
CREATED:20220620T183403Z
LAST-MODIFIED:20220620T183522Z
UID:3177-1656010800-1656010800@alparonpark.com
SUMMARY:Troy Community Theatre Play
DESCRIPTION:
URL:https://alparonpark.com/event/troy-community-theatre/
LOCATION:Pavillion
END:VEVENT
BEGIN:VEVENT
DTSTART;TZID=UTC:20220622T170000
DTEND;TZID=UTC:20220622T210000
DTSTAMP:20260423T182556
CREATED:20220215T185920Z
LAST-MODIFIED:20220215T185920Z
UID:3078-1655917200-1655931600@alparonpark.com
SUMMARY:Rod and Gun Open Shoot
DESCRIPTION:
URL:https://alparonpark.com/event/rod-and-gun-open-shoot-15/
END:VEVENT
BEGIN:VEVENT
DTSTART;TZID=UTC:20220621T080000
DTEND;TZID=UTC:20220621T170000
DTSTAMP:20260423T182556
CREATED:20220602T175556Z
LAST-MODIFIED:20220602T175556Z
UID:3172-1655798400-1655830800@alparonpark.com
SUMMARY:Howard Energy Meeting
DESCRIPTION:
URL:https://alparonpark.com/event/howard-energy-meeting/
LOCATION:Exhibit Hall 2
END:VEVENT
BEGIN:VEVENT
DTSTART;TZID=UTC:20220619T080000
DTEND;TZID=UTC:20220626T170000
DTSTAMP:20260423T182556
CREATED:20220118T155258Z
LAST-MODIFIED:20220207T203108Z
UID:2969-1655625600-1656262800@alparonpark.com
SUMMARY:Troy Theatre
DESCRIPTION:
URL:https://alparonpark.com/event/troy-theater-practice/
LOCATION:Pavillion
END:VEVENT
BEGIN:VEVENT
DTSTART;TZID=UTC:20220618T080000
DTEND;TZID=UTC:20220618T170000
DTSTAMP:20260423T182556
CREATED:20220207T203724Z
LAST-MODIFIED:20220207T203724Z
UID:3017-1655539200-1655571600@alparonpark.com
SUMMARY:TAHA Gaming Show
DESCRIPTION:
URL:https://alparonpark.com/event/taha-gaming-show-2/
LOCATION:Horse Arena
END:VEVENT
BEGIN:VEVENT
DTSTART;VALUE=DATE:20220618
DTEND;VALUE=DATE:20220619
DTSTAMP:20260423T182556
CREATED:20220620T184737Z
LAST-MODIFIED:20220620T184737Z
UID:3182-1655510400-1655596799@alparonpark.com
SUMMARY:Graduation Party - private event
DESCRIPTION:
URL:https://alparonpark.com/event/graduation-party-private-event/
LOCATION:Exhibit Hall 2
END:VEVENT
BEGIN:VEVENT
DTSTART;TZID=UTC:20220615T170000
DTEND;TZID=UTC:20220615T210000
DTSTAMP:20260423T182556
CREATED:20220215T185856Z
LAST-MODIFIED:20220215T185856Z
UID:3076-1655312400-1655326800@alparonpark.com
SUMMARY:Rod and Gun Open Shoot
DESCRIPTION:
URL:https://alparonpark.com/event/rod-and-gun-open-shoot-14/
END:VEVENT
BEGIN:VEVENT
DTSTART;TZID=UTC:20220612T080000
DTEND;TZID=UTC:20220612T170000
DTSTAMP:20260423T182556
CREATED:20220207T203636Z
LAST-MODIFIED:20220207T203636Z
UID:3015-1655020800-1655053200@alparonpark.com
SUMMARY:TAHA Performance Show
DESCRIPTION:
URL:https://alparonpark.com/event/taha-performance-show-2/
LOCATION:Horse Arena
END:VEVENT
BEGIN:VEVENT
DTSTART;TZID=UTC:20220611T100000
DTEND;TZID=UTC:20220611T120000
DTSTAMP:20260423T182556
CREATED:20220602T175515Z
LAST-MODIFIED:20220602T180606Z
UID:3170-1654941600-1654948800@alparonpark.com
SUMMARY:Patriotic Meeting
DESCRIPTION:
URL:https://alparonpark.com/event/patriotic-meeting/
LOCATION:Pavillion
END:VEVENT
BEGIN:VEVENT
DTSTART;TZID=UTC:20220609T190000
DTEND;TZID=UTC:20220609T190000
DTSTAMP:20260423T182556
CREATED:20220420T190908Z
LAST-MODIFIED:20220420T195229Z
UID:3149-1654801200-1654801200@alparonpark.com
SUMMARY:Boy Scouts Meeting - Joe Taylor
DESCRIPTION:
URL:https://alparonpark.com/event/boy-scouts-meeting-joe-taylor/
LOCATION:Pavillion
END:VEVENT
BEGIN:VEVENT
DTSTART;TZID=UTC:20220608T170000
DTEND;TZID=UTC:20220608T210000
DTSTAMP:20260423T182556
CREATED:20220215T185810Z
LAST-MODIFIED:20220215T185810Z
UID:3074-1654707600-1654722000@alparonpark.com
SUMMARY:Rod and Gun Open Shoot
DESCRIPTION:
URL:https://alparonpark.com/event/rod-and-gun-open-shoot-13/
END:VEVENT
BEGIN:VEVENT
DTSTART;TZID=UTC:20220604T080000
DTEND;TZID=UTC:20220604T150000
DTSTAMP:20260423T182556
CREATED:20220118T154826Z
LAST-MODIFIED:20220118T154826Z
UID:2967-1654329600-1654354800@alparonpark.com
SUMMARY:Jr Shooters
DESCRIPTION:
URL:https://alparonpark.com/event/jr-shooters/
LOCATION:Gun Range
END:VEVENT
BEGIN:VEVENT
DTSTART;TZID=UTC:20220601T170000
DTEND;TZID=UTC:20220601T210000
DTSTAMP:20260423T182557
CREATED:20220215T185746Z
LAST-MODIFIED:20220215T185746Z
UID:3072-1654102800-1654117200@alparonpark.com
SUMMARY:Rod and Gun Open Shoot
DESCRIPTION:
URL:https://alparonpark.com/event/rod-and-gun-open-shoot-12/
END:VEVENT
BEGIN:VEVENT
DTSTART;TZID=UTC:20220528T080000
DTEND;TZID=UTC:20220528T170000
DTSTAMP:20260423T182557
CREATED:20220207T203553Z
LAST-MODIFIED:20220207T203553Z
UID:3013-1653724800-1653757200@alparonpark.com
SUMMARY:TAHA Gaming Show
DESCRIPTION:
URL:https://alparonpark.com/event/taha-gaming-show/
LOCATION:Horse Arena
END:VEVENT
BEGIN:VEVENT
DTSTART;TZID=UTC:20220525T170000
DTEND;TZID=UTC:20220525T210000
DTSTAMP:20260423T182557
CREATED:20220215T185722Z
LAST-MODIFIED:20220215T185722Z
UID:3070-1653498000-1653512400@alparonpark.com
SUMMARY:Rod and Gun Open Shoot
DESCRIPTION:
URL:https://alparonpark.com/event/rod-and-gun-open-shoot-11/
END:VEVENT
BEGIN:VEVENT
DTSTART;TZID=UTC:20220522T080000
DTEND;TZID=UTC:20220522T170000
DTSTAMP:20260423T182557
CREATED:20220207T203444Z
LAST-MODIFIED:20220207T203444Z
UID:3011-1653206400-1653238800@alparonpark.com
SUMMARY:TAHA Performance Show
DESCRIPTION:
URL:https://alparonpark.com/event/taha-performance-show/
LOCATION:Horse Arena
END:VEVENT
BEGIN:VEVENT
DTSTART;TZID=UTC:20220518T170000
DTEND;TZID=UTC:20220518T210000
DTSTAMP:20260423T182557
CREATED:20220215T185656Z
LAST-MODIFIED:20220215T185656Z
UID:3068-1652893200-1652907600@alparonpark.com
SUMMARY:Rod and Gun Open Shoot
DESCRIPTION:
URL:https://alparonpark.com/event/rod-and-gun-open-shoot-10/
END:VEVENT
BEGIN:VEVENT
DTSTART;TZID=Asia/Karachi:20220518T091500
DTEND;TZID=Asia/Karachi:20220518T170000
DTSTAMP:20260423T182557
CREATED:20220224T200425Z
LAST-MODIFIED:20220224T200425Z
UID:3116-1652865300-1652893200@alparonpark.com
SUMMARY:CareerLink Job Fair
DESCRIPTION:
URL:https://alparonpark.com/event/careerlink-job-fair/
LOCATION:Exhibit Hall 2
END:VEVENT
BEGIN:VEVENT
DTSTART;TZID=America/New_York:20220516T080000
DTEND;TZID=America/New_York:20220517T170000
DTSTAMP:20260423T182557
CREATED:20220118T154624Z
LAST-MODIFIED:20220215T210029Z
UID:2964-1652688000-1652806800@alparonpark.com
SUMMARY:Farm City Days
DESCRIPTION:
URL:https://alparonpark.com/event/farm-city-days/
LOCATION:Exh Halls & Lg. Arena
END:VEVENT
BEGIN:VEVENT
DTSTART;TZID=UTC:20220514T080000
DTEND;TZID=UTC:20220514T150000
DTSTAMP:20260423T182557
CREATED:20220118T154306Z
LAST-MODIFIED:20220118T154306Z
UID:2962-1652515200-1652540400@alparonpark.com
SUMMARY:Jr Shooters Shoot
DESCRIPTION:
URL:https://alparonpark.com/event/jr-shooters-shoot-2/
LOCATION:Gun Range
END:VEVENT
END:VCALENDAR