BEGIN:VCALENDAR
VERSION:2.0
PRODID:-//Alparon Park - ECPv6.3.2//NONSGML v1.0//EN
CALSCALE:GREGORIAN
METHOD:PUBLISH
X-ORIGINAL-URL:https://alparonpark.com
X-WR-CALDESC:Events for Alparon Park
REFRESH-INTERVAL;VALUE=DURATION:PT1H
X-Robots-Tag:noindex
X-PUBLISHED-TTL:PT1H
BEGIN:VTIMEZONE
TZID:UTC
BEGIN:STANDARD
TZOFFSETFROM:+0000
TZOFFSETTO:+0000
TZNAME:UTC
DTSTART:20220101T000000
END:STANDARD
END:VTIMEZONE
BEGIN:VEVENT
DTSTART;TZID=UTC:20220402T000000
DTEND;TZID=UTC:20220402T235900
DTSTAMP:20260424T000853
CREATED:20220117T215851Z
LAST-MODIFIED:20220215T205423Z
UID:2948-1648857600-1648943940@alparonpark.com
SUMMARY:Jr. Shooters Event
DESCRIPTION:
URL:https://alparonpark.com/event/jr-shooters-event/
LOCATION:Gun Range
END:VEVENT
BEGIN:VEVENT
DTSTART;TZID=UTC:20220406T170000
DTEND;TZID=UTC:20220406T210000
DTSTAMP:20260424T000853
CREATED:20220210T200407Z
LAST-MODIFIED:20220210T200407Z
UID:3044-1649264400-1649278800@alparonpark.com
SUMMARY:Rod and Gun Open Shoot
DESCRIPTION:
URL:https://alparonpark.com/event/rod-and-gun-open-shoot-4/
LOCATION:PA
END:VEVENT
BEGIN:VEVENT
DTSTART;TZID=UTC:20220409T100000
DTEND;TZID=UTC:20220409T100000
DTSTAMP:20260424T000853
CREATED:20220224T201119Z
LAST-MODIFIED:20220224T211334Z
UID:3118-1649498400-1649498400@alparonpark.com
SUMMARY:Troy Fair Queen Easter Egg Hunt
DESCRIPTION:
URL:https://alparonpark.com/event/troy-fair-queen-easter-egg-hunt/
LOCATION:Alparon Park
END:VEVENT
BEGIN:VEVENT
DTSTART;TZID=UTC:20220412T153000
DTEND;TZID=UTC:20220412T153000
DTSTAMP:20260424T000853
CREATED:20220317T175705Z
LAST-MODIFIED:20220317T175705Z
UID:3132-1649777400-1649777400@alparonpark.com
SUMMARY:Little League Photos
DESCRIPTION:
URL:https://alparonpark.com/event/little-league-photos/
LOCATION:Under Grandstands
END:VEVENT
BEGIN:VEVENT
DTSTART;TZID=UTC:20220413T153000
DTEND;TZID=UTC:20220413T153000
DTSTAMP:20260424T000853
CREATED:20220317T175939Z
LAST-MODIFIED:20220317T180157Z
UID:3135-1649863800-1649863800@alparonpark.com
SUMMARY:Little League Photos
DESCRIPTION:
URL:https://alparonpark.com/event/little-league-photos-2/
LOCATION:Under Grandstands
END:VEVENT
BEGIN:VEVENT
DTSTART;TZID=UTC:20220413T170000
DTEND;TZID=UTC:20220413T210000
DTSTAMP:20260424T000853
CREATED:20220210T200557Z
LAST-MODIFIED:20220210T200557Z
UID:3041-1649869200-1649883600@alparonpark.com
SUMMARY:Rod and Gun Open Shoot
DESCRIPTION:
URL:https://alparonpark.com/event/rod-and-gun-open-shoot-5/
LOCATION:PA
END:VEVENT
BEGIN:VEVENT
DTSTART;TZID=UTC:20220416T090000
DTEND;TZID=UTC:20220416T170000
DTSTAMP:20260424T000853
CREATED:20220314T212528Z
LAST-MODIFIED:20220314T212528Z
UID:3129-1650099600-1650128400@alparonpark.com
SUMMARY:Spring Equipment Auction
DESCRIPTION:
URL:https://alparonpark.com/event/spring-equipment-auction/
LOCATION:Alparon Park
END:VEVENT
BEGIN:VEVENT
DTSTART;TZID=UTC:20220420T170000
DTEND;TZID=UTC:20220420T210000
DTSTAMP:20260424T000853
CREATED:20220210T202013Z
LAST-MODIFIED:20220210T202013Z
UID:3060-1650474000-1650488400@alparonpark.com
SUMMARY:Rod and Gun Open Shoot
DESCRIPTION:
URL:https://alparonpark.com/event/rod-and-gun-open-shoot/
LOCATION:PA
END:VEVENT
BEGIN:VEVENT
DTSTART;TZID=UTC:20220423T070000
DTEND;TZID=UTC:20220424T170000
DTSTAMP:20260424T000853
CREATED:20220118T152456Z
LAST-MODIFIED:20220118T152456Z
UID:2951-1650697200-1650819600@alparonpark.com
SUMMARY:Endless Mountains Maple Festival
DESCRIPTION:Rides\, Games\, Entertainment\, Open Goat Show
URL:https://alparonpark.com/event/endless-mountains-maple-festival/
LOCATION:PA
END:VEVENT
BEGIN:VEVENT
DTSTART;TZID=UTC:20220427T170000
DTEND;TZID=UTC:20220427T210000
DTSTAMP:20260424T000853
CREATED:20220210T202111Z
LAST-MODIFIED:20220210T202111Z
UID:3062-1651078800-1651093200@alparonpark.com
SUMMARY:Rod and Gun Open Shoot
DESCRIPTION:
URL:https://alparonpark.com/event/rod-and-gun-open-shoot-7/
LOCATION:PA
END:VEVENT
BEGIN:VEVENT
DTSTART;TZID=UTC:20220430T160000
DTEND;TZID=UTC:20220430T230000
DTSTAMP:20260424T000853
CREATED:20220228T174704Z
LAST-MODIFIED:20220228T174734Z
UID:3121-1651334400-1651359600@alparonpark.com
SUMMARY:Wedding Reception
DESCRIPTION:
URL:https://alparonpark.com/event/wedding/
LOCATION:Exhibit Hall 2
END:VEVENT
BEGIN:VEVENT
DTSTART;TZID=UTC:20220430T160000
DTEND;TZID=UTC:20220430T230000
DTSTAMP:20260424T000853
CREATED:20220228T174807Z
LAST-MODIFIED:20220228T174807Z
UID:3124-1651334400-1651359600@alparonpark.com
SUMMARY:Wedding
DESCRIPTION:
URL:https://alparonpark.com/event/wedding-2/
LOCATION:Horse Arena
END:VEVENT
END:VCALENDAR