BEGIN:VCALENDAR
VERSION:2.0
PRODID:-//Alparon Park - ECPv6.3.2//NONSGML v1.0//EN
CALSCALE:GREGORIAN
METHOD:PUBLISH
X-ORIGINAL-URL:https://alparonpark.com
X-WR-CALDESC:Events for Alparon Park
REFRESH-INTERVAL;VALUE=DURATION:PT1H
X-Robots-Tag:noindex
X-PUBLISHED-TTL:PT1H
BEGIN:VTIMEZONE
TZID:UTC
BEGIN:STANDARD
TZOFFSETFROM:+0000
TZOFFSETTO:+0000
TZNAME:UTC
DTSTART:20220101T000000
END:STANDARD
TZID:America/New_York
BEGIN:DAYLIGHT
TZOFFSETFROM:-0500
TZOFFSETTO:-0400
TZNAME:EDT
DTSTART:20220313T070000
END:DAYLIGHT
BEGIN:STANDARD
TZOFFSETFROM:-0400
TZOFFSETTO:-0500
TZNAME:EST
DTSTART:20221106T060000
END:STANDARD
TZID:Asia/Karachi
BEGIN:STANDARD
TZOFFSETFROM:+0500
TZOFFSETTO:+0500
TZNAME:PKT
DTSTART:20220101T000000
END:STANDARD
END:VTIMEZONE
BEGIN:VEVENT
DTSTART;TZID=UTC:20220501T080000
DTEND;TZID=UTC:20220501T140000
DTSTAMP:20260423T210327
CREATED:20220210T191123Z
LAST-MODIFIED:20220215T205604Z
UID:3031-1651392000-1651413600@alparonpark.com
SUMMARY:Rod and Gun Shoot/N. Tier Trap League
DESCRIPTION:
URL:https://alparonpark.com/event/rod-and-gun-shoot-n-tier-trap-league/
LOCATION:PA
END:VEVENT
BEGIN:VEVENT
DTSTART;TZID=UTC:20220504T170000
DTEND;TZID=UTC:20220504T210000
DTSTAMP:20260423T210327
CREATED:20220215T185533Z
LAST-MODIFIED:20220215T185533Z
UID:3064-1651683600-1651698000@alparonpark.com
SUMMARY:Rod and Gun Open Shoot
DESCRIPTION:
URL:https://alparonpark.com/event/rod-and-gun-open-shoot-8/
LOCATION:PA
END:VEVENT
BEGIN:VEVENT
DTSTART;VALUE=DATE:20220507
DTEND;VALUE=DATE:20220508
DTSTAMP:20260423T210327
CREATED:20220118T153549Z
LAST-MODIFIED:20220118T154010Z
UID:2955-1651881600-1651967999@alparonpark.com
SUMMARY:4-H Cupcake Wars
DESCRIPTION:
URL:https://alparonpark.com/event/4-h-cupcake-wars/
LOCATION:4-H Bldg
END:VEVENT
BEGIN:VEVENT
DTSTART;VALUE=DATE:20220507
DTEND;VALUE=DATE:20220508
DTSTAMP:20260423T210327
CREATED:20220118T153701Z
LAST-MODIFIED:20220118T154051Z
UID:2958-1651881600-1651967999@alparonpark.com
SUMMARY:Friends of the NRA Banquet
DESCRIPTION:
URL:https://alparonpark.com/event/friends-of-the-nra-banquet/
LOCATION:Exhibit Hall 2
END:VEVENT
BEGIN:VEVENT
DTSTART;TZID=UTC:20220507T080000
DTEND;TZID=UTC:20220507T150000
DTSTAMP:20260423T210327
CREATED:20220118T153802Z
LAST-MODIFIED:20220118T153802Z
UID:2960-1651910400-1651935600@alparonpark.com
SUMMARY:Jr Shooters Shoot
DESCRIPTION:
URL:https://alparonpark.com/event/jr-shooters-shoot/
LOCATION:Gun Range
END:VEVENT
BEGIN:VEVENT
DTSTART;TZID=UTC:20220511T170000
DTEND;TZID=UTC:20220511T210000
DTSTAMP:20260423T210327
CREATED:20220215T185631Z
LAST-MODIFIED:20220215T185631Z
UID:3066-1652288400-1652302800@alparonpark.com
SUMMARY:Rod and Gun Open Shoot
DESCRIPTION:
URL:https://alparonpark.com/event/rod-and-gun-open-shoot-9/
LOCATION:PA
END:VEVENT
BEGIN:VEVENT
DTSTART;TZID=UTC:20220514T080000
DTEND;TZID=UTC:20220514T150000
DTSTAMP:20260423T210327
CREATED:20220118T154306Z
LAST-MODIFIED:20220118T154306Z
UID:2962-1652515200-1652540400@alparonpark.com
SUMMARY:Jr Shooters Shoot
DESCRIPTION:
URL:https://alparonpark.com/event/jr-shooters-shoot-2/
LOCATION:Gun Range
END:VEVENT
BEGIN:VEVENT
DTSTART;TZID=America/New_York:20220516T080000
DTEND;TZID=America/New_York:20220517T170000
DTSTAMP:20260423T210327
CREATED:20220118T154624Z
LAST-MODIFIED:20220215T210029Z
UID:2964-1652688000-1652806800@alparonpark.com
SUMMARY:Farm City Days
DESCRIPTION:
URL:https://alparonpark.com/event/farm-city-days/
LOCATION:Exh Halls & Lg. Arena
END:VEVENT
BEGIN:VEVENT
DTSTART;TZID=Asia/Karachi:20220518T091500
DTEND;TZID=Asia/Karachi:20220518T170000
DTSTAMP:20260423T210327
CREATED:20220224T200425Z
LAST-MODIFIED:20220224T200425Z
UID:3116-1652865300-1652893200@alparonpark.com
SUMMARY:CareerLink Job Fair
DESCRIPTION:
URL:https://alparonpark.com/event/careerlink-job-fair/
LOCATION:Exhibit Hall 2
END:VEVENT
BEGIN:VEVENT
DTSTART;TZID=UTC:20220518T170000
DTEND;TZID=UTC:20220518T210000
DTSTAMP:20260423T210327
CREATED:20220215T185656Z
LAST-MODIFIED:20220215T185656Z
UID:3068-1652893200-1652907600@alparonpark.com
SUMMARY:Rod and Gun Open Shoot
DESCRIPTION:
URL:https://alparonpark.com/event/rod-and-gun-open-shoot-10/
LOCATION:PA
END:VEVENT
BEGIN:VEVENT
DTSTART;TZID=UTC:20220522T080000
DTEND;TZID=UTC:20220522T170000
DTSTAMP:20260423T210327
CREATED:20220207T203444Z
LAST-MODIFIED:20220207T203444Z
UID:3011-1653206400-1653238800@alparonpark.com
SUMMARY:TAHA Performance Show
DESCRIPTION:
URL:https://alparonpark.com/event/taha-performance-show/
LOCATION:Horse Arena
END:VEVENT
BEGIN:VEVENT
DTSTART;TZID=UTC:20220525T170000
DTEND;TZID=UTC:20220525T210000
DTSTAMP:20260423T210327
CREATED:20220215T185722Z
LAST-MODIFIED:20220215T185722Z
UID:3070-1653498000-1653512400@alparonpark.com
SUMMARY:Rod and Gun Open Shoot
DESCRIPTION:
URL:https://alparonpark.com/event/rod-and-gun-open-shoot-11/
LOCATION:PA
END:VEVENT
BEGIN:VEVENT
DTSTART;TZID=UTC:20220528T080000
DTEND;TZID=UTC:20220528T170000
DTSTAMP:20260423T210327
CREATED:20220207T203553Z
LAST-MODIFIED:20220207T203553Z
UID:3013-1653724800-1653757200@alparonpark.com
SUMMARY:TAHA Gaming Show
DESCRIPTION:
URL:https://alparonpark.com/event/taha-gaming-show/
LOCATION:Horse Arena
END:VEVENT
END:VCALENDAR