BEGIN:VCALENDAR
VERSION:2.0
PRODID:-//Alparon Park - ECPv6.3.2//NONSGML v1.0//EN
CALSCALE:GREGORIAN
METHOD:PUBLISH
X-WR-CALNAME:Alparon Park
X-ORIGINAL-URL:https://alparonpark.com
X-WR-CALDESC:Events for Alparon Park
REFRESH-INTERVAL;VALUE=DURATION:PT1H
X-Robots-Tag:noindex
X-PUBLISHED-TTL:PT1H
BEGIN:VTIMEZONE
TZID:UTC
BEGIN:STANDARD
TZOFFSETFROM:+0000
TZOFFSETTO:+0000
TZNAME:UTC
DTSTART:20230101T000000
END:STANDARD
END:VTIMEZONE
BEGIN:VEVENT
DTSTART;TZID=UTC:20230218T080000
DTEND;TZID=UTC:20230218T170000
DTSTAMP:20260423T055312
CREATED:20230117T182405Z
LAST-MODIFIED:20230117T182405Z
UID:3372-1676707200-1676739600@alparonpark.com
SUMMARY:Private Party/Shower
DESCRIPTION:
URL:https://alparonpark.com/event/private-party-shower/
LOCATION:Exhibit Hall 2
END:VEVENT
BEGIN:VEVENT
DTSTART;TZID=UTC:20230218T090000
DTEND;TZID=UTC:20230218T170000
DTSTAMP:20260423T055312
CREATED:20230124T181329Z
LAST-MODIFIED:20230217T215848Z
UID:3407-1676710800-1676739600@alparonpark.com
SUMMARY:4-H Rabbit Show
DESCRIPTION:
URL:https://alparonpark.com/event/4-h-rabbit-show/
LOCATION:4-H Bldg
END:VEVENT
BEGIN:VEVENT
DTSTART;VALUE=DATE:20230221
DTEND;VALUE=DATE:20230222
DTSTAMP:20260423T055312
CREATED:20230117T193340Z
LAST-MODIFIED:20230117T193949Z
UID:3404-1676937600-1677023999@alparonpark.com
SUMMARY:Funeral Reception
DESCRIPTION:
URL:https://alparonpark.com/event/funeral-reception/
LOCATION:4-H Bldg
END:VEVENT
BEGIN:VEVENT
DTSTART;TZID=UTC:20230224T080000
DTEND;TZID=UTC:20230224T170000
DTSTAMP:20260423T055312
CREATED:20230103T183723Z
LAST-MODIFIED:20230103T183723Z
UID:3359-1677225600-1677258000@alparonpark.com
SUMMARY:Wedding Set Up
DESCRIPTION:
URL:https://alparonpark.com/event/wedding-set-up-2/
LOCATION:Exhibit Hall 2
END:VEVENT
BEGIN:VEVENT
DTSTART;TZID=UTC:20230225T080000
DTEND;TZID=UTC:20230225T220000
DTSTAMP:20260423T055312
CREATED:20230103T183808Z
LAST-MODIFIED:20230103T183808Z
UID:3361-1677312000-1677362400@alparonpark.com
SUMMARY:Private Wedding
DESCRIPTION:
URL:https://alparonpark.com/event/private-wedding/
LOCATION:Exhibit Hall 2
END:VEVENT
BEGIN:VEVENT
DTSTART;TZID=UTC:20230226T080000
DTEND;TZID=UTC:20230226T170000
DTSTAMP:20260423T055312
CREATED:20230103T183852Z
LAST-MODIFIED:20230103T183852Z
UID:3363-1677398400-1677430800@alparonpark.com
SUMMARY:Wedding Clean Up
DESCRIPTION:
URL:https://alparonpark.com/event/wedding-clean-up-2/
LOCATION:Exhibit Hall 2
END:VEVENT
END:VCALENDAR