BEGIN:VCALENDAR
VERSION:2.0
PRODID:-//Alparon Park - ECPv6.3.2//NONSGML v1.0//EN
CALSCALE:GREGORIAN
METHOD:PUBLISH
X-ORIGINAL-URL:https://alparonpark.com
X-WR-CALDESC:Events for Alparon Park
REFRESH-INTERVAL;VALUE=DURATION:PT1H
X-Robots-Tag:noindex
X-PUBLISHED-TTL:PT1H
BEGIN:VTIMEZONE
TZID:UTC
BEGIN:STANDARD
TZOFFSETFROM:+0000
TZOFFSETTO:+0000
TZNAME:UTC
DTSTART:20230101T000000
END:STANDARD
END:VTIMEZONE
BEGIN:VEVENT
DTSTART;TZID=UTC:20230502T080000
DTEND;TZID=UTC:20230502T170000
DTSTAMP:20260423T005145
CREATED:20230413T175811Z
LAST-MODIFIED:20230413T175811Z
UID:3501-1683014400-1683046800@alparonpark.com
SUMMARY:Howard Energy Meeting
DESCRIPTION:
URL:https://alparonpark.com/event/howard-energy-meeting-2/
LOCATION:Exhibit Hall 2
END:VEVENT
BEGIN:VEVENT
DTSTART;TZID=UTC:20230506T080000
DTEND;TZID=UTC:20230506T170000
DTSTAMP:20260423T005145
CREATED:20221129T183151Z
LAST-MODIFIED:20230502T180932Z
UID:3351-1683360000-1683392400@alparonpark.com
SUMMARY:E Recycling Day
DESCRIPTION:
URL:https://alparonpark.com/event/e-recycling-day/
LOCATION:Cattle Barn
END:VEVENT
BEGIN:VEVENT
DTSTART;TZID=UTC:20230506T080000
DTEND;TZID=UTC:20230506T170000
DTSTAMP:20260423T005145
CREATED:20230406T152055Z
LAST-MODIFIED:20230406T152055Z
UID:3485-1683360000-1683392400@alparonpark.com
SUMMARY:TAHA Horse Show
DESCRIPTION:
URL:https://alparonpark.com/event/taha-horse-show/
LOCATION:Horse Arena
END:VEVENT
BEGIN:VEVENT
DTSTART;TZID=UTC:20230506T080000
DTEND;TZID=UTC:20230506T230000
DTSTAMP:20260423T005145
CREATED:20220623T150923Z
LAST-MODIFIED:20220623T150923Z
UID:3186-1683360000-1683414000@alparonpark.com
SUMMARY:Friends of the NRA Banquet
DESCRIPTION:
URL:https://alparonpark.com/event/friends-of-the-nra-banquet-2/
LOCATION:Exhibit Halls 1&2
END:VEVENT
BEGIN:VEVENT
DTSTART;TZID=UTC:20230506T090000
DTEND;TZID=UTC:20230506T140000
DTSTAMP:20260423T005145
CREATED:20230117T184746Z
LAST-MODIFIED:20230117T184746Z
UID:3387-1683363600-1683381600@alparonpark.com
SUMMARY:Junior Shooters
DESCRIPTION:
URL:https://alparonpark.com/event/junior-shooters-3/
LOCATION:Gun Range
END:VEVENT
BEGIN:VEVENT
DTSTART;TZID=UTC:20230507T080000
DTEND;TZID=UTC:20230507T170000
DTSTAMP:20260423T005145
CREATED:20230330T160943Z
LAST-MODIFIED:20230330T160943Z
UID:3472-1683446400-1683478800@alparonpark.com
SUMMARY:Northeast Travel Baseball
DESCRIPTION:
URL:https://alparonpark.com/event/northeast-travel-baseball-5/
LOCATION:Boys Major Field
END:VEVENT
BEGIN:VEVENT
DTSTART;TZID=UTC:20230507T080000
DTEND;TZID=UTC:20230507T170000
DTSTAMP:20260423T005145
CREATED:20230406T152126Z
LAST-MODIFIED:20230406T152126Z
UID:3487-1683446400-1683478800@alparonpark.com
SUMMARY:TAHA Horse Show
DESCRIPTION:
URL:https://alparonpark.com/event/taha-horse-show-2/
LOCATION:Horse Arena
END:VEVENT
BEGIN:VEVENT
DTSTART;TZID=UTC:20230507T150000
DTEND;TZID=UTC:20230507T170000
DTSTAMP:20260423T005145
CREATED:20230406T151900Z
LAST-MODIFIED:20230406T151900Z
UID:3483-1683471600-1683478800@alparonpark.com
SUMMARY:4-H Shoot
DESCRIPTION:
URL:https://alparonpark.com/event/4-h-shoot/
LOCATION:Gun Range
END:VEVENT
BEGIN:VEVENT
DTSTART;VALUE=DATE:20230513
DTEND;VALUE=DATE:20230514
DTSTAMP:20260423T005145
CREATED:20230117T183152Z
LAST-MODIFIED:20230117T183152Z
UID:3379-1683936000-1684022399@alparonpark.com
SUMMARY:Cupcake Wars
DESCRIPTION:
URL:https://alparonpark.com/event/cupcake-wars/
LOCATION:4-H Bldg
END:VEVENT
BEGIN:VEVENT
DTSTART;TZID=UTC:20230514T080000
DTEND;TZID=UTC:20230514T140000
DTSTAMP:20260423T005145
CREATED:20230314T171648Z
LAST-MODIFIED:20230314T171648Z
UID:3438-1684051200-1684072800@alparonpark.com
SUMMARY:Northern Tier Trap League
DESCRIPTION:
URL:https://alparonpark.com/event/northern-tier-trap-league/
LOCATION:Gun Range
END:VEVENT
BEGIN:VEVENT
DTSTART;TZID=UTC:20230514T080000
DTEND;TZID=UTC:20230514T170000
DTSTAMP:20260423T005145
CREATED:20230214T204636Z
LAST-MODIFIED:20230214T204636Z
UID:3416-1684051200-1684083600@alparonpark.com
SUMMARY:Museum Set Up for Farm Days
DESCRIPTION:
URL:https://alparonpark.com/event/museum-set-up-for-farm-days/
LOCATION:Alparon Park
END:VEVENT
BEGIN:VEVENT
DTSTART;TZID=UTC:20230514T080000
DTEND;TZID=UTC:20230514T170000
DTSTAMP:20260423T005145
CREATED:20230330T161006Z
LAST-MODIFIED:20230330T161006Z
UID:3474-1684051200-1684083600@alparonpark.com
SUMMARY:Northeast Travel Baseball
DESCRIPTION:
URL:https://alparonpark.com/event/northeast-travel-baseball-6/
LOCATION:Boys Major Field
END:VEVENT
BEGIN:VEVENT
DTSTART;TZID=UTC:20230515T080000
DTEND;TZID=UTC:20230515T170000
DTSTAMP:20260423T005145
CREATED:20221018T151903Z
LAST-MODIFIED:20221018T162411Z
UID:3325-1684137600-1684170000@alparonpark.com
SUMMARY:Farm Days
DESCRIPTION:
URL:https://alparonpark.com/event/farm-days/
LOCATION:Exhibit Halls 1&2
END:VEVENT
BEGIN:VEVENT
DTSTART;TZID=UTC:20230516T080000
DTEND;TZID=UTC:20230516T170000
DTSTAMP:20260423T005145
CREATED:20221018T151939Z
LAST-MODIFIED:20221018T162318Z
UID:3327-1684224000-1684256400@alparonpark.com
SUMMARY:Farm Days
DESCRIPTION:
URL:https://alparonpark.com/event/farm-days-2/
LOCATION:Exhibit Halls 1&2
END:VEVENT
BEGIN:VEVENT
DTSTART;TZID=UTC:20230516T080000
DTEND;TZID=UTC:20230516T170000
DTSTAMP:20260423T005145
CREATED:20230328T180030Z
LAST-MODIFIED:20230328T180030Z
UID:3451-1684224000-1684256400@alparonpark.com
SUMMARY:Lewis & Clark Circus
DESCRIPTION:
URL:https://alparonpark.com/event/lewis-clark-circus/
LOCATION:Parking Lot 1B
END:VEVENT
BEGIN:VEVENT
DTSTART;TZID=UTC:20230517T080000
DTEND;TZID=UTC:20230517T170000
DTSTAMP:20260423T005145
CREATED:20230328T180120Z
LAST-MODIFIED:20230328T180120Z
UID:3454-1684310400-1684342800@alparonpark.com
SUMMARY:Lewis & Clark Circus
DESCRIPTION:
URL:https://alparonpark.com/event/lewis-clark-circus-2/
LOCATION:Parking Lot 1B
END:VEVENT
BEGIN:VEVENT
DTSTART;TZID=UTC:20230517T100000
DTEND;TZID=UTC:20230517T140000
DTSTAMP:20260423T005145
CREATED:20230206T201329Z
LAST-MODIFIED:20230206T201329Z
UID:3412-1684317600-1684332000@alparonpark.com
SUMMARY:Job Fair
DESCRIPTION:
URL:https://alparonpark.com/event/job-fair/
LOCATION:Barn Pavilions
END:VEVENT
BEGIN:VEVENT
DTSTART;TZID=UTC:20230521T080000
DTEND;TZID=UTC:20230521T170000
DTSTAMP:20260423T005145
CREATED:20230330T161041Z
LAST-MODIFIED:20230330T161041Z
UID:3476-1684656000-1684688400@alparonpark.com
SUMMARY:Northeast Travel Baseball
DESCRIPTION:
URL:https://alparonpark.com/event/northeast-travel-baseball-7/
LOCATION:Boys Major Field
END:VEVENT
BEGIN:VEVENT
DTSTART;TZID=UTC:20230528T080000
DTEND;TZID=UTC:20230528T170000
DTSTAMP:20260423T005145
CREATED:20230330T161114Z
LAST-MODIFIED:20230330T161114Z
UID:3478-1685260800-1685293200@alparonpark.com
SUMMARY:Northeast Travel Baseball
DESCRIPTION:
URL:https://alparonpark.com/event/northeast-travel-baseball-8/
LOCATION:Boys Major Field
END:VEVENT
END:VCALENDAR